BEGIN:VCALENDAR
PRODID:NingEventWidget-v1
VERSION:2.0
METHOD:PUBLISH
BEGIN:VTIMEZONE
TZID:America/New_York
X-LIC-LOCATION:America/New_York
BEGIN:DAYLIGHT
TZOFFSETFROM:-0500
TZOFFSETTO:-0400
TZNAME:EDT
DTSTART:19700308T020000
RRULE:FREQ=YEARLY;BYMONTH=3;BYDAY=2SU
END:DAYLIGHT
BEGIN:STANDARD
TZOFFSETFROM:-0400
TZOFFSETTO:-0500
TZNAME:EST
DTSTART:19701101T020000
RRULE:FREQ=YEARLY;BYMONTH=11;BYDAY=1SU
END:STANDARD
END:VTIMEZONE
BEGIN:VEVENT
UID:2938326:Event:745328
DTSTAMP:20260420T115657Z
SUMMARY:Valentine's Day Single Mingle & FREE Food in Morristown
DESCRIPTION:Update: Women get 50% off with code vday50\r\nUpdate: SOL
 D OUT for Men\r\nUpdate: Expecting more than 70 people!\r\n\r\nLet's 
 celebrate the first Valentine's Day of the roaring 20's with a fun and
  flirty Single Mingle! Single mingles bring together those who are YO
 UNG, PROFESSIONAL, and, most importantly, UNATTACHED. This event runs 
 on your charm and finesse, so come out ready to impress! Make new frie
 nds, exchange a few numbers, and stay out late.\r\nCome for a night of
  FREE food and great drink specials in our private area upstairs at H
 orseshoe Tavern!  NJYP Member Cost: $5/7 online vs. $10 at the door No
 n-Member Cost: $10/12 online vs. $15 at the door\r\n***Not a member? S
 ign-up and create your profile at www.NJYP.org\r\nDrink Specials: $6
  House mixed drinks, $3 domestic beer, $4 import beer, $5 house wine.\
 r\nFREE buffet of light appetizers.\r\n Who can attend: Young profes
 sionals, single, who are 21-39 years of age.\n\nFor more informatio
 n visit http://njyp.org/events/2020vday
DTSTART;TZID=America/New_York:20200214T200000
DTEND;TZID=America/New_York:20200214T220000
CATEGORIES:"morris county", social, winter, feel, good, friday, mingle
 , party
LOCATION:Horseshoe Tavern
WEBSITE:
URL:
CONTACT:
ORGANIZER;CN="Brian Melnick":http://njyp.org/profile/Brian1218
ATTACH;FMTTYPE="image/jpeg":https://storage.ning.com/topology/rest/1.0
 /file/get/3851365215?profile=original
ATTENDEE;ROLE=REQ-PARTICIPANT;PARTSTAT=ACCEPTED;RSVP=TRUE;CN="Brian Me
 lnick":http://njyp.org/profile/Brian1218
ATTENDEE;ROLE=REQ-PARTICIPANT;PARTSTAT=ACCEPTED;RSVP=TRUE;CN=Issa:http
 ://njyp.org/profile/Issa
ATTENDEE;ROLE=REQ-PARTICIPANT;PARTSTAT=ACCEPTED;RSVP=TRUE;CN=Zee:http:
 //njyp.org/profile/Zee687
ATTENDEE;ROLE=REQ-PARTICIPANT;PARTSTAT=ACCEPTED;RSVP=TRUE;CN=Hillary:h
 ttp://njyp.org/profile/Hillary506
ATTENDEE;ROLE=REQ-PARTICIPANT;PARTSTAT=ACCEPTED;RSVP=TRUE;CN=Wei:http:
 //njyp.org/profile/Wei
ATTENDEE;ROLE=REQ-PARTICIPANT;PARTSTAT=ACCEPTED;RSVP=TRUE;CN=Kyle:http
 ://njyp.org/profile/Kyle771
ATTENDEE;ROLE=REQ-PARTICIPANT;PARTSTAT=ACCEPTED;RSVP=TRUE;CN="Paulina 
 Kirshenabum":http://njyp.org/profile/PaulinaKirshenabum
ATTENDEE;ROLE=REQ-PARTICIPANT;PARTSTAT=TENTATIVE;RSVP=TRUE;CN=Alex:htt
 p://njyp.org/profile/Alex243
END:VEVENT
END:VCALENDAR
