BEGIN:VCALENDAR
PRODID:NingEventWidget-v1
VERSION:2.0
METHOD:PUBLISH
BEGIN:VTIMEZONE
TZID:America/New_York
X-LIC-LOCATION:America/New_York
BEGIN:DAYLIGHT
TZOFFSETFROM:-0500
TZOFFSETTO:-0400
TZNAME:EDT
DTSTART:19700308T020000
RRULE:FREQ=YEARLY;BYMONTH=3;BYDAY=2SU
END:DAYLIGHT
BEGIN:STANDARD
TZOFFSETFROM:-0400
TZOFFSETTO:-0500
TZNAME:EST
DTSTART:19701101T020000
RRULE:FREQ=YEARLY;BYMONTH=11;BYDAY=1SU
END:STANDARD
END:VTIMEZONE
BEGIN:VEVENT
UID:2938326:Event:45
DTSTAMP:20260420T091009Z
SUMMARY:Hike
DESCRIPTION:\n\nThis hike is fantastic for beginners who are in somewh
 at good athletic shape (you easily can run up steps and you are ok wal
 king for hours) . It is a loop hike that \"runs along a scenic reservo
 ir, goes by two unusual glacial erratics - Tripod Rock and Bear Rock -
  and reaches two panoramic viewpoints.\" So, let's meet-up for this ea
 rly summer hike that is FREE for Premium Members and only $10 in advan
 ce for Basic.\n\nSpecs:\nThe hike is classified as easy to moderate an
 d is about 4.1 miles long.\nThe hike should take 2.5 to 3 hours.\nAs w
 ith all hikes you must be in good, athletic shape.\nFull Description\n
 \nONLY 25 TOTAL TICKETS AVAILABLE\n\nBasic Member Cost:\n$10 in advanc
 e\n$20 at the door (only if there is space left)\n\nPremium Member Cos
 t:\nBONUS *FREE* for Premium Members\nTickets Required so please regis
 ter still.\n\nTickets:\nThere are a limited number of Tickets for sale
 .\nTickets are not mailed, but your name will be kept at the door.\nAc
 tual hike is subject to change depending on weather conditions, fallen
  trees, etc. All sales are final.\n\nSweeper:\nIf the group is large w
 e are going to look for 2 volunteers to act as sweepers. Sweepers will
  walk at the end of the hike line and will make sure the group stays t
 ogether.\n\nHike Leader:\nNoah (our new hike leader) will be leading t
 his hike.\n\nWhat to bring:\nHiking boots or sneakers (boots are alway
 s recommended)\nWater (required)\nSnacks, a light lunch, etc.\nToilet 
 paper, tissues, plastic bags for garbage, etc.\n\nInclement Weather:\n
 Precipitation might cancel this hike but we often walk in light rain. 
 Please check your inbox for updates and the NJYP.org calendar. Tickets
  will be refunded.\n\nDirections:\nTake Interstate Route 287 to Exit 4
 4 (Main Street, Boonton) and bear right onto Lathrop Avenue. Turn righ
 t at the stop sign onto Main Street (County Route 511), proceed along 
 Main Street for 0.3 mile, then turn right onto Boonton Avenue. Continu
 e on Boonton Avenue, still designated County Route 511, for 3.3 miles 
 to the parking area for the Pyramid Mountain Visitors Center, on the l
 eft side of the road (the Visitors Center is opposite Mars Park, about
  0.8 mile north of the intersection of Route 511 and Taylortown Road).
 \nhttp://www.morrisparks.org/aspparks/pyrmtndir.asp\n\nParking:\nThe l
 ot at the Visitor's Center is very small but you can park on the stree
 t. Just make sure your tires are not over or on the white line or you 
 will get a ticket.\n\nTrail Map:\nhttp://www.morrisparks.org/aspparks/
 pyrmtntr.asp\n\n\n\nFor more information visit http://njyp.org/events/
 2938326:Event:45
DTSTART;TZID=America/New_York:20090328T100000
DTEND;TZID=America/New_York:20090328T120000
CATEGORIES:athletic, morris
LOCATION:Pyramid Mountain
WEBSITE:
URL:
CONTACT:
ORGANIZER;CN="Brian and Mike":http://njyp.org/profile/BrianMike
ATTACH;FMTTYPE="image/jpeg":http://storage.ning.com/topology/rest/1.0/
 file/get/1088520119?profile=original
ATTENDEE;ROLE=REQ-PARTICIPANT;PARTSTAT=ACCEPTED;RSVP=TRUE;CN="Brian an
 d Mike":http://njyp.org/profile/BrianMike
END:VEVENT
END:VCALENDAR
