BEGIN:VCALENDAR
PRODID:NingEventWidget-v1
VERSION:2.0
METHOD:PUBLISH
BEGIN:VTIMEZONE
TZID:America/New_York
X-LIC-LOCATION:America/New_York
BEGIN:DAYLIGHT
TZOFFSETFROM:-0500
TZOFFSETTO:-0400
TZNAME:EDT
DTSTART:19700308T020000
RRULE:FREQ=YEARLY;BYMONTH=3;BYDAY=2SU
END:DAYLIGHT
BEGIN:STANDARD
TZOFFSETFROM:-0400
TZOFFSETTO:-0500
TZNAME:EST
DTSTART:19701101T020000
RRULE:FREQ=YEARLY;BYMONTH=11;BYDAY=1SU
END:STANDARD
END:VTIMEZONE
BEGIN:VEVENT
UID:2938326:Event:21801
DTSTAMP:20260420T060227Z
SUMMARY:4 Minute Friending for Women
DESCRIPTION:NJYP is proud to present 4 Minute Friending for Women. Yes
 , we did just say Friending. Think of Speed Dating only without the da
 te. You will meet with someone for a few minutes then, at the ring of 
 a bell, move on to the next person. By the end of the night the whole 
 thing will turn into a mingle, only for once you will actually know mo
 st of the crowd.\n\nAdditionally, before starting the Friending, you w
 ill be given an information sheet that will list each participant's Na
 me, Email, Job Title, and Interests! Yup, you can easily contact your 
 new friends to get together on a Friday night, to exercise with, to sh
 op with, to network with, etc.\n\nWho should attend:\nThis event is op
 en to WOMEN who are 21-39, single or married.\nCome out to make new fr
 iends or come to network.\nThere is no dress code and you may bring bu
 siness cards.\n\n2 Item Minimum:\nEveryone must purchase 2 items (food
  or drink). Ask the bartender if there are any drink specials going on
 .\n\n\nRSVP (to the right) and we will let you know when tix are almos
 t gone, when prices are going up, if there are any changes, etc.\n\nMe
 mber Cost:\n$5 for the first 10 to register\n$10 for the next 11 to 30
  to register\n$15 for the next 31 to 50 to register\n$20 for walk-ins\
 nWalk-Ins will not be on the shared information sheet.\n\nNon-Member C
 ost:\n$20 online and at the door\nWalk-Ins will not be on the shared i
 nformation sheet.\n\nTickets:\nThere are a limited number of Tickets f
 or sale.\nTickets are not mailed, but your name will be kept at the do
 or. All sales are final.\n\nNJYP Host:\nTBD will be hosting this event
 .\n\nDirections/Parking:\nLots of free street parking and in the train
  lot!\n\nFinding the Group:\nAsk for NJYP or meet us upstairs.\n\nFor 
 more information visit http://njyp.org/events/4-minute-friending-for-w
 omen-1
DTSTART;TZID=America/New_York:20091117T190000
DTEND;TZID=America/New_York:20091117T210000
CATEGORIES:"essex county", social, "women only"
LOCATION:Senorita's Mexican Grill
WEBSITE:http://www.senoritasmexicangrill.com/
URL:http://www.senoritasmexicangrill.com/
CONTACT:
ORGANIZER;CN="Brian and Mike":http://njyp.org/profile/BrianMike
ATTACH;FMTTYPE="image/jpeg":http://storage.ning.com/topology/rest/1.0/
 file/get/1088562168?profile=original
ATTENDEE;ROLE=REQ-PARTICIPANT;PARTSTAT=ACCEPTED;RSVP=TRUE;CN="rachel i
 rene":http://njyp.org/profile/rachel_irene
ATTENDEE;ROLE=REQ-PARTICIPANT;PARTSTAT=ACCEPTED;RSVP=TRUE;CN=Laurel:ht
 tp://njyp.org/profile/Laurel
ATTENDEE;ROLE=REQ-PARTICIPANT;PARTSTAT=ACCEPTED;RSVP=TRUE;CN=Carline:h
 ttp://njyp.org/profile/CarlineMirthil
ATTENDEE;ROLE=REQ-PARTICIPANT;PARTSTAT=ACCEPTED;RSVP=TRUE;CN="Gabriell
 e Mack":http://njyp.org/profile/GabrielleMack
ATTENDEE;ROLE=REQ-PARTICIPANT;PARTSTAT=ACCEPTED;RSVP=TRUE;CN="Sarah Mi
 ddleton":http://njyp.org/profile/SarahM
ATTENDEE;ROLE=REQ-PARTICIPANT;PARTSTAT=ACCEPTED;RSVP=TRUE;CN=Lynn:http
 ://njyp.org/profile/LynnTucci
ATTENDEE;ROLE=REQ-PARTICIPANT;PARTSTAT=ACCEPTED;RSVP=TRUE;CN="Kristen 
 Helmstetter":http://njyp.org/profile/KristenHelmstetter
ATTENDEE;ROLE=REQ-PARTICIPANT;PARTSTAT=ACCEPTED;RSVP=TRUE;CN=Patty:htt
 p://njyp.org/profile/ricia
ATTENDEE;ROLE=REQ-PARTICIPANT;PARTSTAT=ACCEPTED;RSVP=TRUE;CN="Bethany 
 Myers":http://njyp.org/profile/BethanyMyers
ATTENDEE;ROLE=REQ-PARTICIPANT;PARTSTAT=ACCEPTED;RSVP=TRUE;CN="Jenny Si
 mmons":http://njyp.org/profile/JennySimmons
ATTENDEE;ROLE=REQ-PARTICIPANT;PARTSTAT=ACCEPTED;RSVP=TRUE;CN="Janelle 
 Randall":http://njyp.org/profile/JanelleRandall
ATTENDEE;ROLE=REQ-PARTICIPANT;PARTSTAT=ACCEPTED;RSVP=TRUE;CN="Rosemari
 e Hernandez":http://njyp.org/profile/RosemarieHernandez
ATTENDEE;ROLE=REQ-PARTICIPANT;PARTSTAT=ACCEPTED;RSVP=TRUE;CN="Denise D
 urfee":http://njyp.org/profile/DeniseDurfee
ATTENDEE;ROLE=REQ-PARTICIPANT;PARTSTAT=ACCEPTED;RSVP=TRUE;CN=Rebecca:h
 ttp://njyp.org/profile/Rebecca
ATTENDEE;ROLE=REQ-PARTICIPANT;PARTSTAT=ACCEPTED;RSVP=TRUE;CN="Christin
 e Rydzik":http://njyp.org/profile/CupcakingChristine
ATTENDEE;ROLE=REQ-PARTICIPANT;PARTSTAT=ACCEPTED;RSVP=TRUE;CN="Melissa 
 Veniero":http://njyp.org/profile/MelissaVeniero
ATTENDEE;ROLE=REQ-PARTICIPANT;PARTSTAT=ACCEPTED;RSVP=TRUE;CN=Lovettavo
 n:http://njyp.org/profile/Lovettavon
ATTENDEE;ROLE=REQ-PARTICIPANT;PARTSTAT=ACCEPTED;RSVP=TRUE;CN="Carol Pe
 terson":http://njyp.org/profile/CarolPeterson
ATTENDEE;ROLE=REQ-PARTICIPANT;PARTSTAT=ACCEPTED;RSVP=TRUE;CN="Keri Orl
 ovsky":http://njyp.org/profile/KeriOrlovsky
ATTENDEE;ROLE=REQ-PARTICIPANT;PARTSTAT=ACCEPTED;RSVP=TRUE;CN=Danielle:
 http://njyp.org/profile/DanielleM
ATTENDEE;ROLE=REQ-PARTICIPANT;PARTSTAT=ACCEPTED;RSVP=TRUE;CN=Michele:h
 ttp://njyp.org/profile/MicheleEsposito
ATTENDEE;ROLE=REQ-PARTICIPANT;PARTSTAT=ACCEPTED;RSVP=TRUE;CN="Gina Lav
 agna":http://njyp.org/profile/GinaLavagna
ATTENDEE;ROLE=REQ-PARTICIPANT;PARTSTAT=ACCEPTED;RSVP=TRUE;CN=Zhenya:ht
 tp://njyp.org/profile/ZhenyaKucsma
ATTENDEE;ROLE=REQ-PARTICIPANT;PARTSTAT=ACCEPTED;RSVP=TRUE;CN="Brian an
 d Mike":http://njyp.org/profile/BrianMike
ATTENDEE;ROLE=REQ-PARTICIPANT;PARTSTAT=TENTATIVE;RSVP=TRUE;CN=Kimberly
 :http://njyp.org/profile/Kimberly
ATTENDEE;ROLE=REQ-PARTICIPANT;PARTSTAT=TENTATIVE;RSVP=TRUE;CN=Nathaly:
 http://njyp.org/profile/123456
ATTENDEE;ROLE=REQ-PARTICIPANT;PARTSTAT=TENTATIVE;RSVP=TRUE;CN=Lauren:h
 ttp://njyp.org/profile/Lauren664
ATTENDEE;ROLE=REQ-PARTICIPANT;PARTSTAT=TENTATIVE;RSVP=TRUE;CN="Karyn L
 eibig":http://njyp.org/profile/KarynLeibig
ATTENDEE;ROLE=REQ-PARTICIPANT;PARTSTAT=TENTATIVE;RSVP=TRUE;CN="Ayana C
 .":http://njyp.org/profile/AyanaCJoseph
ATTENDEE;ROLE=REQ-PARTICIPANT;PARTSTAT=TENTATIVE;RSVP=TRUE;CN="Amy Car
 uso":http://njyp.org/profile/AmyCaruso
ATTENDEE;ROLE=REQ-PARTICIPANT;PARTSTAT=TENTATIVE;RSVP=TRUE;CN=Meredith
 :http://njyp.org/profile/MeredithC
ATTENDEE;ROLE=REQ-PARTICIPANT;PARTSTAT=TENTATIVE;RSVP=TRUE;CN="Nikki H
 art":http://njyp.org/profile/DomenicaHart
ATTENDEE;ROLE=REQ-PARTICIPANT;PARTSTAT=TENTATIVE;RSVP=TRUE;CN="Melanie
  Wische":http://njyp.org/profile/MelanieWische
ATTENDEE;ROLE=REQ-PARTICIPANT;PARTSTAT=TENTATIVE;RSVP=TRUE;CN="Lisa F"
 :http://njyp.org/profile/LisaF
ATTENDEE;ROLE=REQ-PARTICIPANT;PARTSTAT=TENTATIVE;RSVP=TRUE;CN=Zakkiyya
 :http://njyp.org/profile/ZakkiyyaTaylor
ATTENDEE;ROLE=REQ-PARTICIPANT;PARTSTAT=TENTATIVE;RSVP=TRUE;CN=Michelle
 :http://njyp.org/profile/MichelleB
END:VEVENT
END:VCALENDAR
