BEGIN:VCALENDAR
PRODID:NingEventWidget-v1
VERSION:2.0
METHOD:PUBLISH
BEGIN:VTIMEZONE
TZID:America/New_York
X-LIC-LOCATION:America/New_York
BEGIN:DAYLIGHT
TZOFFSETFROM:-0500
TZOFFSETTO:-0400
TZNAME:EDT
DTSTART:19700308T020000
RRULE:FREQ=YEARLY;BYMONTH=3;BYDAY=2SU
END:DAYLIGHT
BEGIN:STANDARD
TZOFFSETFROM:-0400
TZOFFSETTO:-0500
TZNAME:EST
DTSTART:19701101T020000
RRULE:FREQ=YEARLY;BYMONTH=11;BYDAY=1SU
END:STANDARD
END:VTIMEZONE
BEGIN:VEVENT
UID:2938326:Event:19140
DTSTAMP:20260420T092548Z
SUMMARY:4 Minute Friending for Women
DESCRIPTION:Please Note- This event has been moved to the Houlihan's i
 n Bridgewater.\n\nNJYP is proud to present 4 Minute Friending for Wome
 n. Yes, we did just say Friending. Think of Speed Dating only without 
 the date. You will meet with someone for a few minutes then, at the ri
 ng of a bell, move on to the next person. By the end of the night the 
 whole thing will turn into a mingle, only for once you will actually k
 now most of the crowd.\n\nAdditionally, before starting the Friending,
  you will be given an information sheet that will list each participan
 t's Name, Email, Job Title, and Interests! Yup, you can easily contact
  your new friends to get together on a Friday night, to exercise with,
  to shop with, to network with, etc.\n\nWho should attend:\nThis event
  is open to WOMEN who are 21-39, single or married.\nCome out to make 
 new friends or come to network.\nThere is no dress code and you may br
 ing business cards.\n\n2 Item Minimum:\nEveryone must purchase 2 items
  (food or drink). Ask the bartender if there are any drink specials go
 ing on.\n\n\nRSVP (to the right) and we will let you know when tix are
  almost gone, when prices are going up, if there are any changes, etc.
 \n\nMember Cost:\n$5 for the first 10 to register\n$10 for the next 11
  to 30 to register\n$15 for the next 31 to 50 to register\n$20 for wal
 k-ins\nWalk-Ins will not be on the shared information sheet.\n\nNon-Me
 mber Cost:\n$20 online and at the door\nWalk-Ins will not be on the sh
 ared information sheet.\n\nTickets:\nThere are a limited number of Tic
 kets for sale.\nTickets are not mailed, but your name will be kept at 
 the door. All sales are final.\n\nNJYP Host:\nBibi will be hosting thi
 s event.\n\nDirections/Parking:\nLots of free parking!\n\nFinding the 
 Group:\nAsk for NJYP or meet in the private party room.\n\nFor more in
 formation visit http://njyp.org/events/4-minute-friending-for-women
DTSTART;TZID=America/New_York:20091027T190000
DTEND;TZID=America/New_York:20091027T210000
CATEGORIES:"somerset county", "women only", social, networking
LOCATION:Houlihan's
WEBSITE:http://www.houlihans.com/Events.aspx?store_temp=293
URL:http://www.houlihans.com/Events.aspx?store_temp=293
CONTACT:
ORGANIZER;CN="Brian and Mike":http://njyp.org/profile/BrianMike
ATTACH;FMTTYPE="image/jpeg":http://storage.ning.com/topology/rest/1.0/
 file/get/1088560874?profile=original
ATTENDEE;ROLE=REQ-PARTICIPANT;PARTSTAT=ACCEPTED;RSVP=TRUE;CN=kabooshke
 y:http://njyp.org/profile/kabooshkey
ATTENDEE;ROLE=REQ-PARTICIPANT;PARTSTAT=ACCEPTED;RSVP=TRUE;CN="Johanna 
 Espinosa":http://njyp.org/profile/JohannaEspinosa
ATTENDEE;ROLE=REQ-PARTICIPANT;PARTSTAT=ACCEPTED;RSVP=TRUE;CN="Erin Arm
 strong":http://njyp.org/profile/ErinCrandle
ATTENDEE;ROLE=REQ-PARTICIPANT;PARTSTAT=ACCEPTED;RSVP=TRUE;CN=Shannon:h
 ttp://njyp.org/profile/Shannon
ATTENDEE;ROLE=REQ-PARTICIPANT;PARTSTAT=ACCEPTED;RSVP=TRUE;CN=Ann:http:
 //njyp.org/profile/AF4
ATTENDEE;ROLE=REQ-PARTICIPANT;PARTSTAT=ACCEPTED;RSVP=TRUE;CN="Maria J 
 Gutierrez":http://njyp.org/profile/MariaJGutierrez
ATTENDEE;ROLE=REQ-PARTICIPANT;PARTSTAT=ACCEPTED;RSVP=TRUE;CN="Kendall 
 R.":http://njyp.org/profile/KR
ATTENDEE;ROLE=REQ-PARTICIPANT;PARTSTAT=ACCEPTED;RSVP=TRUE;CN=Katrina:h
 ttp://njyp.org/profile/KatrinaN
ATTENDEE;ROLE=REQ-PARTICIPANT;PARTSTAT=ACCEPTED;RSVP=TRUE;CN="Ashley W
 olf":http://njyp.org/profile/AshleyWolf
ATTENDEE;ROLE=REQ-PARTICIPANT;PARTSTAT=ACCEPTED;RSVP=TRUE;CN="Elizabet
 h Foster-Fernandez":http://njyp.org/profile/ElizabethFosterFernandez
ATTENDEE;ROLE=REQ-PARTICIPANT;PARTSTAT=ACCEPTED;RSVP=TRUE;CN="Abiola T
 elesford":http://njyp.org/profile/AbiolaTelesford
ATTENDEE;ROLE=REQ-PARTICIPANT;PARTSTAT=ACCEPTED;RSVP=TRUE;CN="Christy 
 DiBartolo":http://njyp.org/profile/ChristyDiBartolo
ATTENDEE;ROLE=REQ-PARTICIPANT;PARTSTAT=ACCEPTED;RSVP=TRUE;CN="Katherin
 e Cuartas":http://njyp.org/profile/KatherineCuartas
ATTENDEE;ROLE=REQ-PARTICIPANT;PARTSTAT=ACCEPTED;RSVP=TRUE;CN=Michele:h
 ttp://njyp.org/profile/MicheleSanto
ATTENDEE;ROLE=REQ-PARTICIPANT;PARTSTAT=ACCEPTED;RSVP=TRUE;CN=Stacy:htt
 p://njyp.org/profile/StacyStraczynski
ATTENDEE;ROLE=REQ-PARTICIPANT;PARTSTAT=ACCEPTED;RSVP=TRUE;CN=Kathleen:
 http://njyp.org/profile/Kathleen463
ATTENDEE;ROLE=REQ-PARTICIPANT;PARTSTAT=ACCEPTED;RSVP=TRUE;CN=Lynn:http
 ://njyp.org/profile/LynnTucci
ATTENDEE;ROLE=REQ-PARTICIPANT;PARTSTAT=ACCEPTED;RSVP=TRUE;CN="Gina Can
 gialosi":http://njyp.org/profile/GinaCangialosi
ATTENDEE;ROLE=REQ-PARTICIPANT;PARTSTAT=ACCEPTED;RSVP=TRUE;CN="Mairead 
 O'Sullivan":http://njyp.org/profile/MaireadOSullivan
ATTENDEE;ROLE=REQ-PARTICIPANT;PARTSTAT=ACCEPTED;RSVP=TRUE;CN="Bibi B t
 he Nutritionist":http://njyp.org/profile/BibianaBendikova
ATTENDEE;ROLE=REQ-PARTICIPANT;PARTSTAT=ACCEPTED;RSVP=TRUE;CN="Carrie N
 .":http://njyp.org/profile/CarrieNeigel
ATTENDEE;ROLE=REQ-PARTICIPANT;PARTSTAT=ACCEPTED;RSVP=TRUE;CN="Brian an
 d Mike":http://njyp.org/profile/BrianMike
ATTENDEE;ROLE=REQ-PARTICIPANT;PARTSTAT=TENTATIVE;RSVP=TRUE;CN="Charlot
 te Strauss":http://njyp.org/profile/CharlotteStrauss
ATTENDEE;ROLE=REQ-PARTICIPANT;PARTSTAT=TENTATIVE;RSVP=TRUE;CN="Kang He
 e Ko":http://njyp.org/profile/KangHeeKo
ATTENDEE;ROLE=REQ-PARTICIPANT;PARTSTAT=TENTATIVE;RSVP=TRUE;CN="Melissa
  Veniero":http://njyp.org/profile/MelissaVeniero
ATTENDEE;ROLE=REQ-PARTICIPANT;PARTSTAT=TENTATIVE;RSVP=TRUE;CN="Melanie
  Wische":http://njyp.org/profile/MelanieWische
ATTENDEE;ROLE=REQ-PARTICIPANT;PARTSTAT=TENTATIVE;RSVP=TRUE;CN=HippieBr
 ownGirl:http://njyp.org/profile/HippieBrownGirl
ATTENDEE;ROLE=REQ-PARTICIPANT;PARTSTAT=TENTATIVE;RSVP=TRUE;CN="Stephan
 ie Coutros":http://njyp.org/profile/StephanieCoutros
ATTENDEE;ROLE=REQ-PARTICIPANT;PARTSTAT=TENTATIVE;RSVP=TRUE;CN="Lisa Ka
 uffman":http://njyp.org/profile/LisaKauffman
ATTENDEE;ROLE=REQ-PARTICIPANT;PARTSTAT=TENTATIVE;RSVP=TRUE;CN="Carol P
 eterson":http://njyp.org/profile/CarolPeterson
ATTENDEE;ROLE=REQ-PARTICIPANT;PARTSTAT=TENTATIVE;RSVP=TRUE;CN=Elizabet
 h:http://njyp.org/profile/ElizabethWilliams
ATTENDEE;ROLE=REQ-PARTICIPANT;PARTSTAT=TENTATIVE;RSVP=TRUE;CN="Judith 
 O":http://njyp.org/profile/JudithO
ATTENDEE;ROLE=REQ-PARTICIPANT;PARTSTAT=TENTATIVE;RSVP=TRUE;CN="Cindy L
 in":http://njyp.org/profile/CindyLin
ATTENDEE;ROLE=REQ-PARTICIPANT;PARTSTAT=TENTATIVE;RSVP=TRUE;CN=Kristy:h
 ttp://njyp.org/profile/KristyBuchalla
ATTENDEE;ROLE=REQ-PARTICIPANT;PARTSTAT=TENTATIVE;RSVP=TRUE;CN="Sonja C
 hartowich":http://njyp.org/profile/SonjaChartowich
ATTENDEE;ROLE=REQ-PARTICIPANT;PARTSTAT=TENTATIVE;RSVP=TRUE;CN=Kirsten:
 http://njyp.org/profile/KirstenSwanson
END:VEVENT
END:VCALENDAR
