BEGIN:VCALENDAR
PRODID:NingEventWidget-v1
VERSION:2.0
METHOD:PUBLISH
BEGIN:VTIMEZONE
TZID:America/New_York
X-LIC-LOCATION:America/New_York
BEGIN:DAYLIGHT
TZOFFSETFROM:-0500
TZOFFSETTO:-0400
TZNAME:EDT
DTSTART:19700308T020000
RRULE:FREQ=YEARLY;BYMONTH=3;BYDAY=2SU
END:DAYLIGHT
BEGIN:STANDARD
TZOFFSETFROM:-0400
TZOFFSETTO:-0500
TZNAME:EST
DTSTART:19701101T020000
RRULE:FREQ=YEARLY;BYMONTH=11;BYDAY=1SU
END:STANDARD
END:VTIMEZONE
BEGIN:VEVENT
UID:2938326:Event:38962
DTSTAMP:20260420T212127Z
SUMMARY:4-Minute Friending in Hoboken
DESCRIPTION:Due to the bad weather tonight's event has been canceled. 
 Refunds will be sent ASAP via Paypal.\n\nMake friends fast! 4-Minute F
 riending brings together a group of Young Professionals who live and w
 ork in the area. Participants will get to meet one-on-one with 10 to 1
 5 people to share interests and hobbies. Find friends to hang out with
 , go to the gym with, hit up happy hour with! NJYP has been running th
 ese events for years and as a result TONS of friendships have been mad
 e! We guarantee you will have a good time and that you will walk away 
 with new connections.\n\nBONUS:\nWhen you register for this event you 
 will be asked to share your email, interests, location, and job title.
  This information will be compiled and shared with the other participa
 nts at the 4-Minute Friending event [you MUST attend to get the printe
 d paper]. Yup, you can now easily contact your new friends post-event 
 and do not have to worry about bringing a pen and paper.\n\nWho should
  attend:\nThis 4-Minute Friending event is open to ages 21 to 39 ONLY.
 \nYou can be single or married. Come out to make new friends or come t
 o network.\nThere is no dress code and you may bring business cards.\n
 \n2 Item Minimum:\nThere is a 2 item minimum purchase during this even
 t. You can buy beer, wine, soda, bottled water, appetizers, etc.\n\n\n
 RSVP (to the right) and we will let you know when tix are almost gone,
  when prices are going up, if there are any changes, etc.\n\nMember Co
 st:\n$5 for the first 5 to register\n$10 for the next 6 to 20 to regis
 ter\n$15 for the next 21 to 40 to register\n$20 for walk-ins\n\nNon-Me
 mber Cost:\n$20 online and at the door\n\nTickets:\nThere are a limite
 d number of Tickets for sale. Tickets are not mailed and you do not ne
 ed to print them; your name will be kept at the door. All sales are fi
 nal.\n\nHost:\nLaura L will be hosting this event.\n\nFinding the Grou
 p:\nAsk staff for NJYP once you arrive. We will be in the lounge area.
 \n\nFor more information visit http://njyp.org/events/4minute-friendin
 g-in-hoboken
DTSTART;TZID=America/New_York:20100223T190000
DTEND;TZID=America/New_York:20100223T210000
CATEGORIES:"hudson county", social
LOCATION:3Forty Grill
WEBSITE:http://www.3fortygrill.com/
URL:http://www.3fortygrill.com/
CONTACT:
ORGANIZER;CN="Brian and Mike":http://njyp.org/profile/BrianMike
ATTACH;FMTTYPE="image/jpeg":http://storage.ning.com/topology/rest/1.0/
 file/get/1088587886?profile=original
ATTENDEE;ROLE=REQ-PARTICIPANT;PARTSTAT=ACCEPTED;RSVP=TRUE;CN=Rob:http:
 //njyp.org/profile/RobertSens
ATTENDEE;ROLE=REQ-PARTICIPANT;PARTSTAT=ACCEPTED;RSVP=TRUE;CN="Melissa 
 Veniero":http://njyp.org/profile/MelissaVeniero
ATTENDEE;ROLE=REQ-PARTICIPANT;PARTSTAT=ACCEPTED;RSVP=TRUE;CN=Abhi:http
 ://njyp.org/profile/ajajaj
ATTENDEE;ROLE=REQ-PARTICIPANT;PARTSTAT=ACCEPTED;RSVP=TRUE;CN="Hany S E
 stefanos":http://njyp.org/profile/HanySEstefanos
ATTENDEE;ROLE=REQ-PARTICIPANT;PARTSTAT=ACCEPTED;RSVP=TRUE;CN=Emelyn:ht
 tp://njyp.org/profile/Emelyn
ATTENDEE;ROLE=REQ-PARTICIPANT;PARTSTAT=ACCEPTED;RSVP=TRUE;CN="Carrie N
 .":http://njyp.org/profile/CarrieNeigel
ATTENDEE;ROLE=REQ-PARTICIPANT;PARTSTAT=ACCEPTED;RSVP=TRUE;CN="Elizabet
 h Gonzalez":http://njyp.org/profile/ElizabethGonzalez992
ATTENDEE;ROLE=REQ-PARTICIPANT;PARTSTAT=ACCEPTED;RSVP=TRUE;CN="Allison 
 Jolls":http://njyp.org/profile/AllisonJolls
ATTENDEE;ROLE=REQ-PARTICIPANT;PARTSTAT=ACCEPTED;RSVP=TRUE;CN=Joanne:ht
 tp://njyp.org/profile/Joanne
ATTENDEE;ROLE=REQ-PARTICIPANT;PARTSTAT=ACCEPTED;RSVP=TRUE;CN="Brian an
 d Mike":http://njyp.org/profile/BrianMike
ATTENDEE;ROLE=REQ-PARTICIPANT;PARTSTAT=TENTATIVE;RSVP=TRUE;CN=Pete:htt
 p://njyp.org/profile/PeterVarricchio
ATTENDEE;ROLE=REQ-PARTICIPANT;PARTSTAT=TENTATIVE;RSVP=TRUE;CN="Ruth Fl
 ores":http://njyp.org/profile/RuthFlores
ATTENDEE;ROLE=REQ-PARTICIPANT;PARTSTAT=TENTATIVE;RSVP=TRUE;CN="Mark T"
 :http://njyp.org/profile/MarkTran
ATTENDEE;ROLE=REQ-PARTICIPANT;PARTSTAT=TENTATIVE;RSVP=TRUE;CN="Abhijit
  Sheth":http://njyp.org/profile/AbhijitSheth
ATTENDEE;ROLE=REQ-PARTICIPANT;PARTSTAT=TENTATIVE;RSVP=TRUE;CN=Seth:htt
 p://njyp.org/profile/Seth
END:VEVENT
END:VCALENDAR
