BEGIN:VCALENDAR
PRODID:NingEventWidget-v1
VERSION:2.0
METHOD:PUBLISH
BEGIN:VTIMEZONE
TZID:America/New_York
X-LIC-LOCATION:America/New_York
BEGIN:DAYLIGHT
TZOFFSETFROM:-0500
TZOFFSETTO:-0400
TZNAME:EDT
DTSTART:19700308T020000
RRULE:FREQ=YEARLY;BYMONTH=3;BYDAY=2SU
END:DAYLIGHT
BEGIN:STANDARD
TZOFFSETFROM:-0400
TZOFFSETTO:-0500
TZNAME:EST
DTSTART:19701101T020000
RRULE:FREQ=YEARLY;BYMONTH=11;BYDAY=1SU
END:STANDARD
END:VTIMEZONE
BEGIN:VEVENT
UID:2938326:Event:38505
DTSTAMP:20260420T091441Z
SUMMARY:4-Minute Friending in New Brunswick
DESCRIPTION:Make friends fast! 4-Minute Friending brings together a gr
 oup of Young Professionals who live and work in the area. Participants
  will get to meet one-on-one with 10 to 15 people to share interests a
 nd hobbies. Find friends to hang out with, go to the gym with, hit up 
 happy hour with! NJYP has been running these events for years and as a
  result TONS of friendships have been made! We guarantee you will have
  a good time and that you will walk away with new connections.\n\nBONU
 S:\nWhen you register for this event you will be asked to share your e
 mail, interests, location, and job title. This information will be com
 piled and shared with the other participants at the 4-Minute Friending
  event [you MUST attend to get the printed paper]. Yup, you can now ea
 sily contact your new friends post-event and do not have to worry abou
 t bringing a pen and paper.\n\nWho should attend:\nThis 4-Minute Frien
 ding event is open to ages 21 to 39 ONLY.\nYou can be single or marrie
 d. Come out to make new friends or come to network.\nThere is no dress
  code and you may bring business cards.\n\n2 Item Minimum:\nThere is a
  2 minimum purchase during this event. You can buy beer, wine, soda, b
 ottled water, appetizers, etc.\n\n\nRSVP (to the right) and we will le
 t you know when tix are almost gone, when prices are going up, if ther
 e are any changes, etc.\n\nMember Cost:\n$5 for the first 5 to registe
 r\n$10 for the next 6 to 20 to register\n$15 for the next 21 to 40 to 
 register\n$20 for walk-ins\n\nNon-Member Cost:\n$20 online and at the 
 door\n\nTickets:\nThere are a limited number of Tickets for sale. Tick
 ets are not mailed and you do not need to print them; your name will b
 e kept at the door. All sales are final.\n\nFinding the Group:\nASk st
 aff for NJYP once you arrive. We will be in the upstairs room that is 
 over the dining area.\n\nDirections:\nhttp://www.hotokerestaurant.com/
 \nVarious street parking and decks.\n\nFor more information visit http
 ://njyp.org/events/4minute-friending-in-new
DTSTART;TZID=America/New_York:20100218T190000
DTEND;TZID=America/New_York:20100218T210000
CATEGORIES:"middlesex county", social
LOCATION:Hotoke Lounge
WEBSITE:http://www.hotokerestaurant.com/
URL:http://www.hotokerestaurant.com/
CONTACT:
ORGANIZER;CN="Brian and Mike":http://njyp.org/profile/BrianMike
ATTACH;FMTTYPE="image/jpeg":http://storage.ning.com/topology/rest/1.0/
 file/get/1088589375?profile=original
ATTENDEE;ROLE=REQ-PARTICIPANT;PARTSTAT=ACCEPTED;RSVP=TRUE;CN=Debbie:ht
 tp://njyp.org/profile/ScarlettBegonia
ATTENDEE;ROLE=REQ-PARTICIPANT;PARTSTAT=ACCEPTED;RSVP=TRUE;CN=Caleb:htt
 p://njyp.org/profile/Olebo
ATTENDEE;ROLE=REQ-PARTICIPANT;PARTSTAT=ACCEPTED;RSVP=TRUE;CN="Jung Min
 ":http://njyp.org/profile/JungMinHan
ATTENDEE;ROLE=REQ-PARTICIPANT;PARTSTAT=ACCEPTED;RSVP=TRUE;CN="James So
 lano":http://njyp.org/profile/JamesSolano
ATTENDEE;ROLE=REQ-PARTICIPANT;PARTSTAT=ACCEPTED;RSVP=TRUE;CN=Dale:http
 ://njyp.org/profile/DaleE
ATTENDEE;ROLE=REQ-PARTICIPANT;PARTSTAT=ACCEPTED;RSVP=TRUE;CN=Elena:htt
 p://njyp.org/profile/Elena
ATTENDEE;ROLE=REQ-PARTICIPANT;PARTSTAT=ACCEPTED;RSVP=TRUE;CN="Scott Li
 chtenstein":http://njyp.org/profile/ScottLichtenstein
ATTENDEE;ROLE=REQ-PARTICIPANT;PARTSTAT=ACCEPTED;RSVP=TRUE;CN=Kelly:htt
 p://njyp.org/profile/KellyTimoney
ATTENDEE;ROLE=REQ-PARTICIPANT;PARTSTAT=ACCEPTED;RSVP=TRUE;CN="Bibi B t
 he Nutritionist":http://njyp.org/profile/BibianaBendikova
ATTENDEE;ROLE=REQ-PARTICIPANT;PARTSTAT=ACCEPTED;RSVP=TRUE;CN=Jill:http
 ://njyp.org/profile/JillBuonincontri
ATTENDEE;ROLE=REQ-PARTICIPANT;PARTSTAT=ACCEPTED;RSVP=TRUE;CN="Jacquely
 n Price":http://njyp.org/profile/JacquelynPrice
ATTENDEE;ROLE=REQ-PARTICIPANT;PARTSTAT=ACCEPTED;RSVP=TRUE;CN=Laura:htt
 p://njyp.org/profile/LauraHolborow
ATTENDEE;ROLE=REQ-PARTICIPANT;PARTSTAT=ACCEPTED;RSVP=TRUE;CN=Tina:http
 ://njyp.org/profile/Tina984
ATTENDEE;ROLE=REQ-PARTICIPANT;PARTSTAT=ACCEPTED;RSVP=TRUE;CN="Nikitas 
 M":http://njyp.org/profile/NikitasM
ATTENDEE;ROLE=REQ-PARTICIPANT;PARTSTAT=ACCEPTED;RSVP=TRUE;CN="Tiffany 
 Thrasher":http://njyp.org/profile/TiffanyThrasher
ATTENDEE;ROLE=REQ-PARTICIPANT;PARTSTAT=ACCEPTED;RSVP=TRUE;CN="Jonathan
  Elliott":http://njyp.org/profile/JonathanElliott
ATTENDEE;ROLE=REQ-PARTICIPANT;PARTSTAT=ACCEPTED;RSVP=TRUE;CN="Ilya Gan
 ov":http://njyp.org/profile/IlyaGanov
ATTENDEE;ROLE=REQ-PARTICIPANT;PARTSTAT=ACCEPTED;RSVP=TRUE;CN=Paul:http
 ://njyp.org/profile/MTown
ATTENDEE;ROLE=REQ-PARTICIPANT;PARTSTAT=ACCEPTED;RSVP=TRUE;CN="Ashley E
  Melancon":http://njyp.org/profile/AshleyEMelancon
ATTENDEE;ROLE=REQ-PARTICIPANT;PARTSTAT=ACCEPTED;RSVP=TRUE;CN=Jess:http
 ://njyp.org/profile/JessicaAdams
ATTENDEE;ROLE=REQ-PARTICIPANT;PARTSTAT=ACCEPTED;RSVP=TRUE;CN="Jen Bell
 ":http://njyp.org/profile/jb73
ATTENDEE;ROLE=REQ-PARTICIPANT;PARTSTAT=ACCEPTED;RSVP=TRUE;CN="Latoya W
 hite":http://njyp.org/profile/LatoyaWhite
ATTENDEE;ROLE=REQ-PARTICIPANT;PARTSTAT=ACCEPTED;RSVP=TRUE;CN="Michael 
 Park":http://njyp.org/profile/MichaelPark
ATTENDEE;ROLE=REQ-PARTICIPANT;PARTSTAT=ACCEPTED;RSVP=TRUE;CN="Carrie N
 .":http://njyp.org/profile/CarrieNeigel
ATTENDEE;ROLE=REQ-PARTICIPANT;PARTSTAT=ACCEPTED;RSVP=TRUE;CN="Brian an
 d Mike":http://njyp.org/profile/BrianMike
ATTENDEE;ROLE=REQ-PARTICIPANT;PARTSTAT=TENTATIVE;RSVP=TRUE;CN="Dan Aur
 iemma":http://njyp.org/profile/DanAuriemma
ATTENDEE;ROLE=REQ-PARTICIPANT;PARTSTAT=TENTATIVE;RSVP=TRUE;CN="Julie W
 eiser":http://njyp.org/profile/JulieWeiser
ATTENDEE;ROLE=REQ-PARTICIPANT;PARTSTAT=TENTATIVE;RSVP=TRUE;CN="Ben Dar
 ian":http://njyp.org/profile/BenDarian
ATTENDEE;ROLE=REQ-PARTICIPANT;PARTSTAT=TENTATIVE;RSVP=TRUE;CN=John:htt
 p://njyp.org/profile/JohnCastro
ATTENDEE;ROLE=REQ-PARTICIPANT;PARTSTAT=TENTATIVE;RSVP=TRUE;CN="Jessica
  S.":http://njyp.org/profile/Jessica896
ATTENDEE;ROLE=REQ-PARTICIPANT;PARTSTAT=TENTATIVE;RSVP=TRUE;CN="Dave Ch
 esnick":http://njyp.org/profile/DaveChesnick
ATTENDEE;ROLE=REQ-PARTICIPANT;PARTSTAT=TENTATIVE;RSVP=TRUE;CN=Kathleen
 :http://njyp.org/profile/Kathleen463
ATTENDEE;ROLE=REQ-PARTICIPANT;PARTSTAT=TENTATIVE;RSVP=TRUE;CN="Marley 
 Nolan":http://njyp.org/profile/MarleyNolan
ATTENDEE;ROLE=REQ-PARTICIPANT;PARTSTAT=TENTATIVE;RSVP=TRUE;CN="Steven 
 Holtzman":http://njyp.org/profile/StevenHoltzman
ATTENDEE;ROLE=REQ-PARTICIPANT;PARTSTAT=TENTATIVE;RSVP=TRUE;CN="Jennife
 r L. Campbell":http://njyp.org/profile/JenniferLCampbell
END:VEVENT
END:VCALENDAR
