BEGIN:VCALENDAR
PRODID:NingEventWidget-v1
VERSION:2.0
METHOD:PUBLISH
BEGIN:VTIMEZONE
TZID:America/New_York
X-LIC-LOCATION:America/New_York
BEGIN:DAYLIGHT
TZOFFSETFROM:-0500
TZOFFSETTO:-0400
TZNAME:EDT
DTSTART:19700308T020000
RRULE:FREQ=YEARLY;BYMONTH=3;BYDAY=2SU
END:DAYLIGHT
BEGIN:STANDARD
TZOFFSETFROM:-0400
TZOFFSETTO:-0500
TZNAME:EST
DTSTART:19701101T020000
RRULE:FREQ=YEARLY;BYMONTH=11;BYDAY=1SU
END:STANDARD
END:VTIMEZONE
BEGIN:VEVENT
UID:2938326:Event:37180
DTSTAMP:20260420T073650Z
SUMMARY:4-Minute Friending in Paramus
DESCRIPTION:Make friends fast! 4-Minute Friending brings together a gr
 oup of Young Professionals who live and work in the area. Participants
  will get to meet one-on-one with 10 to 15 people to share interests a
 nd hobbies. Find friends to hang out with, go to the gym with, hit up 
 happy hour with! NJYP has been running these events for years and as a
  result TONS of friendships have been made! We guarantee you will have
  a good time and that you will walk away with new connections.\n\nBONU
 S:\nWhen you register for this event you will be asked to share your e
 mail, interests, location, and job title. This information will be com
 piled and shared with the other participants at the 4-Minute Friending
  event [you MUST attend to get the printed paper]. Yup, you can now ea
 sily contact your new friends post-event and do not have to worry abou
 t bringing a pen and paper.\n\nWho should attend:\nThis 4-Minute Frien
 ding event is open to ages 21 to 39 ONLY.\nYou can be single or marrie
 d. Come out to make new friends or come to network.\nThere is no dress
  code and you may bring business cards.\n\n$2 Item Minimum:\nThere is 
 a 2 minimum purchase during this event. You can buy beer, wine, soda, 
 bottled water, appetizers, etc.\n\n\nRSVP (to the right) and we will l
 et you know when tix are almost gone, when prices are going up, if the
 re are any changes, etc.\n\nMember Cost:\n$5 for the first 5 to regist
 er\n$10 for the next 6 to 20 to register\n$15 for the next 21 to 40 to
  register\n$20 for walk-ins\n\nNon-Member Cost:\n$20 online and at the
  door\n\nTickets:\nThere are a limited number of Tickets for sale. Tic
 kets are not mailed and you do not need to print them; your name will 
 be kept at the door. All sales are final.\n\nHost:\nRachel C will be h
 osting this event.\n\nFinding the Group:\nAsk staff for NJYP once you 
 arrive. We will be in the lounge area that is outside the bar.\n\nFor 
 more information visit http://njyp.org/events/4minute-friending-in-par
 amus
DTSTART;TZID=America/New_York:20100209T190000
DTEND;TZID=America/New_York:20100209T210000
CATEGORIES:"bergen county", social
LOCATION:Bonefish Grill at the Crowne Plaza Hotel
WEBSITE:http://www.bonefishgrill.com/about/news/bonefish-grill-opens-p
 aramus/
URL:http://www.bonefishgrill.com/about/news/bonefish-grill-opens-param
 us/
CONTACT:
ORGANIZER;CN="Brian and Mike":http://njyp.org/profile/BrianMike
ATTACH;FMTTYPE="image/jpeg":http://storage.ning.com/topology/rest/1.0/
 file/get/1088586680?profile=original
ATTENDEE;ROLE=REQ-PARTICIPANT;PARTSTAT=ACCEPTED;RSVP=TRUE;CN=Rochelle:
 http://njyp.org/profile/Rochelle
ATTENDEE;ROLE=REQ-PARTICIPANT;PARTSTAT=ACCEPTED;RSVP=TRUE;CN="Rachel C
 ":http://njyp.org/profile/RachelCohen
ATTENDEE;ROLE=REQ-PARTICIPANT;PARTSTAT=ACCEPTED;RSVP=TRUE;CN=David:htt
 p://njyp.org/profile/DavidCollins
ATTENDEE;ROLE=REQ-PARTICIPANT;PARTSTAT=ACCEPTED;RSVP=TRUE;CN=John:http
 ://njyp.org/profile/JohnCastro
ATTENDEE;ROLE=REQ-PARTICIPANT;PARTSTAT=ACCEPTED;RSVP=TRUE;CN="Ilya Gan
 ov":http://njyp.org/profile/IlyaGanov
ATTENDEE;ROLE=REQ-PARTICIPANT;PARTSTAT=ACCEPTED;RSVP=TRUE;CN="Julie Lu
 u":http://njyp.org/profile/JulieLuu
ATTENDEE;ROLE=REQ-PARTICIPANT;PARTSTAT=ACCEPTED;RSVP=TRUE;CN="Amanda F
 orsburg":http://njyp.org/profile/AmandaF
ATTENDEE;ROLE=REQ-PARTICIPANT;PARTSTAT=ACCEPTED;RSVP=TRUE;CN="Scott D'
 Alessandri":http://njyp.org/profile/ScottDAlessandri
ATTENDEE;ROLE=REQ-PARTICIPANT;PARTSTAT=ACCEPTED;RSVP=TRUE;CN="Elizabet
 h Gonzalez":http://njyp.org/profile/ElizabethGonzalez992
ATTENDEE;ROLE=REQ-PARTICIPANT;PARTSTAT=ACCEPTED;RSVP=TRUE;CN="Janelle 
 Randall":http://njyp.org/profile/JanelleRandall
ATTENDEE;ROLE=REQ-PARTICIPANT;PARTSTAT=ACCEPTED;RSVP=TRUE;CN="Jung Min
 ":http://njyp.org/profile/JungMinHan
ATTENDEE;ROLE=REQ-PARTICIPANT;PARTSTAT=ACCEPTED;RSVP=TRUE;CN=Michele:h
 ttp://njyp.org/profile/MicheleSanto
ATTENDEE;ROLE=REQ-PARTICIPANT;PARTSTAT=ACCEPTED;RSVP=TRUE;CN="Tara Bur
 ns":http://njyp.org/profile/TaraBurns
ATTENDEE;ROLE=REQ-PARTICIPANT;PARTSTAT=ACCEPTED;RSVP=TRUE;CN="Melissa 
 Harley":http://njyp.org/profile/MelissaHarley
ATTENDEE;ROLE=REQ-PARTICIPANT;PARTSTAT=ACCEPTED;RSVP=TRUE;CN=Joanne:ht
 tp://njyp.org/profile/Joanne
ATTENDEE;ROLE=REQ-PARTICIPANT;PARTSTAT=ACCEPTED;RSVP=TRUE;CN="Joe Hanz
 el Troy":http://njyp.org/profile/JosephHanzelDagdagan
ATTENDEE;ROLE=REQ-PARTICIPANT;PARTSTAT=ACCEPTED;RSVP=TRUE;CN="Carrie N
 .":http://njyp.org/profile/CarrieNeigel
ATTENDEE;ROLE=REQ-PARTICIPANT;PARTSTAT=ACCEPTED;RSVP=TRUE;CN=Omar:http
 ://njyp.org/profile/OmarKozarsky
ATTENDEE;ROLE=REQ-PARTICIPANT;PARTSTAT=ACCEPTED;RSVP=TRUE;CN=Tara:http
 ://njyp.org/profile/TaraMorey
ATTENDEE;ROLE=REQ-PARTICIPANT;PARTSTAT=ACCEPTED;RSVP=TRUE;CN="Melissa 
 Veniero":http://njyp.org/profile/MelissaVeniero
ATTENDEE;ROLE=REQ-PARTICIPANT;PARTSTAT=ACCEPTED;RSVP=TRUE;CN="Sarah Mi
 ddleton":http://njyp.org/profile/SarahM
ATTENDEE;ROLE=REQ-PARTICIPANT;PARTSTAT=ACCEPTED;RSVP=TRUE;CN=Rebecca:h
 ttp://njyp.org/profile/Rebecca
ATTENDEE;ROLE=REQ-PARTICIPANT;PARTSTAT=ACCEPTED;RSVP=TRUE;CN="Chris Ko
 ":http://njyp.org/profile/ChrisKo
ATTENDEE;ROLE=REQ-PARTICIPANT;PARTSTAT=ACCEPTED;RSVP=TRUE;CN="Cassie K
 uo":http://njyp.org/profile/CassieKuo
ATTENDEE;ROLE=REQ-PARTICIPANT;PARTSTAT=ACCEPTED;RSVP=TRUE;CN="rachel i
 rene":http://njyp.org/profile/rachel_irene
ATTENDEE;ROLE=REQ-PARTICIPANT;PARTSTAT=ACCEPTED;RSVP=TRUE;CN="Brian an
 d Mike":http://njyp.org/profile/BrianMike
ATTENDEE;ROLE=REQ-PARTICIPANT;PARTSTAT=TENTATIVE;RSVP=TRUE;CN="Serge I
 ":http://njyp.org/profile/SergeI
ATTENDEE;ROLE=REQ-PARTICIPANT;PARTSTAT=TENTATIVE;RSVP=TRUE;CN=Bozena:h
 ttp://njyp.org/profile/Bozena
ATTENDEE;ROLE=REQ-PARTICIPANT;PARTSTAT=TENTATIVE;RSVP=TRUE;CN="Denise 
 Durfee":http://njyp.org/profile/DeniseDurfee
ATTENDEE;ROLE=REQ-PARTICIPANT;PARTSTAT=TENTATIVE;RSVP=TRUE;CN="Abhijit
  Sheth":http://njyp.org/profile/AbhijitSheth
ATTENDEE;ROLE=REQ-PARTICIPANT;PARTSTAT=TENTATIVE;RSVP=TRUE;CN="Andrew 
 Gilchrist IV":http://njyp.org/profile/AndrewGilchristIV
ATTENDEE;ROLE=REQ-PARTICIPANT;PARTSTAT=TENTATIVE;RSVP=TRUE;CN="Mark T"
 :http://njyp.org/profile/MarkTran
ATTENDEE;ROLE=REQ-PARTICIPANT;PARTSTAT=TENTATIVE;RSVP=TRUE;CN="Amanda 
 Taylor":http://njyp.org/profile/AmandaTaylor
ATTENDEE;ROLE=REQ-PARTICIPANT;PARTSTAT=TENTATIVE;RSVP=TRUE;CN="Brittan
 y Burke":http://njyp.org/profile/BrittanyBurke
ATTENDEE;ROLE=REQ-PARTICIPANT;PARTSTAT=TENTATIVE;RSVP=TRUE;CN="Jennife
 r Mesce":http://njyp.org/profile/JenniferMesce
ATTENDEE;ROLE=REQ-PARTICIPANT;PARTSTAT=TENTATIVE;RSVP=TRUE;CN="Michell
 e Summer":http://njyp.org/profile/Michelle494
ATTENDEE;ROLE=REQ-PARTICIPANT;PARTSTAT=TENTATIVE;RSVP=TRUE;CN="Nikki H
 art":http://njyp.org/profile/DomenicaHart
END:VEVENT
END:VCALENDAR
