BEGIN:VCALENDAR
PRODID:NingEventWidget-v1
VERSION:2.0
METHOD:PUBLISH
BEGIN:VTIMEZONE
TZID:America/New_York
X-LIC-LOCATION:America/New_York
BEGIN:DAYLIGHT
TZOFFSETFROM:-0500
TZOFFSETTO:-0400
TZNAME:EDT
DTSTART:19700308T020000
RRULE:FREQ=YEARLY;BYMONTH=3;BYDAY=2SU
END:DAYLIGHT
BEGIN:STANDARD
TZOFFSETFROM:-0400
TZOFFSETTO:-0500
TZNAME:EST
DTSTART:19701101T020000
RRULE:FREQ=YEARLY;BYMONTH=11;BYDAY=1SU
END:STANDARD
END:VTIMEZONE
BEGIN:VEVENT
UID:2938326:Event:153581
DTSTAMP:20260420T023411Z
SUMMARY:4th Annual Spring Wine Festival
DESCRIPTION:New Jersey Wine Festivals - NJâ€™s #1 tasting events prese
 nts the 4th Annual Spring Wine Festival at the Hilton Short Hills feat
 uring an incredible global array of 100+ wines specially selected by t
 he experts of The Wine Library.Â  If tasting that many wines isnâ€™t e
 nough, there will be delicious light hors dâ€™oeuvres artfully prepare
 d by the Hilton's chefs, plus live jazz from 2011 \"Jazz Group of the 
 Year\" nominee TIZER featuring Chieli Minucci (best known as the leade
 r of the contemporary jazz group Special EFX.)You can also upgrade you
 r ticket (additional charge of $30 per ticket applies) to attend an ex
 clusive Wine Class in their private tasting area. Wine expert Barbara 
 Frank, winemaker at Chateau Frank and Dr. Frank's Vinifera Wine Cellar
 sÂ  will guide participants through several specially selected wines,Â
   tracing each to its geographic origin, comparing them to other choic
 es, and noting the best food pairings.Â  (Perfect if you always wanted
  a little vino knowledge to impress your friends and know what wine go
 es with what!)Sip, nibble, mingle, and move to the sounds of smooth ja
 zz!Who Can Attend:Wine lovers 21 and older.Tickets Include:Opportunity
  to taste 100+ specially selected winesLight hors dâ€™oeuvresLive jazz
  from TIZER featuring Chieli MinucciCost:10% off the prices belowâ€“ U
 SE CODE NJYP when purchasing your ticket$69 thru 3/20$79 3/21-4/3$84 4
 /4-4/7Tickets:http://newjerseywinefestivals.com\nAll tickets are e-tic
 kets. Print your e-ticket confirmation and bring to the event with you
 r I.D. (All sales are final.)Directions/Parking: http://www1.hilton.co
 m/en_US/hi/hotel/EWRSHHH-Hilton-Short-Hills-New-Jersey/directions.doCo
 mplimentary self parking on premises.\nÂ \nHow to Find NJYP: This is N
 OT a group event per se. If you wish to attend please organize your ow
 n way to meet up with friends and fellow Members.\n\nFor more informat
 ion visit http://njyp.org/events/4th-annual-spring-wine
DTSTART;TZID=America/New_York:20110408T190000
DTEND;TZID=America/New_York:20110408T230000
CATEGORIES:"essex county", social, educational
LOCATION:Hilton Short Hills
WEBSITE:http://newjerseywinefestivals.com
URL:http://newjerseywinefestivals.com
CONTACT:
ORGANIZER;CN="Brian and Mike":http://njyp.org/profile/BrianMike
ATTACH;FMTTYPE="image/jpeg":http://storage.ning.com/topology/rest/1.0/
 file/get/1088681917?profile=original
ATTENDEE;ROLE=REQ-PARTICIPANT;PARTSTAT=ACCEPTED;RSVP=TRUE;CN="Michael 
 Roselle":http://njyp.org/profile/MichaelRoselle
ATTENDEE;ROLE=REQ-PARTICIPANT;PARTSTAT=ACCEPTED;RSVP=TRUE;CN=Jason:htt
 p://njyp.org/profile/Jason662
ATTENDEE;ROLE=REQ-PARTICIPANT;PARTSTAT=ACCEPTED;RSVP=TRUE;CN="JENNIFER
  tURKISH":http://njyp.org/profile/JENNIFERtURKISH
ATTENDEE;ROLE=REQ-PARTICIPANT;PARTSTAT=ACCEPTED;RSVP=TRUE;CN=Jessica:h
 ttp://njyp.org/profile/JessB
ATTENDEE;ROLE=REQ-PARTICIPANT;PARTSTAT=ACCEPTED;RSVP=TRUE;CN="Rachel W
 eiss":http://njyp.org/profile/RachelWeiss
ATTENDEE;ROLE=REQ-PARTICIPANT;PARTSTAT=ACCEPTED;RSVP=TRUE;CN=Maria:htt
 p://njyp.org/profile/Maria888
ATTENDEE;ROLE=REQ-PARTICIPANT;PARTSTAT=ACCEPTED;RSVP=TRUE;CN="Brian an
 d Mike":http://njyp.org/profile/BrianMike
ATTENDEE;ROLE=REQ-PARTICIPANT;PARTSTAT=TENTATIVE;RSVP=TRUE;CN=Chisoo:h
 ttp://njyp.org/profile/Chisoo
ATTENDEE;ROLE=REQ-PARTICIPANT;PARTSTAT=TENTATIVE;RSVP=TRUE;CN=Andrew:h
 ttp://njyp.org/profile/Andrew780
ATTENDEE;ROLE=REQ-PARTICIPANT;PARTSTAT=TENTATIVE;RSVP=TRUE;CN="Jen Bel
 l":http://njyp.org/profile/jb73
ATTENDEE;ROLE=REQ-PARTICIPANT;PARTSTAT=TENTATIVE;RSVP=TRUE;CN="Allyson
  Burke":http://njyp.org/profile/AllysonBurke
ATTENDEE;ROLE=REQ-PARTICIPANT;PARTSTAT=TENTATIVE;RSVP=TRUE;CN=Digant:h
 ttp://njyp.org/profile/Digant
ATTENDEE;ROLE=REQ-PARTICIPANT;PARTSTAT=TENTATIVE;RSVP=TRUE;CN=Michelle
 :http://njyp.org/profile/MichelleB
ATTENDEE;ROLE=REQ-PARTICIPANT;PARTSTAT=TENTATIVE;RSVP=TRUE;CN=Chase:ht
 tp://njyp.org/profile/Chase
ATTENDEE;ROLE=REQ-PARTICIPANT;PARTSTAT=TENTATIVE;RSVP=TRUE;CN="Brittan
 y Burke":http://njyp.org/profile/BrittanyBurke
ATTENDEE;ROLE=REQ-PARTICIPANT;PARTSTAT=TENTATIVE;RSVP=TRUE;CN=Larry:ht
 tp://njyp.org/profile/LarryYang
ATTENDEE;ROLE=REQ-PARTICIPANT;PARTSTAT=TENTATIVE;RSVP=TRUE;CN=Lauren:h
 ttp://njyp.org/profile/Lauren587
ATTENDEE;ROLE=REQ-PARTICIPANT;PARTSTAT=TENTATIVE;RSVP=TRUE;CN="Michael
  E":http://njyp.org/profile/MichaelEverhart
ATTENDEE;ROLE=REQ-PARTICIPANT;PARTSTAT=TENTATIVE;RSVP=TRUE;CN=Jayson:h
 ttp://njyp.org/profile/Jayson
ATTENDEE;ROLE=REQ-PARTICIPANT;PARTSTAT=TENTATIVE;RSVP=TRUE;CN=Jennifer
 :http://njyp.org/profile/Jennifer622
END:VEVENT
END:VCALENDAR
