BEGIN:VCALENDAR
PRODID:NingEventWidget-v1
VERSION:2.0
METHOD:PUBLISH
BEGIN:VTIMEZONE
TZID:America/New_York
X-LIC-LOCATION:America/New_York
BEGIN:DAYLIGHT
TZOFFSETFROM:-0500
TZOFFSETTO:-0400
TZNAME:EDT
DTSTART:19700308T020000
RRULE:FREQ=YEARLY;BYMONTH=3;BYDAY=2SU
END:DAYLIGHT
BEGIN:STANDARD
TZOFFSETFROM:-0400
TZOFFSETTO:-0500
TZNAME:EST
DTSTART:19701101T020000
RRULE:FREQ=YEARLY;BYMONTH=11;BYDAY=1SU
END:STANDARD
END:VTIMEZONE
BEGIN:VEVENT
UID:2938326:Event:679108
DTSTAMP:20260419T190148Z
SUMMARY:Alvin Ailey (sponsored)
DESCRIPTION:Join us for a pre-show cocktail on the house! From 6:30-8
 pm, stop by NICO before you head to the Alvin Ailey show, drop your bu
 siness card and get a cocktail!\nUSE promote code 20CD for 20% off you
 r ticket to any of the weekend's shows! Courtesy of the NJPAC Communit
 y Engagement department! \n\n\n------------\nAlvin Ailey American Dan
 ce Theater grew from a now-fabled performance in March 1958 at New Yor
 k City’s 92nd Street Y. Led by Alvin Ailey and a group of young Afri
 can-American modern dancers, that performance changed forever the perc
 eption of American dance.\nCelebrate Dance! A series of special events
  welcomes the return of Alvin Ailey American Dance Theater to NJPAC: G
 et Up and Dance! open workshops on April 18; a conversation about the 
 timeless classic Revelations on April 29; and children’s book readin
 gs about Alvin Ailey. Click here for details.\n\nFriday is Young Profe
 ssionals Night! Bring your business card and mingle in the swank surro
 undings of NICO Kitchen + Bar, where drink specials will be offered du
 ring pre-curtain happy hour.\n\nFor more information visit http://njyp
 .org/events/alvin-ailey-sponsored
DTSTART;TZID=America/New_York:20150508T183000
DTEND;TZID=America/New_York:20150508T220000
CATEGORIES:"essex county", social, arts
LOCATION:NJPAC
WEBSITE:http://www.njpac.org/events/detail/alvin-ailey-american-dance-
 theater-2
URL:http://www.njpac.org/events/detail/alvin-ailey-american-dance-thea
 ter-2
CONTACT:
ORGANIZER;CN="Brian and Mike":http://njyp.org/profile/BrianMike
ATTACH;FMTTYPE="image/jpeg":http://storage.ning.com/topology/rest/1.0/
 file/get/1089063542?profile=original
ATTENDEE;ROLE=REQ-PARTICIPANT;PARTSTAT=ACCEPTED;RSVP=TRUE;CN="Brian an
 d Mike":http://njyp.org/profile/BrianMike
END:VEVENT
END:VCALENDAR
