BEGIN:VCALENDAR
PRODID:NingEventWidget-v1
VERSION:2.0
METHOD:PUBLISH
BEGIN:VTIMEZONE
TZID:America/New_York
X-LIC-LOCATION:America/New_York
BEGIN:DAYLIGHT
TZOFFSETFROM:-0500
TZOFFSETTO:-0400
TZNAME:EDT
DTSTART:19700308T020000
RRULE:FREQ=YEARLY;BYMONTH=3;BYDAY=2SU
END:DAYLIGHT
BEGIN:STANDARD
TZOFFSETFROM:-0400
TZOFFSETTO:-0500
TZNAME:EST
DTSTART:19701101T020000
RRULE:FREQ=YEARLY;BYMONTH=11;BYDAY=1SU
END:STANDARD
END:VTIMEZONE
BEGIN:VEVENT
UID:2938326:Event:588
DTSTAMP:20260420T024809Z
SUMMARY:Amazing New York Race
DESCRIPTION:98 members participated in our first race of the year. Che
 ck out the PICTURES from The Amazing NY Race in May, 2008.\n\nJoin us 
 on Sunday June 31, 2008 for The Amazing New York Race - a Scavenger Hu
 nt Adventure through the streets of New York City. At each stop on the
  race, you and your team perform a mental or physical challenge advanc
 ing to the finish line to claim your prize. You can sign up with a gro
 up of up to 4 people or you can sign up alone and we will pair you up 
 with a team the day of the event. (One person per team should have a d
 igital camera). Overall this will be a great way to spend the day and 
 meet new friends... or bond with old ones.\n\n\nRSVP (to the right) an
 d we will let you know when tix are almost gone, when prices are going
  up, if there are any changes, etc.\n\nHow it works:\nWe will break yo
 u up into teams of FOUR (or you can create your own team) and send you
  out on the town. \"A series of clues will lead you to the finish line
  where we will continue to mingle at an after-event mixer.\" Each memb
 er of the winning team receives a prize!\n\nWho should attend:\nThis i
 s NOT a PRIVATE but members of NJYP will be kept on the same teams and
  will receive a separate prize.\nSingle and married members of NJYP an
 d their guests who are 21-39 years old.\nThis is not an event for chil
 dren or pets.\n\nWhat to bring:\nGood running/walking shoes, an all da
 y Metrocard, rain gear (if needed).\nEach team will need to take digit
 al pictures so bring your camera or camera phone.\nOptional items incl
 ude water, backpack, money, sunglasses, etc.\nThe race will last about
  4 hours and at the end everyone will gather for the after-party!!!!\n
 \nInclement Weather:\nThis event is rain or shine! Please come prepare
 d.\n\nMember Cost:\n$15 by 5.13.09\n$20 from 5.14.09 to 5.27.09\n$25 f
 rom 5.28.09 to 5.30.09\n$35 at the Door\n\nNon-Member Cost\n$35 online
  and at the door.\n\nPremium Member Cost:\n$10 by 5.13.09\n$15 from 5.
 14.09 to 5.27.09\n$20 from 5.28.09 to 5.30.09\n$35 at the Door\n\nTick
 ets:\nThere are a limited number of Tickets for sale.\nTickets are not
  mailed, but your name will be kept at the door.\nAll sales are final.
 \n\nVideo from Pogo Events:\n\n\n\nFor more information visit http://n
 jyp.org/events/amazing-new-york-race
DTSTART;TZID=America/New_York:20090531T133000
DTEND;TZID=America/New_York:20090531T183000
CATEGORIES:athletic, social
LOCATION:Meet at Mustang Harry's
WEBSITE:http://www.mustangharrys.com/map.html
URL:http://www.mustangharrys.com/map.html
CONTACT:
ORGANIZER;CN="Brian and Mike":http://njyp.org/profile/BrianMike
ATTACH;FMTTYPE="image/jpeg":http://storage.ning.com/topology/rest/1.0/
 file/get/1088520780?profile=original
ATTENDEE;ROLE=REQ-PARTICIPANT;PARTSTAT=ACCEPTED;RSVP=TRUE;CN="Jill Con
 fer":http://njyp.org/profile/JillConfer
ATTENDEE;ROLE=REQ-PARTICIPANT;PARTSTAT=ACCEPTED;RSVP=TRUE;CN="Serena V
 aldes":http://njyp.org/profile/SerenaValdes
ATTENDEE;ROLE=REQ-PARTICIPANT;PARTSTAT=ACCEPTED;RSVP=TRUE;CN="Robert M
 ederos":http://njyp.org/profile/RobertMederos
ATTENDEE;ROLE=REQ-PARTICIPANT;PARTSTAT=ACCEPTED;RSVP=TRUE;CN="Heidi Ko
 lb":http://njyp.org/profile/HeidiKolb
ATTENDEE;ROLE=REQ-PARTICIPANT;PARTSTAT=ACCEPTED;RSVP=TRUE;CN="Rebecca 
 S. Auerbach":http://njyp.org/profile/RebeccaSAuerbach
ATTENDEE;ROLE=REQ-PARTICIPANT;PARTSTAT=ACCEPTED;RSVP=TRUE;CN="William 
 Askew":http://njyp.org/profile/WilliamAskew
ATTENDEE;ROLE=REQ-PARTICIPANT;PARTSTAT=ACCEPTED;RSVP=TRUE;CN="Sarah Mu
 nch":http://njyp.org/profile/SarahMunch
ATTENDEE;ROLE=REQ-PARTICIPANT;PARTSTAT=ACCEPTED;RSVP=TRUE;CN="Michael 
 Petracca":http://njyp.org/profile/MichaelPetracca
ATTENDEE;ROLE=REQ-PARTICIPANT;PARTSTAT=ACCEPTED;RSVP=TRUE;CN="Sarah K.
  Ober":http://njyp.org/profile/SarahKOber
ATTENDEE;ROLE=REQ-PARTICIPANT;PARTSTAT=TENTATIVE;RSVP=TRUE;CN="Karl  A
  Kraus":http://njyp.org/profile/KarlAKraus
ATTENDEE;ROLE=REQ-PARTICIPANT;PARTSTAT=TENTATIVE;RSVP=TRUE;CN="Angie M
 eyer":http://njyp.org/profile/AngieMeyer
ATTENDEE;ROLE=REQ-PARTICIPANT;PARTSTAT=TENTATIVE;RSVP=TRUE;CN="Sean Co
 ffey":http://njyp.org/profile/SeanCoffey
ATTENDEE;ROLE=REQ-PARTICIPANT;PARTSTAT=TENTATIVE;RSVP=TRUE;CN="Peter E
 skow":http://njyp.org/profile/PeterEskow
END:VEVENT
END:VCALENDAR
