BEGIN:VCALENDAR
PRODID:NingEventWidget-v1
VERSION:2.0
METHOD:PUBLISH
BEGIN:VTIMEZONE
TZID:America/New_York
X-LIC-LOCATION:America/New_York
BEGIN:DAYLIGHT
TZOFFSETFROM:-0500
TZOFFSETTO:-0400
TZNAME:EDT
DTSTART:19700308T020000
RRULE:FREQ=YEARLY;BYMONTH=3;BYDAY=2SU
END:DAYLIGHT
BEGIN:STANDARD
TZOFFSETFROM:-0400
TZOFFSETTO:-0500
TZNAME:EST
DTSTART:19701101T020000
RRULE:FREQ=YEARLY;BYMONTH=11;BYDAY=1SU
END:STANDARD
END:VTIMEZONE
BEGIN:VEVENT
UID:2938326:Event:582978
DTSTAMP:20260422T065017Z
SUMMARY:Anderson's Rooftop Fundraiser (sponsored)
DESCRIPTION:Come enjoy food, drinks, and good company for a cause! A
 nderson’s is hosting an event to raise funds to support partnership 
 with a local Community Supported Agriculture (CSA) project. The funds 
 will go towards starting a community farm that will help educate local
  youth about urban agriculture and nutrition.\n\nAnderson's 1949 -broo
 klyn- is a farm to table catering company that specializes in integr
 ating the freshest ingredients into the most delectable dishes. On Ju
 ly 24th, join Anderson's at their rooftop event at Above Allen as th
 ey work to expand into a brick and mortar. There will be an open bar 
 for the first hour and guests will be entered in a raffle for privat
 e cooking lessons! \n Tickets cost $55 and your attendance will als
 o support an Anderson's 1949 -brooklyn- farm plot that is being cultiv
 ated to teach youth from underserved communities better nutrition by h
 aving them grow, nurture and cook their own produce.\n \nPlease note 
 this is a sponsored event. If you wish to meet up with other NJYP Memb
 ers please post on the event wall.\n\nFor more information visit http:
 //njyp.org/events/anderson-s-rooftop-fundraiser-sponsored
DTSTART;TZID=America/New_York:20140724T193000
DTEND;TZID=America/New_York:20140724T223000
CATEGORIES:sponsored, fundraiser, "hudson county"
LOCATION:Above Allen
WEBSITE:http://www.hostcommittee.com/event/andersons-1949-brooklyn-roo
 ftop-fundraiser/details?user_id=53851ce7f6e4b0e4c5dcb035
URL:http://www.hostcommittee.com/event/andersons-1949-brooklyn-rooftop
 -fundraiser/details?user_id=53851ce7f6e4b0e4c5dcb035
CONTACT:
ORGANIZER;CN=Admin:http://njyp.org/profile/Admin
ATTACH;FMTTYPE="image/jpeg":http://storage.ning.com/topology/rest/1.0/
 file/get/1088994295?profile=original
ATTENDEE;ROLE=REQ-PARTICIPANT;PARTSTAT=ACCEPTED;RSVP=TRUE;CN=Admin:htt
 p://njyp.org/profile/Admin
ATTENDEE;ROLE=REQ-PARTICIPANT;PARTSTAT=TENTATIVE;RSVP=TRUE;CN=Esmerald
 a:http://njyp.org/profile/Esmeralda
ATTENDEE;ROLE=REQ-PARTICIPANT;PARTSTAT=TENTATIVE;RSVP=TRUE;CN=Rachel:h
 ttp://njyp.org/profile/Rachel686
ATTENDEE;ROLE=REQ-PARTICIPANT;PARTSTAT=TENTATIVE;RSVP=TRUE;CN=Kevin:ht
 tp://njyp.org/profile/Kevin164
END:VEVENT
END:VCALENDAR
