BEGIN:VCALENDAR
PRODID:NingEventWidget-v1
VERSION:2.0
METHOD:PUBLISH
BEGIN:VTIMEZONE
TZID:America/New_York
X-LIC-LOCATION:America/New_York
BEGIN:DAYLIGHT
TZOFFSETFROM:-0500
TZOFFSETTO:-0400
TZNAME:EDT
DTSTART:19700308T020000
RRULE:FREQ=YEARLY;BYMONTH=3;BYDAY=2SU
END:DAYLIGHT
BEGIN:STANDARD
TZOFFSETFROM:-0400
TZOFFSETTO:-0500
TZNAME:EST
DTSTART:19701101T020000
RRULE:FREQ=YEARLY;BYMONTH=11;BYDAY=1SU
END:STANDARD
END:VTIMEZONE
BEGIN:VEVENT
UID:2938326:Event:736703
DTSTAMP:20260420T151354Z
SUMMARY:Anniversary Party (FREE DRINK) in Somerville! NJYP TURNS 14!!
DESCRIPTION:New Jersey Young Professionals turns 14! Come celebrate w
 ith us at Social! Enjoy a great evening with awesome YP's and unbeatab
 le drink specials!\r\nFirst Drink FREE From NJYP!\r\nDrink Specials: 
 $3 beer, $5 mixed drinks, select wine\r\nPlay Giant Jenga and Water Po
 ng! \r\n\r\nMember Cost: $5 online vs. $10 at the door\r\nNon-Member
  Cost: $10 online vs. $15 at the door\r\n\r\nWho can attend: Young pr
 ofessionals, single or married, who are 21-39 years of age.\r\nTicket
 s: All sales are final. A limited number of tickets will be sold. This
  event is rain or shine.\n\nFor more information visit http://njyp.org
 /events/anniversarysomerville061518
DTSTART;TZID=America/New_York:20180615T200000
DTEND;TZID=America/New_York:20180615T220000
CATEGORIES:anniversary, party
LOCATION:Social
WEBSITE:
URL:
CONTACT:
ORGANIZER;CN="Brian Melnick":http://njyp.org/profile/Brian1218
ATTACH;FMTTYPE="image/jpeg":http://storage.ning.com/topology/rest/1.0/
 file/get/1089166766?profile=original
ATTENDEE;ROLE=REQ-PARTICIPANT;PARTSTAT=ACCEPTED;RSVP=TRUE;CN=Edwin:htt
 p://njyp.org/profile/Edwin
ATTENDEE;ROLE=REQ-PARTICIPANT;PARTSTAT=ACCEPTED;RSVP=TRUE;CN=Devraj:ht
 tp://njyp.org/profile/Devraj
ATTENDEE;ROLE=REQ-PARTICIPANT;PARTSTAT=ACCEPTED;RSVP=TRUE;CN=John:http
 ://njyp.org/profile/John91
ATTENDEE;ROLE=REQ-PARTICIPANT;PARTSTAT=ACCEPTED;RSVP=TRUE;CN="Brian Me
 lnick":http://njyp.org/profile/Brian1218
ATTENDEE;ROLE=REQ-PARTICIPANT;PARTSTAT=TENTATIVE;RSVP=TRUE;CN="Jordan 
 Chester":http://njyp.org/profile/JordanChester
ATTENDEE;ROLE=REQ-PARTICIPANT;PARTSTAT=TENTATIVE;RSVP=TRUE;CN="Nadia H
 ernandez":http://njyp.org/profile/NadiaHernandez
END:VEVENT
END:VCALENDAR
