BEGIN:VCALENDAR
PRODID:NingEventWidget-v1
VERSION:2.0
METHOD:PUBLISH
BEGIN:VTIMEZONE
TZID:America/New_York
X-LIC-LOCATION:America/New_York
BEGIN:DAYLIGHT
TZOFFSETFROM:-0500
TZOFFSETTO:-0400
TZNAME:EDT
DTSTART:19700308T020000
RRULE:FREQ=YEARLY;BYMONTH=3;BYDAY=2SU
END:DAYLIGHT
BEGIN:STANDARD
TZOFFSETFROM:-0400
TZOFFSETTO:-0500
TZNAME:EST
DTSTART:19701101T020000
RRULE:FREQ=YEARLY;BYMONTH=11;BYDAY=1SU
END:STANDARD
END:VTIMEZONE
BEGIN:VEVENT
UID:2938326:Event:513042
DTSTAMP:20260420T042754Z
SUMMARY:At Your Service: Glen Ridge CANCELED
DESCRIPTION:Sorry everyone, this event has been canceled. Refunds will
  be sent this week.\n\nJoin us for “At Your Service” – where you
 ’ll get to meet one-on-one with local service providers*, from finan
 cial advisers and attorneys to psychologists and nutritionists. Your t
 icket covers more than the five minute meetings; there will be time be
 fore the event to make connections with the other YPs, plus you’ll r
 eceive a $30 Fitzgerald's 1928 gift card just for participating. Good
  for food and drinks, you can use the gift card that night or even sav
 e it for another trip to the restaurant.\n **** This sign-up page is f
 or the young professionals NOT the service providers. If you are a ser
 vice provider* and you want to attend please email AtYourService@NJYP.
 org ***\n \n\nMember Cost (You will receive a $30 Fitzgerald's 1928 g
 ift card upon arrival): $10 online $20 at the door (only if there is s
 pace)  Non-Member Cost (You will receive a  $30 Fitzgerald's 1928 gi
 ft card gift card upon arrival): $15 online $20 at the door (only if 
 there is space)  Who Can Attend: Any young professional who is 21 to 3
 9 years old.  * Who Will You Meet: You will meet 15 to 20 Service Prov
 iders. Possible providers attending include Financial Adviser/Planner,
  Accountant, Business Coach, Attorney, Life Coach, Nutritionist, Recru
 iter, Insurance Agent, Personal Trainer, Mechanic, Handyman, Psycholog
 ist, Realtor, General Doctor, Electrician, Dentist, Chiropractor, Mort
 gage Professional, Psychic.  Tickets: There are a limited number of Ti
 ckets for sale. Tickets are not mailed, but your name will be kept at 
 the door. All sales are final.\n \nHow to Find Us: We will be in a pr
 ivate room. Ask staff where our registration table is.  http://www.fi
 tzgeralds1928.com/\n  \nPlease note that all young professionals wil
 l receive a list of all the evening’s providers but feel free to bri
 ng a pen and notebook, or your handy tablet.\n \n\n\nFor more informa
 tion visit http://njyp.org/events/at-your-service-glen-ridge
DTSTART;TZID=America/New_York:20140224T190000
DTEND;TZID=America/New_York:20140224T210000
CATEGORIES:"essex county", social, networking
LOCATION:Fitzgerald's 1928
WEBSITE:http://www.fitzgeralds1928.com/
URL:http://www.fitzgeralds1928.com/
CONTACT:
ORGANIZER;CN="Brian and Mike":http://njyp.org/profile/BrianMike
ATTACH;FMTTYPE="image/jpeg":http://storage.ning.com/topology/rest/1.0/
 file/get/1088890129?profile=original
ATTENDEE;ROLE=REQ-PARTICIPANT;PARTSTAT=ACCEPTED;RSVP=TRUE;CN=Jamie:htt
 p://njyp.org/profile/Jamie127
ATTENDEE;ROLE=REQ-PARTICIPANT;PARTSTAT=ACCEPTED;RSVP=TRUE;CN="Isaac Be
 arg":http://njyp.org/profile/IsaacBearg
ATTENDEE;ROLE=REQ-PARTICIPANT;PARTSTAT=ACCEPTED;RSVP=TRUE;CN=Walter:ht
 tp://njyp.org/profile/Walter
ATTENDEE;ROLE=REQ-PARTICIPANT;PARTSTAT=ACCEPTED;RSVP=TRUE;CN=Ayanni:ht
 tp://njyp.org/profile/Ayanni
ATTENDEE;ROLE=REQ-PARTICIPANT;PARTSTAT=ACCEPTED;RSVP=TRUE;CN=John:http
 ://njyp.org/profile/JohnE
ATTENDEE;ROLE=REQ-PARTICIPANT;PARTSTAT=ACCEPTED;RSVP=TRUE;CN="Margot G
 alant Levinson":http://njyp.org/profile/MargotGalantLevinson
ATTENDEE;ROLE=REQ-PARTICIPANT;PARTSTAT=ACCEPTED;RSVP=TRUE;CN=Melanie:h
 ttp://njyp.org/profile/Melanie457
ATTENDEE;ROLE=REQ-PARTICIPANT;PARTSTAT=ACCEPTED;RSVP=TRUE;CN="Brian an
 d Mike":http://njyp.org/profile/BrianMike
ATTENDEE;ROLE=REQ-PARTICIPANT;PARTSTAT=TENTATIVE;RSVP=TRUE;CN=Elizabet
 h:http://njyp.org/profile/ElizabethWilliams
ATTENDEE;ROLE=REQ-PARTICIPANT;PARTSTAT=TENTATIVE;RSVP=TRUE;CN=Katrina:
 http://njyp.org/profile/Katrina
END:VEVENT
END:VCALENDAR
