BEGIN:VCALENDAR
PRODID:NingEventWidget-v1
VERSION:2.0
METHOD:PUBLISH
BEGIN:VTIMEZONE
TZID:America/New_York
X-LIC-LOCATION:America/New_York
BEGIN:DAYLIGHT
TZOFFSETFROM:-0500
TZOFFSETTO:-0400
TZNAME:EDT
DTSTART:19700308T020000
RRULE:FREQ=YEARLY;BYMONTH=3;BYDAY=2SU
END:DAYLIGHT
BEGIN:STANDARD
TZOFFSETFROM:-0400
TZOFFSETTO:-0500
TZNAME:EST
DTSTART:19701101T020000
RRULE:FREQ=YEARLY;BYMONTH=11;BYDAY=1SU
END:STANDARD
END:VTIMEZONE
BEGIN:VEVENT
UID:2938326:Event:428285
DTSTAMP:20260421T101610Z
SUMMARY:At Your Service: Where Professionals Meet with Providers
DESCRIPTION:Join us for “At Your Service” – where you’ll get t
 o meet one-on-one with local service providers*, from financial advise
 rs and attorneys to psychologists and nutritionists. You ticket will c
 over more than the five minute meetings; you’ll also receive two dri
 nks and an appetizer just for showing up. Plus - mix, mingle, and make
  connections with the 15 to 20 other YPs who will be attending.  Pleas
 e note that all professionals will receive a list of all the evening
 s providers but feel free to bring a pen and notebook, or your handy 
 tablet.  **** This sign-up page is for the young professionals NOT the
  service providers. If you are a service provider* and you want to att
 end please email AtYourService@NJYP.org ***  \n Cost includes 2 drinks
  from the bar AND 1 appetizer.  Member Cost (cost includes 2 drinks fr
 om the bar and 1 appetizer, tax, and tip): $10 online $20 at the door 
 (only if there is space)  Non-Member Cost (cost includes 2 drinks from
  the bar and 1 appetizer, tax and tip): $15 online $20 at the door (on
 ly if there is space)  Who Can Attend: Any young professional who is 2
 1 to 39 years old.  * Who Will You Meet: You will meet 15 to 20 Servic
 e Providers from this list Financial Adviser/Planner, Accountant, Busi
 ness Coach, Attorney, Life Coach, Nutritionist, Recruiter, Insurance A
 gent, Personal Trainer, Mechanic, Handyman, Psychologist, Realtor, Gen
 eral Doctor, Electrician, Dentist, Chiropractor, Mortgage Professional
 , Psychic.  Tickets: There are a limited number of Tickets for sale. T
 ickets are not mailed, but your name will be kept at the door. All sal
 es are final.  How to Find Us: Meet in Qube Lounge at the Hyatt. 7pm r
 egistration will occur in Qube and then the group will move to a priva
 te room so please be on time. http://www.morristown.hyatt.com/hyatt/ho
 tels/index.jsp  Directions and Parking: There is street parking but th
 e Hyatt also has underground parking. They often will validate parking
  for our group at the hotel registration desk (but no promises).\n\nFo
 r more information visit http://njyp.org/events/at-your-service-where-
 professionals-meet-with-providers
DTSTART;TZID=America/New_York:20130415T190000
DTEND;TZID=America/New_York:20130415T210000
CATEGORIES:"morris county", networking, educational
LOCATION:Qube Lounge at the Hyatt (Headquarters Plaza)
WEBSITE:http://morristown.hyatt.com/hyatt/hotels-morristown/index.jsp?
 hyattprop=yes
URL:http://morristown.hyatt.com/hyatt/hotels-morristown/index.jsp?hyat
 tprop=yes
CONTACT:
ORGANIZER;CN="Brian and Mike":http://njyp.org/profile/BrianMike
ATTACH;FMTTYPE="image/jpeg":http://storage.ning.com/topology/rest/1.0/
 file/get/1088850549?profile=original
ATTENDEE;ROLE=REQ-PARTICIPANT;PARTSTAT=ACCEPTED;RSVP=TRUE;CN=Robert:ht
 tp://njyp.org/profile/Robert452
ATTENDEE;ROLE=REQ-PARTICIPANT;PARTSTAT=ACCEPTED;RSVP=TRUE;CN=Alicia:ht
 tp://njyp.org/profile/Alicia362
ATTENDEE;ROLE=REQ-PARTICIPANT;PARTSTAT=ACCEPTED;RSVP=TRUE;CN=Ryan:http
 ://njyp.org/profile/Ryan10
ATTENDEE;ROLE=REQ-PARTICIPANT;PARTSTAT=ACCEPTED;RSVP=TRUE;CN=Luigi:htt
 p://njyp.org/profile/Luigi
ATTENDEE;ROLE=REQ-PARTICIPANT;PARTSTAT=ACCEPTED;RSVP=TRUE;CN=David:htt
 p://njyp.org/profile/David212
ATTENDEE;ROLE=REQ-PARTICIPANT;PARTSTAT=ACCEPTED;RSVP=TRUE;CN=Ben:http:
 //njyp.org/profile/Ben
ATTENDEE;ROLE=REQ-PARTICIPANT;PARTSTAT=ACCEPTED;RSVP=TRUE;CN=Najla:htt
 p://njyp.org/profile/Najla
ATTENDEE;ROLE=REQ-PARTICIPANT;PARTSTAT=ACCEPTED;RSVP=TRUE;CN=Dan:http:
 //njyp.org/profile/Dan751
ATTENDEE;ROLE=REQ-PARTICIPANT;PARTSTAT=ACCEPTED;RSVP=TRUE;CN=Ayanni:ht
 tp://njyp.org/profile/Ayanni
ATTENDEE;ROLE=REQ-PARTICIPANT;PARTSTAT=ACCEPTED;RSVP=TRUE;CN="Lori Sin
 clair":http://njyp.org/profile/LoriSinclair
ATTENDEE;ROLE=REQ-PARTICIPANT;PARTSTAT=ACCEPTED;RSVP=TRUE;CN="Lisa E":
 http://njyp.org/profile/Lisa816
ATTENDEE;ROLE=REQ-PARTICIPANT;PARTSTAT=ACCEPTED;RSVP=TRUE;CN=Serena:ht
 tp://njyp.org/profile/Serena
ATTENDEE;ROLE=REQ-PARTICIPANT;PARTSTAT=ACCEPTED;RSVP=TRUE;CN="Janet St
 evens":http://njyp.org/profile/JanetStevens
ATTENDEE;ROLE=REQ-PARTICIPANT;PARTSTAT=ACCEPTED;RSVP=TRUE;CN=Catalina:
 http://njyp.org/profile/CatalinaCandela
ATTENDEE;ROLE=REQ-PARTICIPANT;PARTSTAT=ACCEPTED;RSVP=TRUE;CN=Cindy:htt
 p://njyp.org/profile/Cindy147
ATTENDEE;ROLE=REQ-PARTICIPANT;PARTSTAT=ACCEPTED;RSVP=TRUE;CN=Dylan:htt
 p://njyp.org/profile/Dylan
ATTENDEE;ROLE=REQ-PARTICIPANT;PARTSTAT=ACCEPTED;RSVP=TRUE;CN=Rebecca:h
 ttp://njyp.org/profile/Rebecca
ATTENDEE;ROLE=REQ-PARTICIPANT;PARTSTAT=ACCEPTED;RSVP=TRUE;CN=Marie:htt
 p://njyp.org/profile/Marie810
ATTENDEE;ROLE=REQ-PARTICIPANT;PARTSTAT=ACCEPTED;RSVP=TRUE;CN="Brian an
 d Mike":http://njyp.org/profile/BrianMike
ATTENDEE;ROLE=REQ-PARTICIPANT;PARTSTAT=TENTATIVE;RSVP=TRUE;CN="Jeffrey
  Gates":http://njyp.org/profile/JeffreyGates
ATTENDEE;ROLE=REQ-PARTICIPANT;PARTSTAT=TENTATIVE;RSVP=TRUE;CN="Justin 
 Lejava":http://njyp.org/profile/JustinLejava
ATTENDEE;ROLE=REQ-PARTICIPANT;PARTSTAT=TENTATIVE;RSVP=TRUE;CN=Katie:ht
 tp://njyp.org/profile/Katie743
ATTENDEE;ROLE=REQ-PARTICIPANT;PARTSTAT=TENTATIVE;RSVP=TRUE;CN="Kiera H
 artnett":http://njyp.org/profile/KieraHartnett
END:VEVENT
END:VCALENDAR
