BEGIN:VCALENDAR
PRODID:NingEventWidget-v1
VERSION:2.0
METHOD:PUBLISH
BEGIN:VTIMEZONE
TZID:America/New_York
X-LIC-LOCATION:America/New_York
BEGIN:DAYLIGHT
TZOFFSETFROM:-0500
TZOFFSETTO:-0400
TZNAME:EDT
DTSTART:19700308T020000
RRULE:FREQ=YEARLY;BYMONTH=3;BYDAY=2SU
END:DAYLIGHT
BEGIN:STANDARD
TZOFFSETFROM:-0400
TZOFFSETTO:-0500
TZNAME:EST
DTSTART:19701101T020000
RRULE:FREQ=YEARLY;BYMONTH=11;BYDAY=1SU
END:STANDARD
END:VTIMEZONE
BEGIN:VEVENT
UID:2938326:Event:362379
DTSTAMP:20260422T095601Z
SUMMARY:Balloon Festival
DESCRIPTION:The NJ Festival of Ballooning is a 3 day event that featur
 es food, music, vendors, and of course hot air balloons! Gather up you
 r NJYP friends and head over any day you can. We are using the NJYP ev
 ent calendar as a way to bring those interested together.\nTickets: ht
 tp://www.balloonfestival.com/tickets/  Daily Schedules: http://www.bal
 loonfestival.com/entertainment/daily/\n\nBalloon Glow (Saturday only):
  The signature event at a hot air balloon festival, the balloon glow h
 as been compared to Christmas in July or flickering Japanese lanterns.
  At predetermined signals, the pilots blast the propane burners, which
  releases a burst of fire into the balloon. The balloons \"glow\" like
  huge fireflies, a truly magical scene, and one not to be missed! The 
 balloon glow occurs during the Saturday evening concert beginning at s
 undown.  Balloon Ascensions: The balloons go up at 6:30 a.m & 6:30 p.m
  (depending on weather conditions).  What to bring: Outside food and d
 rink are NOT permitted (you can buy food/drink inside). The concerts a
 re lawn seating (unless you buy a seat for the concert) so bring blank
 et and beach/lawn chairs.  What goes on at the festival other than wat
 ching the balloons: The Quick Chek New Jersey Festival of Ballooning i
 s \"more than hot air\" because it offers a wide variety of entertainm
 ent. There is truly something for everyone! From colorful hot air ball
 oons ascending twice daily to 3 headline concerts EDDIE MONEY, SMOKEY 
 ROBINSON and BRET MICHAELS, to world-class children's entertainment in
 cluding concerts by R5 and ICONIC BOYZ, to hundred's of arts & crafter
 s, to food vendors from around the world, fireworks, balloon glows and
  more, to amusement rides, we guarantee non-stop entertainment for the
  entire family! Visit our Detailed Schedule for a complete list of ent
 ertainment.  Questions: Check out the FAQ and website, http://www.ball
 oonfestival.com/info/faq/  Directions/Parking: http://www.balloonfesti
 val.com/info/directions/\n\nFor more information visit http://njyp.org
 /events/balloon-festival-1
DTSTART;TZID=America/New_York:20120727T000000
DTEND;TZID=America/New_York:20120729T235900
CATEGORIES:"hunterdon county", social, "other county"
LOCATION:Solberg Airport
WEBSITE:http://www.balloonfestival.com/
URL:http://www.balloonfestival.com/
CONTACT:
ORGANIZER;CN="Brian and Mike":http://njyp.org/profile/BrianMike
ATTACH;FMTTYPE="image/jpeg":http://storage.ning.com/topology/rest/1.0/
 file/get/1088787629?profile=original
ATTENDEE;ROLE=REQ-PARTICIPANT;PARTSTAT=ACCEPTED;RSVP=TRUE;CN="Paul Mar
 ciano":http://njyp.org/profile/PaulMarciano
ATTENDEE;ROLE=REQ-PARTICIPANT;PARTSTAT=ACCEPTED;RSVP=TRUE;CN=Faris:htt
 p://njyp.org/profile/Faris
ATTENDEE;ROLE=REQ-PARTICIPANT;PARTSTAT=ACCEPTED;RSVP=TRUE;CN=Franco:ht
 tp://njyp.org/profile/Franco
ATTENDEE;ROLE=REQ-PARTICIPANT;PARTSTAT=ACCEPTED;RSVP=TRUE;CN=Erin:http
 ://njyp.org/profile/ErinLen
ATTENDEE;ROLE=REQ-PARTICIPANT;PARTSTAT=ACCEPTED;RSVP=TRUE;CN="Lauren S
 eabrooks":http://njyp.org/profile/LaurenSeabrooks
ATTENDEE;ROLE=REQ-PARTICIPANT;PARTSTAT=ACCEPTED;RSVP=TRUE;CN=Chandra:h
 ttp://njyp.org/profile/Chandra
ATTENDEE;ROLE=REQ-PARTICIPANT;PARTSTAT=ACCEPTED;RSVP=TRUE;CN="Nicole F
 ulmino":http://njyp.org/profile/NicoleFulmino
ATTENDEE;ROLE=REQ-PARTICIPANT;PARTSTAT=ACCEPTED;RSVP=TRUE;CN=Elizabeth
 :http://njyp.org/profile/ElizabethWilliams
ATTENDEE;ROLE=REQ-PARTICIPANT;PARTSTAT=TENTATIVE;RSVP=TRUE;CN=Ayanni:h
 ttp://njyp.org/profile/Ayanni
ATTENDEE;ROLE=REQ-PARTICIPANT;PARTSTAT=TENTATIVE;RSVP=TRUE;CN=Raj:http
 ://njyp.org/profile/Raj516
ATTENDEE;ROLE=REQ-PARTICIPANT;PARTSTAT=TENTATIVE;RSVP=TRUE;CN=Tracy:ht
 tp://njyp.org/profile/TracyAdams
ATTENDEE;ROLE=REQ-PARTICIPANT;PARTSTAT=TENTATIVE;RSVP=TRUE;CN=Jackie:h
 ttp://njyp.org/profile/Jackie184
ATTENDEE;ROLE=REQ-PARTICIPANT;PARTSTAT=TENTATIVE;RSVP=TRUE;CN=Dylan:ht
 tp://njyp.org/profile/Dylan
ATTENDEE;ROLE=REQ-PARTICIPANT;PARTSTAT=TENTATIVE;RSVP=TRUE;CN=Madelein
 e:http://njyp.org/profile/Madeleine
ATTENDEE;ROLE=REQ-PARTICIPANT;PARTSTAT=TENTATIVE;RSVP=TRUE;CN=Faina:ht
 tp://njyp.org/profile/Faina
ATTENDEE;ROLE=REQ-PARTICIPANT;PARTSTAT=TENTATIVE;RSVP=TRUE;CN="Jenna C
 lausen":http://njyp.org/profile/JennaClausen
ATTENDEE;ROLE=REQ-PARTICIPANT;PARTSTAT=TENTATIVE;RSVP=TRUE;CN=Priya:ht
 tp://njyp.org/profile/Priya
ATTENDEE;ROLE=REQ-PARTICIPANT;PARTSTAT=TENTATIVE;RSVP=TRUE;CN="Kevin H
 aughwout":http://njyp.org/profile/KevinHaughwout
ATTENDEE;ROLE=REQ-PARTICIPANT;PARTSTAT=TENTATIVE;RSVP=TRUE;CN=Kalpana:
 http://njyp.org/profile/Kalpana
ATTENDEE;ROLE=REQ-PARTICIPANT;PARTSTAT=TENTATIVE;RSVP=TRUE;CN=Trudy:ht
 tp://njyp.org/profile/Trudy
ATTENDEE;ROLE=REQ-PARTICIPANT;PARTSTAT=TENTATIVE;RSVP=TRUE;CN="Kevin P
 . Hallam":http://njyp.org/profile/KevinPHallam
ATTENDEE;ROLE=REQ-PARTICIPANT;PARTSTAT=TENTATIVE;RSVP=TRUE;CN=Lizzie:h
 ttp://njyp.org/profile/ElizabethKuhns
ATTENDEE;ROLE=REQ-PARTICIPANT;PARTSTAT=TENTATIVE;RSVP=TRUE;CN=Robert:h
 ttp://njyp.org/profile/Robert882
ATTENDEE;ROLE=REQ-PARTICIPANT;PARTSTAT=TENTATIVE;RSVP=TRUE;CN=Kevin:ht
 tp://njyp.org/profile/Kevin84
ATTENDEE;ROLE=REQ-PARTICIPANT;PARTSTAT=TENTATIVE;RSVP=TRUE;CN=Vincenza
 :http://njyp.org/profile/Vincenza
END:VEVENT
END:VCALENDAR
