BEGIN:VCALENDAR
PRODID:NingEventWidget-v1
VERSION:2.0
METHOD:PUBLISH
BEGIN:VTIMEZONE
TZID:America/New_York
X-LIC-LOCATION:America/New_York
BEGIN:DAYLIGHT
TZOFFSETFROM:-0500
TZOFFSETTO:-0400
TZNAME:EDT
DTSTART:19700308T020000
RRULE:FREQ=YEARLY;BYMONTH=3;BYDAY=2SU
END:DAYLIGHT
BEGIN:STANDARD
TZOFFSETFROM:-0400
TZOFFSETTO:-0500
TZNAME:EST
DTSTART:19701101T020000
RRULE:FREQ=YEARLY;BYMONTH=11;BYDAY=1SU
END:STANDARD
END:VTIMEZONE
BEGIN:VEVENT
UID:2938326:Event:579570
DTSTAMP:20260420T091443Z
SUMMARY:Balloon Festival (sponsored)
DESCRIPTION:The QuickChek New Jersey Festival of Ballooning is a 3 day
  event that features food, music, vendors, and of course hot air ballo
 ons! Gather up your NJYP friends and head over any day you can. We are
  using the NJYP event calendar as a way to bring those interested toge
 ther.\nTickets: http://www.balloonfestival.com/tickets/general/  Daily
  Schedules: http://www.balloonfestival.com/entertainment/daily/\nBallo
 on Glow (Saturday only): The signature event at a hot air balloon fest
 ival, the balloon glow has been compared to Christmas in July or flick
 ering Japanese lanterns. At predetermined signals, the pilots blast th
 e propane burners, which releases a burst of fire into the balloon. Th
 e balloons \"glow\" like huge fireflies, a truly magical scene, and on
 e not to be missed! The balloon glow occurs during the Saturday evenin
 g concert beginning at sundown.  Balloon Ascensions: The balloons go u
 p at 6:30 a.m & 6:30 p.m (depending on weather conditions).  What to b
 ring: Outside food and drink are NOT permitted (you can buy food/drink
  inside). The concerts are lawn seating (unless you buy a seat for the
  concert) so bring blanket and beach/lawn chairs.  What goes on at the
  festival other than watching the balloons: The Quick Chek New Jersey 
 Festival of Ballooning is \"more than hot air\" because it offers a wi
 de variety of entertainment. There is truly something for everyone! Fr
 om colorful hot air balloons ascending twice daily to 3 headline conce
 rts AMERICA, 3 DOORS DOWN, and JOAN JETT & THE BLACKHEARTS, to world-c
 lass children's entertainment including Hot Chelle Rae, to hundreds of
  arts & crafters, to food vendors from around the world, fireworks, ba
 lloon glows and more, to amusement rides, we guarantee non-stop entert
 ainment for the entire family! Visit our Detailed Schedule for a compl
 ete list of entertainment.  Questions: Check out the FAQ and website, 
 http://www.balloonfestival.com/info/faq/  Directions/Parking: http://w
 ww.balloonfestival.com/info/directions/\n\nThis is a sponsored event p
 osting. If you wish to meet up with other Members of NJYP please conta
 ct them through the NJYP website.\n\nFor more information visit http:/
 /njyp.org/events/balloon-festival-3
DTSTART;TZID=America/New_York:20140725T000000
DTEND;TZID=America/New_York:20140727T235900
CATEGORIES:"hunterdon county", social, other, county
LOCATION:Solberg Airport
WEBSITE:http://www.balloonfestival.com
URL:http://www.balloonfestival.com
CONTACT:
ORGANIZER;CN=Admin:http://njyp.org/profile/Admin
ATTACH;FMTTYPE="image/jpeg":http://storage.ning.com/topology/rest/1.0/
 file/get/1088986348?profile=original
ATTENDEE;ROLE=REQ-PARTICIPANT;PARTSTAT=ACCEPTED;RSVP=TRUE;CN="Kevin Ha
 ughwout":http://njyp.org/profile/KevinHaughwout
ATTENDEE;ROLE=REQ-PARTICIPANT;PARTSTAT=ACCEPTED;RSVP=TRUE;CN=Jeremy:ht
 tp://njyp.org/profile/Jeremy501
ATTENDEE;ROLE=REQ-PARTICIPANT;PARTSTAT=ACCEPTED;RSVP=TRUE;CN="Vinudas 
 Akde":http://njyp.org/profile/VinudasAkde
ATTENDEE;ROLE=REQ-PARTICIPANT;PARTSTAT=ACCEPTED;RSVP=TRUE;CN="Louis C.
  Hochman":http://njyp.org/profile/LouisCHochman
ATTENDEE;ROLE=REQ-PARTICIPANT;PARTSTAT=ACCEPTED;RSVP=TRUE;CN=Anagha:ht
 tp://njyp.org/profile/Anagha
ATTENDEE;ROLE=REQ-PARTICIPANT;PARTSTAT=ACCEPTED;RSVP=TRUE;CN=Keira:htt
 p://njyp.org/profile/Keira
ATTENDEE;ROLE=REQ-PARTICIPANT;PARTSTAT=ACCEPTED;RSVP=TRUE;CN=Brian:htt
 p://njyp.org/profile/BrianWeber
ATTENDEE;ROLE=REQ-PARTICIPANT;PARTSTAT=ACCEPTED;RSVP=TRUE;CN=Christine
 :http://njyp.org/profile/Christine4
ATTENDEE;ROLE=REQ-PARTICIPANT;PARTSTAT=ACCEPTED;RSVP=TRUE;CN=Jennie:ht
 tp://njyp.org/profile/junglebunnie
ATTENDEE;ROLE=REQ-PARTICIPANT;PARTSTAT=ACCEPTED;RSVP=TRUE;CN=Michelle:
 http://njyp.org/profile/Michelle50
ATTENDEE;ROLE=REQ-PARTICIPANT;PARTSTAT=ACCEPTED;RSVP=TRUE;CN=James:htt
 p://njyp.org/profile/JamesShow
ATTENDEE;ROLE=REQ-PARTICIPANT;PARTSTAT=ACCEPTED;RSVP=TRUE;CN="Raquyyah
  Griffin":http://njyp.org/profile/RaquyyahGriffin
ATTENDEE;ROLE=REQ-PARTICIPANT;PARTSTAT=ACCEPTED;RSVP=TRUE;CN=Admin:htt
 p://njyp.org/profile/Admin
ATTENDEE;ROLE=REQ-PARTICIPANT;PARTSTAT=TENTATIVE;RSVP=TRUE;CN=Ziawei:h
 ttp://njyp.org/profile/Ziawei
ATTENDEE;ROLE=REQ-PARTICIPANT;PARTSTAT=TENTATIVE;RSVP=TRUE;CN=Kevin:ht
 tp://njyp.org/profile/Kevin164
ATTENDEE;ROLE=REQ-PARTICIPANT;PARTSTAT=TENTATIVE;RSVP=TRUE;CN=Johanna:
 http://njyp.org/profile/Johanna509
END:VEVENT
END:VCALENDAR
