BEGIN:VCALENDAR
PRODID:NingEventWidget-v1
VERSION:2.0
METHOD:PUBLISH
BEGIN:VTIMEZONE
TZID:America/New_York
X-LIC-LOCATION:America/New_York
BEGIN:DAYLIGHT
TZOFFSETFROM:-0500
TZOFFSETTO:-0400
TZNAME:EDT
DTSTART:19700308T020000
RRULE:FREQ=YEARLY;BYMONTH=3;BYDAY=2SU
END:DAYLIGHT
BEGIN:STANDARD
TZOFFSETFROM:-0400
TZOFFSETTO:-0500
TZNAME:EST
DTSTART:19701101T020000
RRULE:FREQ=YEARLY;BYMONTH=11;BYDAY=1SU
END:STANDARD
END:VTIMEZONE
BEGIN:VEVENT
UID:2938326:Event:10776
DTSTAMP:20260420T215547Z
SUMMARY:Balloon Festival Weekend
DESCRIPTION:This is not a \"Group\" event but I encourage everyone to 
 go!\n\n\n\n\nFor more information visit http://njyp.org/events/balloon
 -festival-weekend
DTSTART;TZID=America/New_York:20090724T060000
DTEND;TZID=America/New_York:20090726T180000
CATEGORIES:"hunterdon county", social
LOCATION:Solberg Airport
WEBSITE:http://prod1.agileticketing.net/WebSales/Pages/EntryPoint.aspx
 ?guid=25a871ef-056d-4f31-b4da-80692510045b&
URL:http://prod1.agileticketing.net/WebSales/Pages/EntryPoint.aspx?gui
 d=25a871ef-056d-4f31-b4da-80692510045b&
CONTACT:
ORGANIZER;CN="Brian and Mike":http://njyp.org/profile/BrianMike
ATTACH;FMTTYPE="image/jpeg":http://storage.ning.com/topology/rest/1.0/
 file/get/1088543373?profile=original
ATTENDEE;ROLE=REQ-PARTICIPANT;PARTSTAT=ACCEPTED;RSVP=TRUE;CN="Brian an
 d Mike":http://njyp.org/profile/BrianMike
END:VEVENT
END:VCALENDAR
