BEGIN:VCALENDAR
PRODID:NingEventWidget-v1
VERSION:2.0
METHOD:PUBLISH
BEGIN:VTIMEZONE
TZID:America/New_York
X-LIC-LOCATION:America/New_York
BEGIN:DAYLIGHT
TZOFFSETFROM:-0500
TZOFFSETTO:-0400
TZNAME:EDT
DTSTART:19700308T020000
RRULE:FREQ=YEARLY;BYMONTH=3;BYDAY=2SU
END:DAYLIGHT
BEGIN:STANDARD
TZOFFSETFROM:-0400
TZOFFSETTO:-0500
TZNAME:EST
DTSTART:19701101T020000
RRULE:FREQ=YEARLY;BYMONTH=11;BYDAY=1SU
END:STANDARD
END:VTIMEZONE
BEGIN:VEVENT
UID:2938326:Event:80932
DTSTAMP:20260420T042810Z
SUMMARY:Balloon Festival
DESCRIPTION:The NJ Festival of Ballooning is a 3 day event that featur
 es food, music, vendors, and of course hot air balloons! Gather up you
 r NJYP friends and head over any day you can. We are using the NJYP ev
 ent calendar as a way to bring those interested together.\n\nTickets:\
 nhttp://www.balloonfestival.com/tickets/\n\nDaily Schedules:\nhttp://w
 ww.balloonfestival.com/entertainment/daily/\n\nBalloon Glow (Saturday 
 only):\nThe signature event at a hot air balloon festival, the balloon
  glow has been compared to Christmas in July or flickering Japanese la
 nterns. At predetermined signals, the pilots blast the propane burners
 , which releases a burst of fire into the balloon. The balloons \"glow
 \" like huge fireflies, a truly magical scene, and one not to be misse
 d! The balloon glow occurs during the Saturday evening concert beginni
 ng at sundown.\n\nBalloon Ascensions:\nThe balloons go up at 6:30 a.m 
 & 6:30 p.m (depending on weather conditions).\n\nWhat to bring:\nOutsi
 de food and drink are NOT permitted (you can buy food/drink inside).\n
 The concerts are lawn seating (unless you buy a seat for the concert) 
 so bring blanket and beach/lawn chairs.\n\nWhat goes on at the festiva
 l other than watching the balloons:\nThe Quick Chek New Jersey Festiva
 l of Ballooning is \"more than hot air\" because it offers a wide vari
 ety of entertainment. There is truly something for everyone! From colo
 rful hot air balloons ascending twice daily to 3 headline concerts, to
  world-class children's entertainment, to hundred's of arts & crafters
 , to food vendors from around the world, to twice daily old time barns
 torming air shows, fireworks, balloon glows and more, to amusement rid
 es, we guarantee non-stop entertainment for the entire family! Visit o
 ur Detailed Schedule for a complete list of entertainment.\n\nQuestion
 s:\nCheck out the FAQ and website, http://www.balloonfestival.com/info
 /faq/\n\nDirections/Parking:\nhttp://www.balloonfestival.com/info/dire
 ctions/\n\nHOW TO FIND NJYP:\nThis is NOT a group event per se. If you
  wish to attend please organize your own way to meet up with friends a
 nd fellow Members.\n\nFor more information visit http://njyp.org/event
 s/balloon-festival
DTSTART;TZID=America/New_York:20100724T060000
DTEND;TZID=America/New_York:20100724T210000
CATEGORIES:"hunterdon county", social
LOCATION:Solberg Airport
WEBSITE:http://www.balloonfestival.com/
URL:http://www.balloonfestival.com/
CONTACT:
ORGANIZER;CN="Brian and Mike":http://njyp.org/profile/BrianMike
ATTACH;FMTTYPE="image/jpeg":http://storage.ning.com/topology/rest/1.0/
 file/get/1088629346?profile=original
ATTENDEE;ROLE=REQ-PARTICIPANT;PARTSTAT=ACCEPTED;RSVP=TRUE;CN="Janet St
 evens":http://njyp.org/profile/JanetStevens
ATTENDEE;ROLE=REQ-PARTICIPANT;PARTSTAT=ACCEPTED;RSVP=TRUE;CN="Jessica 
 S.":http://njyp.org/profile/Jessica896
ATTENDEE;ROLE=REQ-PARTICIPANT;PARTSTAT=ACCEPTED;RSVP=TRUE;CN=Kelley:ht
 tp://njyp.org/profile/KelleyBoyle
ATTENDEE;ROLE=REQ-PARTICIPANT;PARTSTAT=ACCEPTED;RSVP=TRUE;CN=Alexandra
 :http://njyp.org/profile/Alexandra689
ATTENDEE;ROLE=REQ-PARTICIPANT;PARTSTAT=ACCEPTED;RSVP=TRUE;CN=Jaime:htt
 p://njyp.org/profile/Jaime507
ATTENDEE;ROLE=REQ-PARTICIPANT;PARTSTAT=ACCEPTED;RSVP=TRUE;CN="Allison 
 Froehlich":http://njyp.org/profile/AllisonFroehlich
ATTENDEE;ROLE=REQ-PARTICIPANT;PARTSTAT=ACCEPTED;RSVP=TRUE;CN=Becky:htt
 p://njyp.org/profile/BeckyCapuano
ATTENDEE;ROLE=REQ-PARTICIPANT;PARTSTAT=ACCEPTED;RSVP=TRUE;CN="Dennis L
 ee":http://njyp.org/profile/leeden
ATTENDEE;ROLE=REQ-PARTICIPANT;PARTSTAT=TENTATIVE;RSVP=TRUE;CN="Chris P
 oorten":http://njyp.org/profile/ChrisPoorten
ATTENDEE;ROLE=REQ-PARTICIPANT;PARTSTAT=TENTATIVE;RSVP=TRUE;CN="Dana Ge
 orge":http://njyp.org/profile/DanaGeorge
ATTENDEE;ROLE=REQ-PARTICIPANT;PARTSTAT=TENTATIVE;RSVP=TRUE;CN=Jonathan
 :http://njyp.org/profile/Jonathan
ATTENDEE;ROLE=REQ-PARTICIPANT;PARTSTAT=TENTATIVE;RSVP=TRUE;CN="Brian a
 nd Mike":http://njyp.org/profile/BrianMike
ATTENDEE;ROLE=REQ-PARTICIPANT;PARTSTAT=TENTATIVE;RSVP=TRUE;CN="Jennife
 r Redmond":http://njyp.org/profile/JenniferRedmond
ATTENDEE;ROLE=REQ-PARTICIPANT;PARTSTAT=TENTATIVE;RSVP=TRUE;CN=Viktoria
 :http://njyp.org/profile/Viktoria
ATTENDEE;ROLE=REQ-PARTICIPANT;PARTSTAT=TENTATIVE;RSVP=TRUE;CN="Jahnavi
  Utukuri":http://njyp.org/profile/JahnaviUtukuri
ATTENDEE;ROLE=REQ-PARTICIPANT;PARTSTAT=TENTATIVE;RSVP=TRUE;CN=Karen:ht
 tp://njyp.org/profile/Karen
ATTENDEE;ROLE=REQ-PARTICIPANT;PARTSTAT=TENTATIVE;RSVP=TRUE;CN=Huma:htt
 p://njyp.org/profile/HumaEhsan
ATTENDEE;ROLE=REQ-PARTICIPANT;PARTSTAT=TENTATIVE;RSVP=TRUE;CN=Diana:ht
 tp://njyp.org/profile/Diana
ATTENDEE;ROLE=REQ-PARTICIPANT;PARTSTAT=TENTATIVE;RSVP=TRUE;CN=Leah:htt
 p://njyp.org/profile/LeahZ
ATTENDEE;ROLE=REQ-PARTICIPANT;PARTSTAT=TENTATIVE;RSVP=TRUE;CN="Jennife
 r L. Campbell":http://njyp.org/profile/JenniferLCampbell
ATTENDEE;ROLE=REQ-PARTICIPANT;PARTSTAT=TENTATIVE;RSVP=TRUE;CN=Lena:htt
 p://njyp.org/profile/Lena
ATTENDEE;ROLE=REQ-PARTICIPANT;PARTSTAT=TENTATIVE;RSVP=TRUE;CN=Lizzie:h
 ttp://njyp.org/profile/ElizabethKuhns
ATTENDEE;ROLE=REQ-PARTICIPANT;PARTSTAT=TENTATIVE;RSVP=TRUE;CN=Heather:
 http://njyp.org/profile/Heather308
ATTENDEE;ROLE=REQ-PARTICIPANT;PARTSTAT=TENTATIVE;RSVP=TRUE;CN="rachel 
 irene":http://njyp.org/profile/rachel_irene
END:VEVENT
END:VCALENDAR
