BEGIN:VCALENDAR
PRODID:NingEventWidget-v1
VERSION:2.0
METHOD:PUBLISH
BEGIN:VTIMEZONE
TZID:America/New_York
X-LIC-LOCATION:America/New_York
BEGIN:DAYLIGHT
TZOFFSETFROM:-0500
TZOFFSETTO:-0400
TZNAME:EDT
DTSTART:19700308T020000
RRULE:FREQ=YEARLY;BYMONTH=3;BYDAY=2SU
END:DAYLIGHT
BEGIN:STANDARD
TZOFFSETFROM:-0400
TZOFFSETTO:-0500
TZNAME:EST
DTSTART:19701101T020000
RRULE:FREQ=YEARLY;BYMONTH=11;BYDAY=1SU
END:STANDARD
END:VTIMEZONE
BEGIN:VEVENT
UID:2938326:Event:537077
DTSTAMP:20260419T223858Z
SUMMARY:BAM Social Sports 2nd Anniversary (Sponsored)
DESCRIPTION:Celebrate the 2 year anniversary of BAM Social Sports! Enj
 oy drink and food specials, raffle prizes, beer pong, shuffleboard, co
 rnhole, and fun people! BAM Social Sports offers co-ed rec sports lea
 gues in a social atmosphere with post-game happy hours! Sports include
  Kickball, Dodgeball, Volleyball, Softball, Basketball, Flag Football,
  Soccer, Floor Hockey, and More! \n\nDrink Specials: 50 CENT DRAFT He
 ineken and Dos XX.\nFood Specials: FREE Appetizers\n\nForm a team with
  your friends or coworkers or register as a “Free Agent” to be pla
 ced on a team of new friends! View upcoming leagues at www.bamsocials
 ports.com\n\nThere is no cost to attend but make sure to register at w
 ww.bamsocialsports.com/events in advance.  This event is open to eve
 ryone so bring your friends and celebrate with BAM Social Sports!\n\nP
 lease note this is a sponsored event. If you wish to meet up with othe
 r NJYP Members please post on the event wall.\n\nFor more information 
 visit http://njyp.org/events/bam-social-sports-2nd-anniversary-sponsor
 ed
DTSTART;TZID=America/New_York:20140509T193000
DTEND;TZID=America/New_York:20140509T213000
CATEGORIES:"somerset county", athletic
LOCATION:Green Knoll Grill
WEBSITE:http://www.bamsocialsports.com
URL:http://www.bamsocialsports.com
CONTACT:
ORGANIZER;CN=Admin:http://njyp.org/profile/Admin
ATTACH;FMTTYPE="image/jpeg":http://storage.ning.com/topology/rest/1.0/
 file/get/1088951684?profile=original
ATTENDEE;ROLE=REQ-PARTICIPANT;PARTSTAT=ACCEPTED;RSVP=TRUE;CN=Admin:htt
 p://njyp.org/profile/Admin
ATTENDEE;ROLE=REQ-PARTICIPANT;PARTSTAT=ACCEPTED;RSVP=TRUE;CN="Brian Me
 lnick":http://njyp.org/profile/Brian1218
ATTENDEE;ROLE=REQ-PARTICIPANT;PARTSTAT=ACCEPTED;RSVP=TRUE;CN=Edward:ht
 tp://njyp.org/profile/EKotwica
ATTENDEE;ROLE=REQ-PARTICIPANT;PARTSTAT=TENTATIVE;RSVP=TRUE;CN=Chris:ht
 tp://njyp.org/profile/Chris394
ATTENDEE;ROLE=REQ-PARTICIPANT;PARTSTAT=TENTATIVE;RSVP=TRUE;CN=Caela:ht
 tp://njyp.org/profile/Caela
ATTENDEE;ROLE=REQ-PARTICIPANT;PARTSTAT=TENTATIVE;RSVP=TRUE;CN=Joseph:h
 ttp://njyp.org/profile/JosephTakach
END:VEVENT
END:VCALENDAR
