BEGIN:VCALENDAR
PRODID:NingEventWidget-v1
VERSION:2.0
METHOD:PUBLISH
BEGIN:VTIMEZONE
TZID:America/New_York
X-LIC-LOCATION:America/New_York
BEGIN:DAYLIGHT
TZOFFSETFROM:-0500
TZOFFSETTO:-0400
TZNAME:EDT
DTSTART:19700308T020000
RRULE:FREQ=YEARLY;BYMONTH=3;BYDAY=2SU
END:DAYLIGHT
BEGIN:STANDARD
TZOFFSETFROM:-0400
TZOFFSETTO:-0500
TZNAME:EST
DTSTART:19701101T020000
RRULE:FREQ=YEARLY;BYMONTH=11;BYDAY=1SU
END:STANDARD
END:VTIMEZONE
BEGIN:VEVENT
UID:2938326:Event:717775
DTSTAMP:20260419T235753Z
SUMMARY:BAM Social Sports 4th Anniversary Party
DESCRIPTION:Come celebrate the 4th Anniversary of BAM Social Sports! E
 njoy happy hour drink and food specials all night, plus BEER PONG and 
 GIANT JENGA!\n\n\nFor more information visit http://njyp.org/events/ba
 m-social-sports-4th-anniversary-party
DTSTART;TZID=America/New_York:20160506T190000
DTEND;TZID=America/New_York:20160506T220000
CATEGORIES:anniversary, party
LOCATION:Office Beer Bar and Grill
WEBSITE:https://www.google.com/maps/place/Office+Beer+Bar+%26+Grill/@4
 0.5754893,-74.5544503,17z/data=!3m1!4b1!4m2!3m1!1s0x89c3bf98b54475cf:0
 x1b9cd67bee36fb6d
URL:https://www.google.com/maps/place/Office+Beer+Bar+%26+Grill/@40.57
 54893,-74.5544503,17z/data=!3m1!4b1!4m2!3m1!1s0x89c3bf98b54475cf:0x1b9
 cd67bee36fb6d
CONTACT:
ORGANIZER;CN="Brian Melnick":http://njyp.org/profile/Brian1218
ATTACH;FMTTYPE="image/jpeg":http://storage.ning.com/topology/rest/1.0/
 file/get/1089114771?profile=original
ATTENDEE;ROLE=REQ-PARTICIPANT;PARTSTAT=ACCEPTED;RSVP=TRUE;CN="Michael 
 Park":http://njyp.org/profile/MichaelPark
ATTENDEE;ROLE=REQ-PARTICIPANT;PARTSTAT=ACCEPTED;RSVP=TRUE;CN="Brian Me
 lnick":http://njyp.org/profile/Brian1218
ATTENDEE;ROLE=REQ-PARTICIPANT;PARTSTAT=TENTATIVE;RSVP=TRUE;CN=Robert:h
 ttp://njyp.org/profile/Robert882
END:VEVENT
END:VCALENDAR
