BEGIN:VCALENDAR
PRODID:NingEventWidget-v1
VERSION:2.0
METHOD:PUBLISH
BEGIN:VTIMEZONE
TZID:America/New_York
X-LIC-LOCATION:America/New_York
BEGIN:DAYLIGHT
TZOFFSETFROM:-0500
TZOFFSETTO:-0400
TZNAME:EDT
DTSTART:19700308T020000
RRULE:FREQ=YEARLY;BYMONTH=3;BYDAY=2SU
END:DAYLIGHT
BEGIN:STANDARD
TZOFFSETFROM:-0400
TZOFFSETTO:-0500
TZNAME:EST
DTSTART:19701101T020000
RRULE:FREQ=YEARLY;BYMONTH=11;BYDAY=1SU
END:STANDARD
END:VTIMEZONE
BEGIN:VEVENT
UID:2938326:Event:719526
DTSTAMP:20260419T221408Z
SUMMARY:Beer Pong Tournament in Bridgewater
DESCRIPTION:Pong Tournament hosted by BAM Social Sports\nRegister HER
 E\nwww.bamsocialsports.com/events\nWhen: Friday June 3rd. 7:00pm-10p
 m (or whenever the tournament is completed). Register online or at the
  event. Check-in from 7:00-7:30pm.  Please arrive on time!    Where
 : The Office Beer Bar and Grill. 728 Thompson Ave. Bound Brook NJ.  
  Entry Fee: $10 per team. $5 per person or Free Agent.   PRIZE: FRE
 E BAM League for each winning participant, plus other prizes TBD.   F
 ormat: 6 cup double elimination - 10 cup for championship. *Format ma
 y vary depending on number of teams.\nHappy Hour food and drink specia
 ls will be offered to participants. Wrist bands will be handed out.\n
 ***It is mandatory that water is in cups during tournament play*** \n
 \nFor more information visit http://njyp.org/events/beer-pong-tourname
 nt-in-bridgewater
DTSTART;TZID=America/New_York:20160603T190000
DTEND;TZID=America/New_York:20160603T220000
CATEGORIES:beer, pong, tournament, bam
LOCATION:Office Beer Bar and Grill
WEBSITE:
URL:
CONTACT:
ORGANIZER;CN="Brian Melnick":http://njyp.org/profile/Brian1218
ATTACH;FMTTYPE="image/jpeg":http://storage.ning.com/topology/rest/1.0/
 file/get/1089117057?profile=original
ATTENDEE;ROLE=REQ-PARTICIPANT;PARTSTAT=ACCEPTED;RSVP=TRUE;CN="Brian Me
 lnick":http://njyp.org/profile/Brian1218
ATTENDEE;ROLE=REQ-PARTICIPANT;PARTSTAT=ACCEPTED;RSVP=TRUE;CN="Michael 
 Park":http://njyp.org/profile/MichaelPark
END:VEVENT
END:VCALENDAR
