BEGIN:VCALENDAR
PRODID:NingEventWidget-v1
VERSION:2.0
METHOD:PUBLISH
BEGIN:VTIMEZONE
TZID:America/New_York
X-LIC-LOCATION:America/New_York
BEGIN:DAYLIGHT
TZOFFSETFROM:-0500
TZOFFSETTO:-0400
TZNAME:EDT
DTSTART:19700308T020000
RRULE:FREQ=YEARLY;BYMONTH=3;BYDAY=2SU
END:DAYLIGHT
BEGIN:STANDARD
TZOFFSETFROM:-0400
TZOFFSETTO:-0500
TZNAME:EST
DTSTART:19701101T020000
RRULE:FREQ=YEARLY;BYMONTH=11;BYDAY=1SU
END:STANDARD
END:VTIMEZONE
BEGIN:VEVENT
UID:2938326:Event:324253
DTSTAMP:20260419T122521Z
SUMMARY:Beginners 5K with Dr.Kevin
DESCRIPTION:New to running or just getting back to it? Join Dr. Kevin 
 as he leads a small group on a short 3 mile run.  The pace will be ea
 sy and those who can't keep up or want to go faster can do so as the g
 roup will run out then run back on the same path.  At the end everyon
 e will drive over to Whole Foods for some healthy juices and conversat
 ion with Dr. Kevin (check out his blog on Couch to 5Kindnesses). Membe
 r Cost: $5 online Non-Member Cost: $10 Are you a Sideliner or Player? 
 Go here for ticket discount info, http://www.njyp.org/group/the-better
 -body-challenge-main-group Tickets: There are a limited number of Tick
 ets for sale. Tickets are not mailed, but your name will be kept at th
 e door. All sales are final. Who can Attend: This will be a beginners 
 run. Women or men who are 21 to 39 years old may participate. This wil
 l be a private event just for our organization. What to bring: Please 
 dress in athletic clothing, including sneakers. Bring a towel and a bo
 ttle of water to keep in your car. Post-Event (at your cost): Lets hea
 d over to the Ridgwood Whole Foods for a healthy breakfast and juice. 
 http://wholefoodsmarket.com/stores/ridgewood/ How to find the Group:Me
 et us by the park sign that sits along Ridgewood Ave. Please be prompt
 , we will not wait for latecomers. Lots of free parking!\n \n\n\nFor 
 more information visit http://njyp.org/events/beginners-5k-with-dr-kev
 in
DTSTART;TZID=America/New_York:20120311T100000
DTEND;TZID=America/New_York:20120311T120000
CATEGORIES:"bergen county", athletic, bbc
LOCATION:Duck Pond Area of the Saddle River Co Park
WEBSITE:http://www.co.bergen.nj.us/bcparks/maps/WildDuckPond.pdf
URL:http://www.co.bergen.nj.us/bcparks/maps/WildDuckPond.pdf
CONTACT:
ORGANIZER;CN="Brian and Mike":http://njyp.org/profile/BrianMike
ATTACH;FMTTYPE="image/jpeg":http://storage.ning.com/topology/rest/1.0/
 file/get/1088759546?profile=original
ATTENDEE;ROLE=REQ-PARTICIPANT;PARTSTAT=ACCEPTED;RSVP=TRUE;CN=Julie:htt
 p://njyp.org/profile/Julie942
ATTENDEE;ROLE=REQ-PARTICIPANT;PARTSTAT=ACCEPTED;RSVP=TRUE;CN=Jessica:h
 ttp://njyp.org/profile/JessB
ATTENDEE;ROLE=REQ-PARTICIPANT;PARTSTAT=ACCEPTED;RSVP=TRUE;CN=Faris:htt
 p://njyp.org/profile/Faris
ATTENDEE;ROLE=REQ-PARTICIPANT;PARTSTAT=ACCEPTED;RSVP=TRUE;CN="NIcole V
 innal":http://njyp.org/profile/NIcoleVinnal
ATTENDEE;ROLE=REQ-PARTICIPANT;PARTSTAT=ACCEPTED;RSVP=TRUE;CN="Lisa E":
 http://njyp.org/profile/Lisa816
ATTENDEE;ROLE=REQ-PARTICIPANT;PARTSTAT=ACCEPTED;RSVP=TRUE;CN=Keri:http
 ://njyp.org/profile/Keri690
ATTENDEE;ROLE=REQ-PARTICIPANT;PARTSTAT=ACCEPTED;RSVP=TRUE;CN=Amanda:ht
 tp://njyp.org/profile/Amanda710
ATTENDEE;ROLE=REQ-PARTICIPANT;PARTSTAT=ACCEPTED;RSVP=TRUE;CN="Brian an
 d Mike":http://njyp.org/profile/BrianMike
ATTENDEE;ROLE=REQ-PARTICIPANT;PARTSTAT=TENTATIVE;RSVP=TRUE;CN=Avi:http
 ://njyp.org/profile/Avi556
ATTENDEE;ROLE=REQ-PARTICIPANT;PARTSTAT=TENTATIVE;RSVP=TRUE;CN=Danielle
 :http://njyp.org/profile/Danielle472
ATTENDEE;ROLE=REQ-PARTICIPANT;PARTSTAT=TENTATIVE;RSVP=TRUE;CN=Lissa:ht
 tp://njyp.org/profile/Lissa
ATTENDEE;ROLE=REQ-PARTICIPANT;PARTSTAT=TENTATIVE;RSVP=TRUE;CN=Chelise:
 http://njyp.org/profile/Chelise
ATTENDEE;ROLE=REQ-PARTICIPANT;PARTSTAT=TENTATIVE;RSVP=TRUE;CN="Gael Bu
 rman":http://njyp.org/profile/GaelBurman
ATTENDEE;ROLE=REQ-PARTICIPANT;PARTSTAT=TENTATIVE;RSVP=TRUE;CN=Dejan:ht
 tp://njyp.org/profile/Dejan
ATTENDEE;ROLE=REQ-PARTICIPANT;PARTSTAT=TENTATIVE;RSVP=TRUE;CN=Susan:ht
 tp://njyp.org/profile/Susan617
END:VEVENT
END:VCALENDAR
