BEGIN:VCALENDAR
PRODID:NingEventWidget-v1
VERSION:2.0
METHOD:PUBLISH
BEGIN:VTIMEZONE
TZID:America/New_York
X-LIC-LOCATION:America/New_York
BEGIN:DAYLIGHT
TZOFFSETFROM:-0500
TZOFFSETTO:-0400
TZNAME:EDT
DTSTART:19700308T020000
RRULE:FREQ=YEARLY;BYMONTH=3;BYDAY=2SU
END:DAYLIGHT
BEGIN:STANDARD
TZOFFSETFROM:-0400
TZOFFSETTO:-0500
TZNAME:EST
DTSTART:19701101T020000
RRULE:FREQ=YEARLY;BYMONTH=11;BYDAY=1SU
END:STANDARD
END:VTIMEZONE
BEGIN:VEVENT
UID:2938326:Event:177449
DTSTAMP:20260419T235701Z
SUMMARY:Belay Certification Class
DESCRIPTION:So sorry everyone but this has been canceled due to lack o
 f interest.  We'll do it again next winter.\n \nA good workout. An o
 riginal experience. New friends. Come climb with us to score this perf
 ect trifecta of goodness!  At our private Belay Certification Class t
 he Members of NJYP will learn everything needed in order to climb whil
 e gaining lots of hands-on practice.  By the end this event everyone 
 will be Belay Certified* and ready to return to Gravity Vault in the f
 uture with new friends.\n \nMember Cost:\n$35 per person\nNo Walk-in; 
 online registration is required\n \nNon-Member cost:\n$40 per person\
 nNo Walk-in; online registration is required\n \nTickets:\nThere are 
 a limited number of Tickets for sale. Tickets are not mailed, but your
  name will be kept at the door. All sales are final.\n \nWhat You Get
 :\n* Instruction on rope management in small groups of 5\n* Hands on p
 ractice\n* All the equipment you will need\n* Stick around after the c
 lass to practice climbing\n \nWhat to Bring/Wear:\nLeave your valuabl
 es at home.\nWear clothing that allows you to move freely; think gym c
 lothes.\nSneakers are required.\nBottled water is suggested (reusable 
 bottles like those from Camelbak are great).\n \nSchedule:\n6:45 Meet
  and Greet\n7:00 Lesson Begins\n9:00 Open Climb!\n \nHow to Find the 
 Group:\nAsk staff for the private NJYP class once you arrive.\n \nDir
 ections:\nFree parking but it is limited so arrive early or try to car
 pool.\nChatham location -http://www.gravityvault.com/information_direc
 tions/\n \n* After the class everyone is certified.  The next two ti
 mes you come back, you get checked by staff to make sure you remember 
 everything from class; the checks usually take about two minutes.\n\nF
 or more information visit http://njyp.org/events/belay-certification-c
 lass-2
DTSTART;TZID=America/New_York:20110510T184500
DTEND;TZID=America/New_York:20110510T220000
CATEGORIES:"morris county", social, athletic
LOCATION:Gravity Vault
WEBSITE:http://www.gravityvault.com/information_directions/
URL:http://www.gravityvault.com/information_directions/
CONTACT:
ORGANIZER;CN="Brian and Mike":http://njyp.org/profile/BrianMike
ATTACH;FMTTYPE="image/jpeg":http://storage.ning.com/topology/rest/1.0/
 file/get/1088691781?profile=original
ATTENDEE;ROLE=REQ-PARTICIPANT;PARTSTAT=ACCEPTED;RSVP=TRUE;CN="Jenna Cl
 ausen":http://njyp.org/profile/JennaClausen
ATTENDEE;ROLE=REQ-PARTICIPANT;PARTSTAT=ACCEPTED;RSVP=TRUE;CN=Patricia:
 http://njyp.org/profile/TrishaOSha
ATTENDEE;ROLE=REQ-PARTICIPANT;PARTSTAT=ACCEPTED;RSVP=TRUE;CN=Dharm:htt
 p://njyp.org/profile/DharmeshMistry
ATTENDEE;ROLE=REQ-PARTICIPANT;PARTSTAT=ACCEPTED;RSVP=TRUE;CN="Brian an
 d Mike":http://njyp.org/profile/BrianMike
ATTENDEE;ROLE=REQ-PARTICIPANT;PARTSTAT=TENTATIVE;RSVP=TRUE;CN=Phillip:
 http://njyp.org/profile/Phillip725
ATTENDEE;ROLE=REQ-PARTICIPANT;PARTSTAT=TENTATIVE;RSVP=TRUE;CN=Viola:ht
 tp://njyp.org/profile/Viola
ATTENDEE;ROLE=REQ-PARTICIPANT;PARTSTAT=TENTATIVE;RSVP=TRUE;CN=Bob:http
 ://njyp.org/profile/Bob
ATTENDEE;ROLE=REQ-PARTICIPANT;PARTSTAT=TENTATIVE;RSVP=TRUE;CN=Heather:
 http://njyp.org/profile/Heather276
ATTENDEE;ROLE=REQ-PARTICIPANT;PARTSTAT=TENTATIVE;RSVP=TRUE;CN="Joe Ebe
 rly":http://njyp.org/profile/JoeEberly
ATTENDEE;ROLE=REQ-PARTICIPANT;PARTSTAT=TENTATIVE;RSVP=TRUE;CN=Jonathan
 :http://njyp.org/profile/Jonathan
ATTENDEE;ROLE=REQ-PARTICIPANT;PARTSTAT=TENTATIVE;RSVP=TRUE;CN=Chisoo:h
 ttp://njyp.org/profile/Chisoo
ATTENDEE;ROLE=REQ-PARTICIPANT;PARTSTAT=TENTATIVE;RSVP=TRUE;CN=Dylan:ht
 tp://njyp.org/profile/Dylan
ATTENDEE;ROLE=REQ-PARTICIPANT;PARTSTAT=TENTATIVE;RSVP=TRUE;CN="Jon Ber
 rian":http://njyp.org/profile/JonBerrian
ATTENDEE;ROLE=REQ-PARTICIPANT;PARTSTAT=TENTATIVE;RSVP=TRUE;CN=Robert:h
 ttp://njyp.org/profile/Robert367
ATTENDEE;ROLE=REQ-PARTICIPANT;PARTSTAT=TENTATIVE;RSVP=TRUE;CN=akhtar:h
 ttp://njyp.org/profile/nasser
ATTENDEE;ROLE=REQ-PARTICIPANT;PARTSTAT=TENTATIVE;RSVP=TRUE;CN=Kinnari:
 http://njyp.org/profile/KinnariDesai
ATTENDEE;ROLE=REQ-PARTICIPANT;PARTSTAT=TENTATIVE;RSVP=TRUE;CN=Dejan:ht
 tp://njyp.org/profile/Dejan
ATTENDEE;ROLE=REQ-PARTICIPANT;PARTSTAT=TENTATIVE;RSVP=TRUE;CN=Chrissa:
 http://njyp.org/profile/Chrissa
ATTENDEE;ROLE=REQ-PARTICIPANT;PARTSTAT=TENTATIVE;RSVP=TRUE;CN=MISTI:ht
 tp://njyp.org/profile/MISTI
END:VEVENT
END:VCALENDAR
