BEGIN:VCALENDAR
PRODID:NingEventWidget-v1
VERSION:2.0
METHOD:PUBLISH
BEGIN:VTIMEZONE
TZID:America/New_York
X-LIC-LOCATION:America/New_York
BEGIN:DAYLIGHT
TZOFFSETFROM:-0500
TZOFFSETTO:-0400
TZNAME:EDT
DTSTART:19700308T020000
RRULE:FREQ=YEARLY;BYMONTH=3;BYDAY=2SU
END:DAYLIGHT
BEGIN:STANDARD
TZOFFSETFROM:-0400
TZOFFSETTO:-0500
TZNAME:EST
DTSTART:19701101T020000
RRULE:FREQ=YEARLY;BYMONTH=11;BYDAY=1SU
END:STANDARD
END:VTIMEZONE
BEGIN:VEVENT
UID:2938326:Event:332204
DTSTAMP:20260420T040819Z
SUMMARY:Belly-Busting Boot Camp
DESCRIPTION:So sorry, this was canceled due to lack of interest.\n\n\n
 SWEAT, SMILE, and LEARN proper techniques with DMC’s groundbreaking 
 BOOTCAMP class. This class takes exercises developed by our physical t
 herapists and has our functional exercise specialist turn it into a KI
 CK BUTT, CORE SPECIFIC, TOTAL BODY workout.\nExpect a fun, upbeat clas
 s that will take your training to the next level. Jam packed with exer
 cises that keep your core tight, and work the whole body. All of this 
 in just a one hour workout, perfect for you busy young professionals.\
 n \nWho Can Attend: This will be a private class for NJYP Members and
  their guests.\n \n\nMember Cost: $10 online $20 at the door and the 
 day of\n \nNon-Member Cost: $20 online and at the door\n \nAre you a
  Sideliner or Player? Go here for ticket discount info, http://www.njy
 p.org/group/the-better-body-challenge-main-group\n\nWhat to Wear/Bring
 : Workout clothes and clean sneakers. Water and towels will be provide
 d. Showers are available.\n \nBonus: DMC is also offering 3 FREE PERS
 ONAL TRAINING OR GROUP TRAINING SESSIONS. Call 973-984-0400 or contact
  Andrew@dmcrehab.com for information.\n \nDirections: Take a left on 
 Pine St. directly after the Dublin Pub into their private parking lot.
  www.dmcrehab.com\n\nFor more information visit http://njyp.org/events
 /belly-busting-boot-camp
DTSTART;TZID=America/New_York:20120407T114500
DTEND;TZID=America/New_York:20120407T133000
CATEGORIES:"morris county", athletic, bbc
LOCATION:DMC
WEBSITE:http://dmcrehab.com/location
URL:http://dmcrehab.com/location
CONTACT:
ORGANIZER;CN="Brian and Mike":http://njyp.org/profile/BrianMike
ATTACH;FMTTYPE="image/jpeg":http://storage.ning.com/topology/rest/1.0/
 file/get/1088769740?profile=original
ATTENDEE;ROLE=REQ-PARTICIPANT;PARTSTAT=ACCEPTED;RSVP=TRUE;CN=Patrice:h
 ttp://njyp.org/profile/Patrice
ATTENDEE;ROLE=REQ-PARTICIPANT;PARTSTAT=ACCEPTED;RSVP=TRUE;CN=Leah:http
 ://njyp.org/profile/Leah53
ATTENDEE;ROLE=REQ-PARTICIPANT;PARTSTAT=ACCEPTED;RSVP=TRUE;CN=Faina:htt
 p://njyp.org/profile/Faina
ATTENDEE;ROLE=REQ-PARTICIPANT;PARTSTAT=ACCEPTED;RSVP=TRUE;CN="Jenny Ma
 rie":http://njyp.org/profile/JennyMarie82
ATTENDEE;ROLE=REQ-PARTICIPANT;PARTSTAT=TENTATIVE;RSVP=TRUE;CN=David:ht
 tp://njyp.org/profile/DavidKasten
ATTENDEE;ROLE=REQ-PARTICIPANT;PARTSTAT=TENTATIVE;RSVP=TRUE;CN=Danielle
 :http://njyp.org/profile/Danielle818
ATTENDEE;ROLE=REQ-PARTICIPANT;PARTSTAT=TENTATIVE;RSVP=TRUE;CN=Sara:htt
 p://njyp.org/profile/SaraLevenstein
ATTENDEE;ROLE=REQ-PARTICIPANT;PARTSTAT=TENTATIVE;RSVP=TRUE;CN="Nelly G
 alan":http://njyp.org/profile/NellyGalan
ATTENDEE;ROLE=REQ-PARTICIPANT;PARTSTAT=TENTATIVE;RSVP=TRUE;CN=Rebecca:
 http://njyp.org/profile/theRebecca
ATTENDEE;ROLE=REQ-PARTICIPANT;PARTSTAT=TENTATIVE;RSVP=TRUE;CN="Jessica
  Gill":http://njyp.org/profile/JessicaGill
END:VEVENT
END:VCALENDAR
