BEGIN:VCALENDAR
PRODID:NingEventWidget-v1
VERSION:2.0
METHOD:PUBLISH
BEGIN:VTIMEZONE
TZID:America/New_York
X-LIC-LOCATION:America/New_York
BEGIN:DAYLIGHT
TZOFFSETFROM:-0500
TZOFFSETTO:-0400
TZNAME:EDT
DTSTART:19700308T020000
RRULE:FREQ=YEARLY;BYMONTH=3;BYDAY=2SU
END:DAYLIGHT
BEGIN:STANDARD
TZOFFSETFROM:-0400
TZOFFSETTO:-0500
TZNAME:EST
DTSTART:19701101T020000
RRULE:FREQ=YEARLY;BYMONTH=11;BYDAY=1SU
END:STANDARD
END:VTIMEZONE
BEGIN:VEVENT
UID:2938326:Event:324067
DTSTAMP:20260420T021729Z
SUMMARY:Better Body Challenge - Halfway Mark Weigh In
DESCRIPTION:The Better Body Challenge is half way over! Want to see wh
 ere you rank and how far you've come?  Then show-up to one of our wei
 gh-ins. The Players who are leading will receive a complimentary ticke
 t to The Garden State GreenFest http://www.gardenstategreenfest.com/ B
 ecause being good to our bodies and good to the planet go hand in hand
 .  Who Can Participate: This weigh-in is open to Players and Sideliner
 s who are part of the BBC.   Become a Sideliner (it is too late to bec
 ome a Player): Becoming a “Sideliner” is perfect for anyone who is
  looking for weight-loss support without the competition, but they can
 not win prizes.  For only $10 - that’s less than two value meals at
  McDonald’s, and a lot better for you too - you get: •    Invit
 es to special events, from workouts to workshops to meet and greets; 
     Access to the 2 remaining Weigh-ins, but they’re all option
 al:  3/4/12, and 4/15/12; •    Complimentary entry to our \"End 
 of the Better Body Challenge Bash\"; •    Access to private Bette
 r Body Challenge NJYP message boards (receive tips and support, find w
 orkout partners, etc.)  Weigh-in Schedule (location details are here):
  Paramus: 9:45 Morristown: 11:30 Piscataway: 12:45 Montclair: 2:45\n\n
 For more information visit http://njyp.org/events/better-body-challeng
 e-halfway-mark-weigh-in
DTSTART;TZID=America/New_York:20120304T094500
DTEND;TZID=America/New_York:20120304T150000
CATEGORIES:athletic, educational, "morris county", "middlesex county",
  "essex county", "bergen county"
LOCATION:Across New Jersey
WEBSITE:http://www.njyp.org/page/better-body-challenge-halfway-mark-we
 igh-in
URL:http://www.njyp.org/page/better-body-challenge-halfway-mark-weigh-
 in
CONTACT:
ORGANIZER;CN="Brian and Mike":http://njyp.org/profile/BrianMike
ATTACH;FMTTYPE="image/jpeg":http://storage.ning.com/topology/rest/1.0/
 file/get/1088741680?profile=original
ATTENDEE;ROLE=REQ-PARTICIPANT;PARTSTAT=ACCEPTED;RSVP=TRUE;CN="Joao-Pie
 rre Ruth":http://njyp.org/profile/JoaoPierreRuth
ATTENDEE;ROLE=REQ-PARTICIPANT;PARTSTAT=ACCEPTED;RSVP=TRUE;CN=Peter:htt
 p://njyp.org/profile/PeterMcDonnell
ATTENDEE;ROLE=REQ-PARTICIPANT;PARTSTAT=ACCEPTED;RSVP=TRUE;CN=Chelise:h
 ttp://njyp.org/profile/Chelise
ATTENDEE;ROLE=REQ-PARTICIPANT;PARTSTAT=ACCEPTED;RSVP=TRUE;CN=Diana:htt
 p://njyp.org/profile/Diana437
ATTENDEE;ROLE=REQ-PARTICIPANT;PARTSTAT=ACCEPTED;RSVP=TRUE;CN=Stephanie
 :http://njyp.org/profile/Stephanie516
ATTENDEE;ROLE=REQ-PARTICIPANT;PARTSTAT=ACCEPTED;RSVP=TRUE;CN="Gael Bur
 man":http://njyp.org/profile/GaelBurman
ATTENDEE;ROLE=REQ-PARTICIPANT;PARTSTAT=ACCEPTED;RSVP=TRUE;CN=Susan:htt
 p://njyp.org/profile/Susan617
ATTENDEE;ROLE=REQ-PARTICIPANT;PARTSTAT=ACCEPTED;RSVP=TRUE;CN=Keri:http
 ://njyp.org/profile/Keri690
ATTENDEE;ROLE=REQ-PARTICIPANT;PARTSTAT=ACCEPTED;RSVP=TRUE;CN=Danielle:
 http://njyp.org/profile/Danielle818
ATTENDEE;ROLE=REQ-PARTICIPANT;PARTSTAT=ACCEPTED;RSVP=TRUE;CN=Amanda:ht
 tp://njyp.org/profile/Amanda710
ATTENDEE;ROLE=REQ-PARTICIPANT;PARTSTAT=ACCEPTED;RSVP=TRUE;CN=Sheila:ht
 tp://njyp.org/profile/Sheila
ATTENDEE;ROLE=REQ-PARTICIPANT;PARTSTAT=ACCEPTED;RSVP=TRUE;CN="NIcole V
 innal":http://njyp.org/profile/NIcoleVinnal
ATTENDEE;ROLE=REQ-PARTICIPANT;PARTSTAT=ACCEPTED;RSVP=TRUE;CN=John:http
 ://njyp.org/profile/JohnE
ATTENDEE;ROLE=REQ-PARTICIPANT;PARTSTAT=ACCEPTED;RSVP=TRUE;CN="Brian an
 d Mike":http://njyp.org/profile/BrianMike
END:VEVENT
END:VCALENDAR
