BEGIN:VCALENDAR
PRODID:NingEventWidget-v1
VERSION:2.0
METHOD:PUBLISH
BEGIN:VTIMEZONE
TZID:America/New_York
X-LIC-LOCATION:America/New_York
BEGIN:DAYLIGHT
TZOFFSETFROM:-0500
TZOFFSETTO:-0400
TZNAME:EDT
DTSTART:19700308T020000
RRULE:FREQ=YEARLY;BYMONTH=3;BYDAY=2SU
END:DAYLIGHT
BEGIN:STANDARD
TZOFFSETFROM:-0400
TZOFFSETTO:-0500
TZNAME:EST
DTSTART:19701101T020000
RRULE:FREQ=YEARLY;BYMONTH=11;BYDAY=1SU
END:STANDARD
END:VTIMEZONE
BEGIN:VEVENT
UID:2938326:Event:301924
DTSTAMP:20260420T023548Z
SUMMARY:Black and White Party
DESCRIPTION:Our annual Black and White Party is BACK for the 5th year 
 in a row! Expect a crowd dressed from head to toe in BLACK and WHITE. 
 Expect BLACK and WHITE decorations, treats, and drink specials! Expect
  a crowd of 100+ who will stick around to dance dance dance! And of co
 urse we are bringing back our famous \"Resolution Wall\" where all wil
 l use a BLACK marker to anonymously write down one thing they want to 
 accomplish in 2011. We'll then tape the resolutions up on a wall for a
 ll to enjoy. Overall this will once again be one of the most talked ab
 out events that is NTBM (not to be missed).Who can attend:Anyone who i
 s 21 to 39 years old, single or married.What to wear:BLACK and/or WHIT
 E clothing from head to toe!Blue jeans are not ok but BLACK jeans will
  work out great.If you want to come dressed up as a priest, nun, Johnn
 y Cash, etc. we will laugh first but then raise you high on our should
 ers.Drink Specials:BW specials coming soon.Member Cost:$10 for the fir
 st 75 to register$15 for the next 76 to 150 to register$20 at the door
 Non-Member Cost:$20 online and at the door.Tickets:There are a limited
  number of Tickets for sale. Tickets are not mailed, but your name wil
 l be kept at the door. All sales are final.Finding the Party:We will b
 e the ONLY ones at Room84.Directions:http://www.room84hoboken.com/\n\n
 For more information visit http://njyp.org/events/black-and-white-part
 y-3
DTSTART;TZID=America/New_York:20110108T193000
DTEND;TZID=America/New_York:20110108T223000
CATEGORIES:"hudson county", social
LOCATION:Room 84
WEBSITE:http://www.room84hoboken.com/
URL:http://www.room84hoboken.com/
CONTACT:
ORGANIZER;CN="Brian and Mike":http://njyp.org/profile/BrianMike
ATTACH;FMTTYPE="image/jpeg":http://storage.ning.com/topology/rest/1.0/
 file/get/1088665048?profile=original
ATTENDEE;ROLE=REQ-PARTICIPANT;PARTSTAT=ACCEPTED;RSVP=TRUE;CN="Brian an
 d Mike":http://njyp.org/profile/BrianMike
END:VEVENT
END:VCALENDAR
