BEGIN:VCALENDAR
PRODID:NingEventWidget-v1
VERSION:2.0
METHOD:PUBLISH
BEGIN:VTIMEZONE
TZID:America/New_York
X-LIC-LOCATION:America/New_York
BEGIN:DAYLIGHT
TZOFFSETFROM:-0500
TZOFFSETTO:-0400
TZNAME:EDT
DTSTART:19700308T020000
RRULE:FREQ=YEARLY;BYMONTH=3;BYDAY=2SU
END:DAYLIGHT
BEGIN:STANDARD
TZOFFSETFROM:-0400
TZOFFSETTO:-0500
TZNAME:EST
DTSTART:19701101T020000
RRULE:FREQ=YEARLY;BYMONTH=11;BYDAY=1SU
END:STANDARD
END:VTIMEZONE
BEGIN:VEVENT
UID:2938326:Event:110354
DTSTAMP:20260421T183316Z
SUMMARY:Bloomfield Happy Hour
DESCRIPTION:This month we welcome a relatively new bar to neighborhood
 , Bar Cara! Bar Cara is a swank spot that offers drinks specials and p
 lenty of parking. RSVP as a yes and help us try to do a total bar take
 over.\n\nWho should attend:\nMembers who are single or married, 21-39 
 years old. There is no cover charge but we do need you to RSVP.\n\nWha
 t to expect:\nOur Happy Hours are very casual. There are no sign-in ta
 bles, no name tags, and no ice breakers. Expect people to walk up to y
 ou to introduce themselves and feel free to walk up to others who you 
 do not know. Newbies are at EVERY NJYP event so if this is your first,
  you won't be alone.\n\nHost:\nTBD will be hosting this event.\n\nHow 
 to find the group:\nMeet us at the bar of course.\n\nDirections/Parkin
 g:\nBig lot behind the restaurant.\nhttp://bar-cara.com/ Right off the
  parkway.\n\nFor more information visit http://njyp.org/events/bloomfi
 eld-happy-hour-3
DTSTART;TZID=America/New_York:20101117T180000
DTEND;TZID=America/New_York:20101117T200000
CATEGORIES:"essex county", social
LOCATION:Bar Cara
WEBSITE:http://bar-cara.com/
URL:http://bar-cara.com/
CONTACT:
ORGANIZER;CN="Brian and Mike":http://njyp.org/profile/BrianMike
ATTACH;FMTTYPE="image/jpeg":http://storage.ning.com/topology/rest/1.0/
 file/get/1088651868?profile=original
ATTENDEE;ROLE=REQ-PARTICIPANT;PARTSTAT=ACCEPTED;RSVP=TRUE;CN="John B":
 http://njyp.org/profile/johnb
ATTENDEE;ROLE=REQ-PARTICIPANT;PARTSTAT=ACCEPTED;RSVP=TRUE;CN=Dylan:htt
 p://njyp.org/profile/Dylan
ATTENDEE;ROLE=REQ-PARTICIPANT;PARTSTAT=ACCEPTED;RSVP=TRUE;CN="Tim B":h
 ttp://njyp.org/profile/TimBreen
ATTENDEE;ROLE=REQ-PARTICIPANT;PARTSTAT=ACCEPTED;RSVP=TRUE;CN=Kendra:ht
 tp://njyp.org/profile/Kendra
ATTENDEE;ROLE=REQ-PARTICIPANT;PARTSTAT=ACCEPTED;RSVP=TRUE;CN="Carrie N
 .":http://njyp.org/profile/CarrieNeigel
ATTENDEE;ROLE=REQ-PARTICIPANT;PARTSTAT=ACCEPTED;RSVP=TRUE;CN="Eamon Gi
 bbons":http://njyp.org/profile/EamonGibbons
ATTENDEE;ROLE=REQ-PARTICIPANT;PARTSTAT=ACCEPTED;RSVP=TRUE;CN="Janelle 
 C.":http://njyp.org/profile/Janelle113
ATTENDEE;ROLE=REQ-PARTICIPANT;PARTSTAT=ACCEPTED;RSVP=TRUE;CN=Romin:htt
 p://njyp.org/profile/Raina
ATTENDEE;ROLE=REQ-PARTICIPANT;PARTSTAT=ACCEPTED;RSVP=TRUE;CN=Nadirah:h
 ttp://njyp.org/profile/Nadirah
ATTENDEE;ROLE=REQ-PARTICIPANT;PARTSTAT=ACCEPTED;RSVP=TRUE;CN=Jennifer:
 http://njyp.org/profile/Jennifer695
ATTENDEE;ROLE=REQ-PARTICIPANT;PARTSTAT=ACCEPTED;RSVP=TRUE;CN=Paul:http
 ://njyp.org/profile/Paul964
ATTENDEE;ROLE=REQ-PARTICIPANT;PARTSTAT=ACCEPTED;RSVP=TRUE;CN=Jenine:ht
 tp://njyp.org/profile/jrose1528
ATTENDEE;ROLE=REQ-PARTICIPANT;PARTSTAT=ACCEPTED;RSVP=TRUE;CN="Tara Col
 lins":http://njyp.org/profile/TaraCollins
ATTENDEE;ROLE=REQ-PARTICIPANT;PARTSTAT=ACCEPTED;RSVP=TRUE;CN=Luigina:h
 ttp://njyp.org/profile/Luigina
ATTENDEE;ROLE=REQ-PARTICIPANT;PARTSTAT=ACCEPTED;RSVP=TRUE;CN="Jeffrey 
 Gates":http://njyp.org/profile/JeffreyGates
ATTENDEE;ROLE=REQ-PARTICIPANT;PARTSTAT=ACCEPTED;RSVP=TRUE;CN=Angela:ht
 tp://njyp.org/profile/Angela848
ATTENDEE;ROLE=REQ-PARTICIPANT;PARTSTAT=ACCEPTED;RSVP=TRUE;CN=Terisa:ht
 tp://njyp.org/profile/royalt
ATTENDEE;ROLE=REQ-PARTICIPANT;PARTSTAT=ACCEPTED;RSVP=TRUE;CN=Arun:http
 ://njyp.org/profile/Arun
ATTENDEE;ROLE=REQ-PARTICIPANT;PARTSTAT=ACCEPTED;RSVP=TRUE;CN="Rachel W
 eiss":http://njyp.org/profile/RachelWeiss
ATTENDEE;ROLE=REQ-PARTICIPANT;PARTSTAT=ACCEPTED;RSVP=TRUE;CN="Keri F-S
 ":http://njyp.org/profile/KeriF
ATTENDEE;ROLE=REQ-PARTICIPANT;PARTSTAT=ACCEPTED;RSVP=TRUE;CN="Nathan G
 reenhut":http://njyp.org/profile/NathanGreenhut
ATTENDEE;ROLE=REQ-PARTICIPANT;PARTSTAT=ACCEPTED;RSVP=TRUE;CN=Rebecca:h
 ttp://njyp.org/profile/Rebecca
ATTENDEE;ROLE=REQ-PARTICIPANT;PARTSTAT=ACCEPTED;RSVP=TRUE;CN="Jenna Cl
 ausen":http://njyp.org/profile/JennaClausen
ATTENDEE;ROLE=REQ-PARTICIPANT;PARTSTAT=ACCEPTED;RSVP=TRUE;CN=Vincenza:
 http://njyp.org/profile/Vincenza
ATTENDEE;ROLE=REQ-PARTICIPANT;PARTSTAT=ACCEPTED;RSVP=TRUE;CN=Helen:htt
 p://njyp.org/profile/Helen108
ATTENDEE;ROLE=REQ-PARTICIPANT;PARTSTAT=ACCEPTED;RSVP=TRUE;CN=Crystal:h
 ttp://njyp.org/profile/Crystal
ATTENDEE;ROLE=REQ-PARTICIPANT;PARTSTAT=ACCEPTED;RSVP=TRUE;CN="Brian an
 d Mike":http://njyp.org/profile/BrianMike
ATTENDEE;ROLE=REQ-PARTICIPANT;PARTSTAT=TENTATIVE;RSVP=TRUE;CN=Digant:h
 ttp://njyp.org/profile/Digant
ATTENDEE;ROLE=REQ-PARTICIPANT;PARTSTAT=TENTATIVE;RSVP=TRUE;CN=Minesh:h
 ttp://njyp.org/profile/Max
ATTENDEE;ROLE=REQ-PARTICIPANT;PARTSTAT=TENTATIVE;RSVP=TRUE;CN="Marc Mu
 stachio":http://njyp.org/profile/MarcMustachio
ATTENDEE;ROLE=REQ-PARTICIPANT;PARTSTAT=TENTATIVE;RSVP=TRUE;CN=Darius:h
 ttp://njyp.org/profile/Darius
ATTENDEE;ROLE=REQ-PARTICIPANT;PARTSTAT=TENTATIVE;RSVP=TRUE;CN=Gerard:h
 ttp://njyp.org/profile/Gerard
ATTENDEE;ROLE=REQ-PARTICIPANT;PARTSTAT=TENTATIVE;RSVP=TRUE;CN=Michael:
 http://njyp.org/profile/MichaelRoznowski
ATTENDEE;ROLE=REQ-PARTICIPANT;PARTSTAT=TENTATIVE;RSVP=TRUE;CN=Vincent:
 http://njyp.org/profile/Vincent
ATTENDEE;ROLE=REQ-PARTICIPANT;PARTSTAT=TENTATIVE;RSVP=TRUE;CN="Michael
  Roselle":http://njyp.org/profile/MichaelRoselle
ATTENDEE;ROLE=REQ-PARTICIPANT;PARTSTAT=TENTATIVE;RSVP=TRUE;CN=Kendell:
 http://njyp.org/profile/Kendell
ATTENDEE;ROLE=REQ-PARTICIPANT;PARTSTAT=TENTATIVE;RSVP=TRUE;CN=Pamela:h
 ttp://njyp.org/profile/Pamela791
ATTENDEE;ROLE=REQ-PARTICIPANT;PARTSTAT=TENTATIVE;RSVP=TRUE;CN=Dave:htt
 p://njyp.org/profile/Dave490
ATTENDEE;ROLE=REQ-PARTICIPANT;PARTSTAT=TENTATIVE;RSVP=TRUE;CN="Jessica
  Gill":http://njyp.org/profile/JessicaGill
ATTENDEE;ROLE=REQ-PARTICIPANT;PARTSTAT=TENTATIVE;RSVP=TRUE;CN="Kokil C
 hachra":http://njyp.org/profile/KokilChachra
ATTENDEE;ROLE=REQ-PARTICIPANT;PARTSTAT=TENTATIVE;RSVP=TRUE;CN="Lisa F"
 :http://njyp.org/profile/LisaF
ATTENDEE;ROLE=REQ-PARTICIPANT;PARTSTAT=TENTATIVE;RSVP=TRUE;CN="Joanna 
 Vogel":http://njyp.org/profile/JoannaVogel
ATTENDEE;ROLE=REQ-PARTICIPANT;PARTSTAT=TENTATIVE;RSVP=TRUE;CN=Heather:
 http://njyp.org/profile/Heather308
ATTENDEE;ROLE=REQ-PARTICIPANT;PARTSTAT=TENTATIVE;RSVP=TRUE;CN=Lizzie:h
 ttp://njyp.org/profile/ElizabethKuhns
END:VEVENT
END:VCALENDAR
