BEGIN:VCALENDAR
PRODID:NingEventWidget-v1
VERSION:2.0
METHOD:PUBLISH
BEGIN:VTIMEZONE
TZID:America/New_York
X-LIC-LOCATION:America/New_York
BEGIN:DAYLIGHT
TZOFFSETFROM:-0500
TZOFFSETTO:-0400
TZNAME:EDT
DTSTART:19700308T020000
RRULE:FREQ=YEARLY;BYMONTH=3;BYDAY=2SU
END:DAYLIGHT
BEGIN:STANDARD
TZOFFSETFROM:-0400
TZOFFSETTO:-0500
TZNAME:EST
DTSTART:19701101T020000
RRULE:FREQ=YEARLY;BYMONTH=11;BYDAY=1SU
END:STANDARD
END:VTIMEZONE
BEGIN:VEVENT
UID:2938326:Event:716963
DTSTAMP:20260419T235726Z
SUMMARY:Brewery Tour and Craft Beer Tasting
DESCRIPTION:\nMember Cost:Â FREE!\nNon-Member Cost:Â $4 online or $5 a
 t the door\nTake a tour ofÂ Demented Brewing Company, then enjoy a var
 iety of their craft beers! All 16 oz drafts are $6. You can also get a
  flight to try more varieties, or even buy a growler to bring home you
 r favorite one!\nNJYP-only Drink Special: 10% off\n.\nThey do not serv
 e food, but you are welcome to bring food, or our group will order a p
 izza for delivery.\n\nWho can attend: Young professionals, single or m
 arried, who are 21-39 years of age.\n\nTickets:Â All sales are final.Â
  A limited number of tickets will be sold.Â  This event is rain or shi
 ne.  How to get there: Demented Brewing Company 600 Lincoln Blvd. Midd
 lesex, NJÂ . There are parking spots outside the brewery entrance.\n\n
 How to find the group:Â We'll meet at the brewery for our private tour
  at 7pm, then congregate in the bar area to try all the beers!\n\n\nFo
 r more information visit http://njyp.org/events/brewery-tour-and-craft
 -beer-tasting
DTSTART;TZID=America/New_York:20160608T190000
DTEND;TZID=America/New_York:20160608T210000
CATEGORIES:brewery, tour, beer, tasting
LOCATION:Demented Brewing Company
WEBSITE:http://www.dementedbrewing.com/
URL:http://www.dementedbrewing.com/
CONTACT:Brian Melnick
ORGANIZER;CN="Michael Park":http://njyp.org/profile/MichaelPark
ATTACH;FMTTYPE="image/jpeg":http://storage.ning.com/topology/rest/1.0/
 file/get/1089111101?profile=original
ATTENDEE;ROLE=REQ-PARTICIPANT;PARTSTAT=ACCEPTED;RSVP=TRUE;CN="Alper Se
 nman":http://njyp.org/profile/AlperSenman
ATTENDEE;ROLE=REQ-PARTICIPANT;PARTSTAT=ACCEPTED;RSVP=TRUE;CN=Ryan:http
 ://njyp.org/profile/Ryan480
ATTENDEE;ROLE=REQ-PARTICIPANT;PARTSTAT=ACCEPTED;RSVP=TRUE;CN=Ant:http:
 //njyp.org/profile/AnthonyAgonias
ATTENDEE;ROLE=REQ-PARTICIPANT;PARTSTAT=ACCEPTED;RSVP=TRUE;CN=Damien:ht
 tp://njyp.org/profile/DamienCaillault
ATTENDEE;ROLE=REQ-PARTICIPANT;PARTSTAT=ACCEPTED;RSVP=TRUE;CN="Rich Ros
 enblum":http://njyp.org/profile/RichRosenblum
ATTENDEE;ROLE=REQ-PARTICIPANT;PARTSTAT=ACCEPTED;RSVP=TRUE;CN=Meredith:
 http://njyp.org/profile/Meredith944
ATTENDEE;ROLE=REQ-PARTICIPANT;PARTSTAT=ACCEPTED;RSVP=TRUE;CN="Brian Me
 lnick":http://njyp.org/profile/Brian1218
ATTENDEE;ROLE=REQ-PARTICIPANT;PARTSTAT=ACCEPTED;RSVP=TRUE;CN="Jordan S
 pitzer-London":http://njyp.org/profile/JordanSpitzerLondon
ATTENDEE;ROLE=REQ-PARTICIPANT;PARTSTAT=ACCEPTED;RSVP=TRUE;CN="Michael 
 Park":http://njyp.org/profile/MichaelPark
ATTENDEE;ROLE=REQ-PARTICIPANT;PARTSTAT=TENTATIVE;RSVP=TRUE;CN=Kate:htt
 p://njyp.org/profile/Kate539
ATTENDEE;ROLE=REQ-PARTICIPANT;PARTSTAT=TENTATIVE;RSVP=TRUE;CN=Johanna:
 http://njyp.org/profile/Johanna509
ATTENDEE;ROLE=REQ-PARTICIPANT;PARTSTAT=TENTATIVE;RSVP=TRUE;CN=Julie:ht
 tp://njyp.org/profile/Julie942
ATTENDEE;ROLE=REQ-PARTICIPANT;PARTSTAT=TENTATIVE;RSVP=TRUE;CN="Juliana
  Canale":http://njyp.org/profile/JulianaCanale
ATTENDEE;ROLE=REQ-PARTICIPANT;PARTSTAT=TENTATIVE;RSVP=TRUE;CN=Janet:ht
 tp://njyp.org/profile/Janet
ATTENDEE;ROLE=REQ-PARTICIPANT;PARTSTAT=TENTATIVE;RSVP=TRUE;CN=Kevin:ht
 tp://njyp.org/profile/Kevin164
ATTENDEE;ROLE=REQ-PARTICIPANT;PARTSTAT=TENTATIVE;RSVP=TRUE;CN="Jacquel
 yn Price":http://njyp.org/profile/JacquelynPrice
END:VEVENT
END:VCALENDAR
