BEGIN:VCALENDAR
PRODID:NingEventWidget-v1
VERSION:2.0
METHOD:PUBLISH
BEGIN:VTIMEZONE
TZID:America/New_York
X-LIC-LOCATION:America/New_York
BEGIN:DAYLIGHT
TZOFFSETFROM:-0500
TZOFFSETTO:-0400
TZNAME:EDT
DTSTART:19700308T020000
RRULE:FREQ=YEARLY;BYMONTH=3;BYDAY=2SU
END:DAYLIGHT
BEGIN:STANDARD
TZOFFSETFROM:-0400
TZOFFSETTO:-0500
TZNAME:EST
DTSTART:19701101T020000
RRULE:FREQ=YEARLY;BYMONTH=11;BYDAY=1SU
END:STANDARD
END:VTIMEZONE
BEGIN:VEVENT
UID:2938326:Event:653
DTSTAMP:20260420T060021Z
SUMMARY:Brewery Tour and Tasting
DESCRIPTION:It is time for our annual visit to the Cricket Hill Brewer
 y! Picture free flowing beer and hot pizza, a quick \"tour\" and quest
 ion/answer period with the beer maker, and the opportunity to mix and 
 mingle with other Young Professionals!\n\n\nRSVP (to the right) and we
  will let you know when tix are almost gone, when prices are going up,
  if there are any changes, etc.\n\nYour ticket will cover:\nEntry to t
 his private event.\nUnlimited fresh, delicious beers (there will be ch
 oices) straight from the tap.\nHot pizza delivered by a local restaura
 nt.\n\nMore Details:\nThis event is standing room only so you can ming
 le freely.\nBring an extra sweater or a light jacket as the brewery is
  kept on the cooler side.\nYou can purchase 2 six packs of beer to go.
 \nPlease tip the bartender during the evening.\n\nA note from the Brew
  Master:\n\"We believe that New Jersey is starting to learn what the r
 est of the country already knows; that local microbrews are some of th
 e best beers in the world! Finally, curious beer drinkers are stepping
  out from under the mind-numbing barrage of large brewery advertising 
 and deciding for themselves what they like. Our beers are designed for
  those curious drinkers.\"\n\nMember Cost:\n$10 by 5.6.09\n$15 from 5.
 7.09 to 5.19.09\n$25 at the door\n\nNon-Member Cost:\n$25 online and a
 t the door.\n\nPremium Member Cost\n$5 by 5.6.09\n$10 from 5.7.09 to 5
 .19.09\n$20 at the door\n\nTickets:\nThere are a limited number of Tic
 kets for sale.\nTickets are not mailed, but your name will be kept at 
 the door.\nAll sales are final.\n\nDirections/Parking:\nLots of free p
 arking.\nDirections\n\nHow to find the group:\nWe have rented out the 
 entire brewery for this event so everyone will be with NJYP.\n\nFor mo
 re information visit http://njyp.org/events/brewery-tour-and-tasting
DTSTART;TZID=America/New_York:20090520T190000
DTEND;TZID=America/New_York:20090520T210000
CATEGORIES:"essex county", social, educational
LOCATION:Cricket Hill Brewery
WEBSITE:http://njyperks.com/directionscricket.htm
URL:http://njyperks.com/directionscricket.htm
CONTACT:
ORGANIZER;CN="Brian and Mike":http://njyp.org/profile/BrianMike
ATTACH;FMTTYPE="image/jpeg":http://storage.ning.com/topology/rest/1.0/
 file/get/1088521300?profile=original
ATTENDEE;ROLE=REQ-PARTICIPANT;PARTSTAT=ACCEPTED;RSVP=TRUE;CN=Andrew:ht
 tp://njyp.org/profile/Andrew670
ATTENDEE;ROLE=REQ-PARTICIPANT;PARTSTAT=ACCEPTED;RSVP=TRUE;CN="Meghan S
 hapiro":http://njyp.org/profile/MeghanShapiro
ATTENDEE;ROLE=REQ-PARTICIPANT;PARTSTAT=ACCEPTED;RSVP=TRUE;CN="Steve Fe
 uss":http://njyp.org/profile/SteveFeuss
ATTENDEE;ROLE=REQ-PARTICIPANT;PARTSTAT=ACCEPTED;RSVP=TRUE;CN="Tim B":h
 ttp://njyp.org/profile/TimBreen
ATTENDEE;ROLE=REQ-PARTICIPANT;PARTSTAT=ACCEPTED;RSVP=TRUE;CN="joanne l
 am":http://njyp.org/profile/joannelam
ATTENDEE;ROLE=REQ-PARTICIPANT;PARTSTAT=ACCEPTED;RSVP=TRUE;CN="Ally Lee
 ":http://njyp.org/profile/AllyLee
ATTENDEE;ROLE=REQ-PARTICIPANT;PARTSTAT=ACCEPTED;RSVP=TRUE;CN="Carol Pe
 terson":http://njyp.org/profile/CarolPeterson
ATTENDEE;ROLE=REQ-PARTICIPANT;PARTSTAT=ACCEPTED;RSVP=TRUE;CN=Melody:ht
 tp://njyp.org/profile/MelodyFederico
ATTENDEE;ROLE=REQ-PARTICIPANT;PARTSTAT=ACCEPTED;RSVP=TRUE;CN="Chris Ly
 don":http://njyp.org/profile/ChristopherLydon
ATTENDEE;ROLE=REQ-PARTICIPANT;PARTSTAT=ACCEPTED;RSVP=TRUE;CN="Kevin Ha
 ughwout":http://njyp.org/profile/KevinHaughwout
ATTENDEE;ROLE=REQ-PARTICIPANT;PARTSTAT=ACCEPTED;RSVP=TRUE;CN="Steve Br
 own":http://njyp.org/profile/SteveBrown
ATTENDEE;ROLE=REQ-PARTICIPANT;PARTSTAT=ACCEPTED;RSVP=TRUE;CN="Megan Wi
 lliams":http://njyp.org/profile/MeganWilliams
ATTENDEE;ROLE=REQ-PARTICIPANT;PARTSTAT=ACCEPTED;RSVP=TRUE;CN=Jenn:http
 ://njyp.org/profile/JennA
ATTENDEE;ROLE=REQ-PARTICIPANT;PARTSTAT=ACCEPTED;RSVP=TRUE;CN=CJ:http:/
 /njyp.org/profile/CarinaBleickardt
ATTENDEE;ROLE=REQ-PARTICIPANT;PARTSTAT=ACCEPTED;RSVP=TRUE;CN="Melissa 
 M Hayes":http://njyp.org/profile/MelissaHayes
ATTENDEE;ROLE=REQ-PARTICIPANT;PARTSTAT=ACCEPTED;RSVP=TRUE;CN="Christop
 her Kehrli":http://njyp.org/profile/ChristopherKehrli
ATTENDEE;ROLE=REQ-PARTICIPANT;PARTSTAT=ACCEPTED;RSVP=TRUE;CN="Bill Tul
 ly":http://njyp.org/profile/BillTully
ATTENDEE;ROLE=REQ-PARTICIPANT;PARTSTAT=ACCEPTED;RSVP=TRUE;CN="Adam K":
 http://njyp.org/profile/AdamK
ATTENDEE;ROLE=REQ-PARTICIPANT;PARTSTAT=ACCEPTED;RSVP=TRUE;CN="Jackie H
 owland":http://njyp.org/profile/JackieHowland
ATTENDEE;ROLE=REQ-PARTICIPANT;PARTSTAT=ACCEPTED;RSVP=TRUE;CN="John S":
 http://njyp.org/profile/JohnS
ATTENDEE;ROLE=REQ-PARTICIPANT;PARTSTAT=ACCEPTED;RSVP=TRUE;CN=Steve:htt
 p://njyp.org/profile/SteveEsposito
ATTENDEE;ROLE=REQ-PARTICIPANT;PARTSTAT=ACCEPTED;RSVP=TRUE;CN="Karl  A 
 Kraus":http://njyp.org/profile/KarlAKraus
ATTENDEE;ROLE=REQ-PARTICIPANT;PARTSTAT=ACCEPTED;RSVP=TRUE;CN="NIcole V
 innal":http://njyp.org/profile/NIcoleVinnal
ATTENDEE;ROLE=REQ-PARTICIPANT;PARTSTAT=ACCEPTED;RSVP=TRUE;CN="Dennis L
 ee":http://njyp.org/profile/leeden
ATTENDEE;ROLE=REQ-PARTICIPANT;PARTSTAT=ACCEPTED;RSVP=TRUE;CN="Brian an
 d Mike":http://njyp.org/profile/BrianMike
ATTENDEE;ROLE=REQ-PARTICIPANT;PARTSTAT=TENTATIVE;RSVP=TRUE;CN="Jen Bel
 l":http://njyp.org/profile/jb73
ATTENDEE;ROLE=REQ-PARTICIPANT;PARTSTAT=TENTATIVE;RSVP=TRUE;CN=Drew:htt
 p://njyp.org/profile/AndrewCoughlan
ATTENDEE;ROLE=REQ-PARTICIPANT;PARTSTAT=TENTATIVE;RSVP=TRUE;CN="Alex Da
 vis":http://njyp.org/profile/AlexDavis
ATTENDEE;ROLE=REQ-PARTICIPANT;PARTSTAT=TENTATIVE;RSVP=TRUE;CN="Laura L
 abriola":http://njyp.org/profile/LauraLabriola
ATTENDEE;ROLE=REQ-PARTICIPANT;PARTSTAT=TENTATIVE;RSVP=TRUE;CN="Tony Pa
 nariello":http://njyp.org/profile/TonyPanariello
END:VEVENT
END:VCALENDAR
