BEGIN:VCALENDAR
PRODID:NingEventWidget-v1
VERSION:2.0
METHOD:PUBLISH
BEGIN:VTIMEZONE
TZID:America/New_York
X-LIC-LOCATION:America/New_York
BEGIN:DAYLIGHT
TZOFFSETFROM:-0500
TZOFFSETTO:-0400
TZNAME:EDT
DTSTART:19700308T020000
RRULE:FREQ=YEARLY;BYMONTH=3;BYDAY=2SU
END:DAYLIGHT
BEGIN:STANDARD
TZOFFSETFROM:-0400
TZOFFSETTO:-0500
TZNAME:EST
DTSTART:19701101T020000
RRULE:FREQ=YEARLY;BYMONTH=11;BYDAY=1SU
END:STANDARD
END:VTIMEZONE
BEGIN:VEVENT
UID:2938326:Event:674315
DTSTAMP:20260419T191129Z
SUMMARY:Brooklyn Crush Wine & Artisanal Food Festival (sponsored)
DESCRIPTION:\n\nNew York Wine Events is pleased to invite you to the
  Brooklyn Crush Wine & Artisanal Food Festival on Sat., May 2, 201
 5 at the Factory Floor at Industry City in Sunset Park, Brooklyn, 
 NY!  Choose from 2 Sessions:  3-6pm (Afternoon) or 8-11pm (Even
 ing).\n\nYOUR GENERAL ADMISSION TICKET INCLUDES:\n\nTHE WINE: 3 hours 
 of sampling 200+ wines. Vintry Fine Wines will be programming an eclec
 tic mix of bold reds, awesome whites & more. Grape varietals from wine
  regions around the globe.\nTHE FOOD: Delicious light hors d’oeuvres
  to complement the vino PLUS... a sampling selection of Brooklyn (and 
 beyond’s) finest artisan foods.\nLIVE MUSIC: Sip, dance or sway to a
 cclaimed contemporary jazz guitarist JJ Sansaverino & his band.\nBONUS
  Wine Glass: A custom wine glass is yours to taste from — and take h
 ome!\n\n\n\nArtisan food companies will feature a lip-smacking array o
 f Chocolates… Cookies… Charcuterie… Dips… Vegan Delights & mor
 e! (If you savor the flavor, participating artisans will also be selli
 ng their offerings to take home and enjoy.)\n\nNEW: CRUSH VIP TICKET O
 PTION Upgrade your ticket to include the CRUSH VIP. Limited to just 50
  attendees, enjoy an exclusive VIP area off the main tasting floor. He
 re, lavish in a once-in-a-lifetime experience as you sip and nibble li
 ke a jet setter, enjoying 10 high-end wine selections ranging in price
  from $75 to $125 per bottle and sourced from Champagne, Bordeaux, Bur
 gundy, Italy, Argentina and California… plus EXCLUSIVE specialty hor
 s d’oeuvres! (NOTE: CRUSH VIP's get to enjoy the VIP area plus all t
 he main tasting.) See NewYorkWineEvents.com for complete details.\n\n
 JOIN US MAY 2 AT THIS FANTASTIC EVENT SPACE. The 22,000 square foot Fa
 ctory Floor features plentiful light from large industrial windows and
  is adjacent to Industry City’s gorgeous planted courtyard and dynam
 ic food hall. Take the D, N or R train to the 36th Street station. Con
 venient parking is 1 block west of the building. [Venue address: 233 3
 7th St., Bldg 1, Brooklyn, NY 11232]\n You must be 21 or older to atte
 nd.\n Cost:Take 10% off the prices below – USE CODE: NJYP10 when pur
 chasing your ticket!Standard: $79 Final Week: $89 VIP Suite: $179 (als
 o includes main tasting)\n\n\n\nFor more information visit http://njyp
 .org/events/brooklyn-crush-wine-artisanal-food-festival-sponsored-1
DTSTART;TZID=America/New_York:20150502T200000
DTEND;TZID=America/New_York:20150502T230000
CATEGORIES:"hudson county", winefest
LOCATION:Industry City, Factory Floor (Building 1)
WEBSITE:http://www.newyorkwineevents.com/events/brooklyn-crush-wine-ar
 tisanal-food-festival/
URL:http://www.newyorkwineevents.com/events/brooklyn-crush-wine-artisa
 nal-food-festival/
CONTACT:
ORGANIZER;CN="Brian and Mike":http://njyp.org/profile/BrianMike
ATTACH;FMTTYPE="image/jpeg":http://storage.ning.com/topology/rest/1.0/
 file/get/1089054692?profile=original
ATTENDEE;ROLE=REQ-PARTICIPANT;PARTSTAT=ACCEPTED;RSVP=TRUE;CN=Gellaine:
 http://njyp.org/profile/Gellaine
ATTENDEE;ROLE=REQ-PARTICIPANT;PARTSTAT=ACCEPTED;RSVP=TRUE;CN="Brian an
 d Mike":http://njyp.org/profile/BrianMike
END:VEVENT
END:VCALENDAR
