BEGIN:VCALENDAR
PRODID:NingEventWidget-v1
VERSION:2.0
METHOD:PUBLISH
BEGIN:VTIMEZONE
TZID:America/New_York
X-LIC-LOCATION:America/New_York
BEGIN:DAYLIGHT
TZOFFSETFROM:-0500
TZOFFSETTO:-0400
TZNAME:EDT
DTSTART:19700308T020000
RRULE:FREQ=YEARLY;BYMONTH=3;BYDAY=2SU
END:DAYLIGHT
BEGIN:STANDARD
TZOFFSETFROM:-0400
TZOFFSETTO:-0500
TZNAME:EST
DTSTART:19701101T020000
RRULE:FREQ=YEARLY;BYMONTH=11;BYDAY=1SU
END:STANDARD
END:VTIMEZONE
BEGIN:VEVENT
UID:2938326:Event:673874
DTSTAMP:20260419T205640Z
SUMMARY:Brooklyn Crush Wine & Artisanal Food Festival (sponsored)
DESCRIPTION:\nNew YorkÂ Wine EventsÂ is pleased to invite you to theÂ 
 BrooklynÂ Crush Wine & Artisanal Food FestivalÂ onÂ Sat., May 2, 2015Â
  at theÂ Factory Floor at Industry CityÂ inÂ Sunset Park, Brooklyn, NY
 ! Â Choose fromÂ 2 Sessions: Â 3-6pmÂ (Afternoon)Â orÂ 8-11pmÂ (Evenin
 g).\n\nYOUR GENERAL ADMISSION TICKET INCLUDES:\n\nTHE WINE:Â 3 hours o
 f sampling 200+ wines. Vintry Fine Wines will be programming an eclect
 ic mix of bold reds, awesome whites & more. Grape varietals from wine 
 regions around the globe.\nTHE FOOD:Â Delicious light hors dâ€™oeuvres
  to complement the vino PLUS... a sampling selection of Brooklyn (and 
 beyondâ€™s) finest artisan foods.\nLIVE MUSIC:Â Sip, dance or sway to 
 acclaimed contemporary jazz guitaristÂ JJ SansaverinoÂ & his band.\nBO
 NUS Wine Glass:Â A custom wine glass is yours to taste from â€” and ta
 ke home!\n\n\n\nArtisan food companies will feature a lip-smacking arr
 ay of Chocolatesâ€¦ Cookiesâ€¦ Charcuterieâ€¦ Dipsâ€¦ Vegan Delights &
  more!Â (If you savor the flavor, participating artisans will also be 
 selling their offerings to take home and enjoy.)\n\nNEW: CRUSH VIP TIC
 KET OPTIONUpgrade your ticket to include the CRUSH VIP. Limited to jus
 t 50 attendees, enjoy an exclusive VIP area off the main tasting floor
 . Here, lavish in a once-in-a-lifetime experience as you sip and nibbl
 e like a jet setter, enjoyingÂ 10 high-end wine selectionsÂ ranging in
  price from $75 to $125 per bottle and sourced from Champagne, Bordeau
 x, Burgundy, Italy, Argentina and Californiaâ€¦ plusÂ EXCLUSIVE specia
 lty hors dâ€™oeuvres! (NOTE: CRUSH VIP's get to enjoy the VIP area plu
 s all the main tasting.) SeeNewYorkWineEvents.comÂ for complete detail
 s.\n\nJOIN US MAY 2 AT THIS FANTASTIC EVENT SPACE.Â The 22,000 square 
 foot Factory Floor features plentiful light from large industrial wind
 ows and is adjacent to Industry Cityâ€™s gorgeous planted courtyard an
 d dynamic food hall. Take the D, N or R train to the 36th Street stati
 on. Convenient parking is 1 block west of the building. [Venue address
 : 233 37th St., Bldg 1, Brooklyn, NY 11232]\nYou must be 21 or older t
 o attend.\nCost:Take 10% off the prices below â€“Â USE CODE: NJYP10 wh
 en purchasing your ticket!Standard: $79Â Final Week: $89Â VIP Suite: $
 179 (also includes main tasting)\n\n\nFor more information visit http:
 //njyp.org/events/brooklyn-crush-wine-artisanal-food-festival-sponsore
 d
DTSTART;TZID=America/New_York:20150502T150000
DTEND;TZID=America/New_York:20150502T180000
CATEGORIES:"hudson county", winefest
LOCATION:Industry City, Factory Floor (Building 1)
WEBSITE:http://www.newyorkwineevents.com/events/brooklyn-crush-wine-ar
 tisanal-food-festival/
URL:http://www.newyorkwineevents.com/events/brooklyn-crush-wine-artisa
 nal-food-festival/
CONTACT:
ORGANIZER;CN="Brian and Mike":http://njyp.org/profile/BrianMike
ATTACH;FMTTYPE="image/jpeg":http://storage.ning.com/topology/rest/1.0/
 file/get/1089054692?profile=original
ATTENDEE;ROLE=REQ-PARTICIPANT;PARTSTAT=ACCEPTED;RSVP=TRUE;CN="Brian an
 d Mike":http://njyp.org/profile/BrianMike
END:VEVENT
END:VCALENDAR
