BEGIN:VCALENDAR
PRODID:NingEventWidget-v1
VERSION:2.0
METHOD:PUBLISH
BEGIN:VTIMEZONE
TZID:America/New_York
X-LIC-LOCATION:America/New_York
BEGIN:DAYLIGHT
TZOFFSETFROM:-0500
TZOFFSETTO:-0400
TZNAME:EDT
DTSTART:19700308T020000
RRULE:FREQ=YEARLY;BYMONTH=3;BYDAY=2SU
END:DAYLIGHT
BEGIN:STANDARD
TZOFFSETFROM:-0400
TZOFFSETTO:-0500
TZNAME:EST
DTSTART:19701101T020000
RRULE:FREQ=YEARLY;BYMONTH=11;BYDAY=1SU
END:STANDARD
END:VTIMEZONE
BEGIN:VEVENT
UID:2938326:Event:16206
DTSTAMP:20260423T175237Z
SUMMARY:Charity Walk for Diabetes
DESCRIPTION:The Step Out-Walk to Fight Diabetes is an annual walk even
 t that takes place in Bergen County. The walk is at the BD Campus and 
 is approximately 1 mile. This is a fundraising event and those walkers
  raising $100 or more (as easy as asking 10 friends for $10!) will rec
 eive complementary lunch, beverages and a t-shirt. There will be enter
 tainment, music, a kids' area, VIP tent, massages, food and more! And 
 of course, you’ll get to spend the morning with a group of Young Pro
 fessionals from NJYP!\n\nRegistration:\nSign up with Team NJYP!\nhttp:
 //main.diabetes.org/goto/njyp\n\nThere is no cost to register but as a
  charity event we do ask that you try to raise a minimum of $100. Howe
 ver, any donations are extremely appreciated!\n\nAbout:\nThis event is
  full of people who have been affected by this disease, their friends 
 and families, and those who realize the impact diabetes has on so many
  Americans. To read more about the cause visit www.diabetes.org/stepou
 t\n\nHow to Find Us:\nWe will meet between the BD Tent and the First A
 id Tent. There will be an NJYP SIGN between these two tents. We will m
 eet from 9:30 to 9:45 so please arrive on time if you want to walk wit
 h us as a group.\n\nParking:\nLots of free parking on BD campus\n\nFor
  more information visit http://njyp.org/events/charity-walk-for-diabet
 es
DTSTART;TZID=America/New_York:20091004T090000
DTEND;TZID=America/New_York:20091004T130000
CATEGORIES:"bergen county", athletic, community
LOCATION:Becton Dickenson (BD)
WEBSITE:
URL:
CONTACT:
ORGANIZER;CN="Brian and Mike":http://njyp.org/profile/BrianMike
ATTACH;FMTTYPE="image/jpeg":http://storage.ning.com/topology/rest/1.0/
 file/get/1088554996?profile=original
ATTENDEE;ROLE=REQ-PARTICIPANT;PARTSTAT=ACCEPTED;RSVP=TRUE;CN="Dr. Kevi
 n":http://njyp.org/profile/KevinBrennan
ATTENDEE;ROLE=REQ-PARTICIPANT;PARTSTAT=ACCEPTED;RSVP=TRUE;CN="Sara Kam
 pen":http://njyp.org/profile/SaraKampen
ATTENDEE;ROLE=REQ-PARTICIPANT;PARTSTAT=ACCEPTED;RSVP=TRUE;CN="Brian an
 d Mike":http://njyp.org/profile/BrianMike
ATTENDEE;ROLE=REQ-PARTICIPANT;PARTSTAT=TENTATIVE;RSVP=TRUE;CN="rachel 
 irene":http://njyp.org/profile/rachel_irene
ATTENDEE;ROLE=REQ-PARTICIPANT;PARTSTAT=TENTATIVE;RSVP=TRUE;CN="Joe Han
 zel Troy":http://njyp.org/profile/JosephHanzelDagdagan
ATTENDEE;ROLE=REQ-PARTICIPANT;PARTSTAT=TENTATIVE;RSVP=TRUE;CN="Stephan
 ie Coutros":http://njyp.org/profile/StephanieCoutros
ATTENDEE;ROLE=REQ-PARTICIPANT;PARTSTAT=TENTATIVE;RSVP=TRUE;CN=Tara:htt
 p://njyp.org/profile/TaraMorey
END:VEVENT
END:VCALENDAR
