BEGIN:VCALENDAR
PRODID:NingEventWidget-v1
VERSION:2.0
METHOD:PUBLISH
BEGIN:VTIMEZONE
TZID:America/New_York
X-LIC-LOCATION:America/New_York
BEGIN:DAYLIGHT
TZOFFSETFROM:-0500
TZOFFSETTO:-0400
TZNAME:EDT
DTSTART:19700308T020000
RRULE:FREQ=YEARLY;BYMONTH=3;BYDAY=2SU
END:DAYLIGHT
BEGIN:STANDARD
TZOFFSETFROM:-0400
TZOFFSETTO:-0500
TZNAME:EST
DTSTART:19701101T020000
RRULE:FREQ=YEARLY;BYMONTH=11;BYDAY=1SU
END:STANDARD
END:VTIMEZONE
BEGIN:VEVENT
UID:2938326:Event:547513
DTSTAMP:20260420T021423Z
SUMMARY:Clinton Happy Hour CANCELED
DESCRIPTION:Sorry all, this event has been canceled due to lack of int
 erest.\n\nYour local Happy Hour is back on the calendar and this time 
 we are at One -11 Bar and Lounge in Clinton at the Holiday Inn. Join 
 other Young Professionals at this mix & mingle event. As always, there
  is no cover, plus there will be great specials to keep the drinks and
  the laughter flowing. Whether this is your first event or your fiftie
 th, you will find yourself surrounded by friendly faces and future fri
 ends.  Who can attend: This Happy Hour is for dues paying Members only
 , http://www.njyp.org/page/pay-dues If you wish to bring a guest plea
 se have them join NJYP first.  Cost: No cost to attend but you MUST RS
 VP. 1 item minimum per person so we support the bar and all the space 
 we are taking up.\n\nSpecials: $2 Bud Lites $5 House Wines $4 Well Dri
 nks $5 App Menu (until 7pm only)\n What to expect: Our Happy Hours are
  very casual. There are no sign-in tables, no name tags, and no ice br
 eakers. Expect people to walk up to you to introduce themselves and fe
 el free to walk up to others who you do not know. Newbies are at EVERY
  NJYP event so if this is your first, you won't be alone.  Finding the
  Group: We are going to be in the bar area. Please look for signs or a
 sk staff where the group is.  Directions: Parking available. http://ww
 w.ihg.com/holidayinn/hotels/us/en/clinton/connj/hoteldetail/directions
 \n\nFor more information visit http://njyp.org/events/clinton-happy-ho
 ur
DTSTART;TZID=America/New_York:20140514T180000
DTEND;TZID=America/New_York:20140514T200000
CATEGORIES:"hunterdon county", social, members
LOCATION:One -11 Bar and Lounge at The Holiday Inn Clinton
WEBSITE:http://www.holidayinn.com/clintonnj
URL:http://www.holidayinn.com/clintonnj
CONTACT:
ORGANIZER;CN="Brian and Mike":http://njyp.org/profile/BrianMike
ATTACH;FMTTYPE="image/jpeg":http://storage.ning.com/topology/rest/1.0/
 file/get/1088687153?profile=original
ATTENDEE;ROLE=REQ-PARTICIPANT;PARTSTAT=ACCEPTED;RSVP=TRUE;CN=Kevin:htt
 p://njyp.org/profile/Kevin164
ATTENDEE;ROLE=REQ-PARTICIPANT;PARTSTAT=ACCEPTED;RSVP=TRUE;CN=Jeannette
 :http://njyp.org/profile/Jeannette
ATTENDEE;ROLE=REQ-PARTICIPANT;PARTSTAT=ACCEPTED;RSVP=TRUE;CN=Ryan:http
 ://njyp.org/profile/Ryan190
ATTENDEE;ROLE=REQ-PARTICIPANT;PARTSTAT=ACCEPTED;RSVP=TRUE;CN=Chris:htt
 p://njyp.org/profile/Chris394
ATTENDEE;ROLE=REQ-PARTICIPANT;PARTSTAT=ACCEPTED;RSVP=TRUE;CN="Brian an
 d Mike":http://njyp.org/profile/BrianMike
ATTENDEE;ROLE=REQ-PARTICIPANT;PARTSTAT=TENTATIVE;RSVP=TRUE;CN=Kat:http
 ://njyp.org/profile/Kat506
ATTENDEE;ROLE=REQ-PARTICIPANT;PARTSTAT=TENTATIVE;RSVP=TRUE;CN=Nikki:ht
 tp://njyp.org/profile/Nikki700
ATTENDEE;ROLE=REQ-PARTICIPANT;PARTSTAT=TENTATIVE;RSVP=TRUE;CN=Christin
 a:http://njyp.org/profile/Christina678
ATTENDEE;ROLE=REQ-PARTICIPANT;PARTSTAT=TENTATIVE;RSVP=TRUE;CN=Edna:htt
 p://njyp.org/profile/Edna
END:VEVENT
END:VCALENDAR
