BEGIN:VCALENDAR
PRODID:NingEventWidget-v1
VERSION:2.0
METHOD:PUBLISH
BEGIN:VTIMEZONE
TZID:America/New_York
X-LIC-LOCATION:America/New_York
BEGIN:DAYLIGHT
TZOFFSETFROM:-0500
TZOFFSETTO:-0400
TZNAME:EDT
DTSTART:19700308T020000
RRULE:FREQ=YEARLY;BYMONTH=3;BYDAY=2SU
END:DAYLIGHT
BEGIN:STANDARD
TZOFFSETFROM:-0400
TZOFFSETTO:-0500
TZNAME:EST
DTSTART:19701101T020000
RRULE:FREQ=YEARLY;BYMONTH=11;BYDAY=1SU
END:STANDARD
END:VTIMEZONE
BEGIN:VEVENT
UID:2938326:Event:66254
DTSTAMP:20260420T123803Z
SUMMARY:Club Getaway: Fall Sports Weekend
DESCRIPTION:Join NJYP at Club Getaway for their Fall Sports Weekend! H
 undreds of Professionals from all over the Northeast will come togethe
 r to play for an entire weekend! There will be activities galore, huge
  buffets, dance parties, and the opportunity to make new friends.\n\nD
 ates:\nFriday Oct 1st at 5:30pm\nto Sunday Oct 3rd at 4:00pm\n\nCost:\
 n$349 (before the discount)\n\nSave $25 when you Mention NJYP\n- You d
 o NOT need to be a Member of NJYP.\n- You can share the code with frie
 nds.\n- Save $25 off ANY weekend, not just this one.\n\nCost Includes:
 \nAir conditioned cabin; each with a private bath.\nAll linens.\nAll m
 eals (excellent buffets).\nUnlimited wine with dinner.\nALL activities
 .\n\nSample Activities:\n*rock climbing *kayaking\n*trapeze lessons *k
 ickboxing\n*golfing *biking\n*yoga *pilates\n*water sports\n*cardio ki
 ckboxing\n*flip cup and beer pong games\n*keg softball\n*S’mores mak
 ing by a campfire\n*wine tasting\n*Friday and Saturday night dance par
 ties!\n\nCabins:\nWhen you book you can ask to be placed with OTHER ME
 MBERS OF NJYP.\nCabin size ranges from doubles to quads.\n\nMore infor
 mation:\nhttp://www.clubgetaway.com/affil/default.asp?AffiliateMicroSi
 teID=621\n877.777.6055\nI (Laura) have gone the last two years so emai
 l me with questions, Laura@NJYP.org\n\nFor more information visit http
 ://njyp.org/events/club-getaway-fall-sports
DTSTART;TZID=America/New_York:20101001T180000
DTEND;TZID=America/New_York:20101003T190000
CATEGORIES:social, athletic
LOCATION:Club Getaway
WEBSITE:http://www.clubgetaway.com/affil/default.asp?AffiliateMicroSit
 eID=621%20877.777.6055\"
URL:http://www.clubgetaway.com/affil/default.asp?AffiliateMicroSiteID=
 621%20877.777.6055\"
CONTACT:
ORGANIZER;CN="Brian and Mike":http://njyp.org/profile/BrianMike
ATTACH;FMTTYPE="image/jpeg":http://storage.ning.com/topology/rest/1.0/
 file/get/1088612733?profile=original
ATTENDEE;ROLE=REQ-PARTICIPANT;PARTSTAT=ACCEPTED;RSVP=TRUE;CN="enrico v
 entola":http://njyp.org/profile/enricoventola
ATTENDEE;ROLE=REQ-PARTICIPANT;PARTSTAT=ACCEPTED;RSVP=TRUE;CN="Brian an
 d Mike":http://njyp.org/profile/BrianMike
ATTENDEE;ROLE=REQ-PARTICIPANT;PARTSTAT=TENTATIVE;RSVP=TRUE;CN=Kim:http
 ://njyp.org/profile/Kim764
ATTENDEE;ROLE=REQ-PARTICIPANT;PARTSTAT=TENTATIVE;RSVP=TRUE;CN="Melanie
  Wische":http://njyp.org/profile/MelanieWische
ATTENDEE;ROLE=REQ-PARTICIPANT;PARTSTAT=TENTATIVE;RSVP=TRUE;CN=Anup:htt
 p://njyp.org/profile/Anup
END:VEVENT
END:VCALENDAR
