BEGIN:VCALENDAR
PRODID:NingEventWidget-v1
VERSION:2.0
METHOD:PUBLISH
BEGIN:VTIMEZONE
TZID:America/New_York
X-LIC-LOCATION:America/New_York
BEGIN:DAYLIGHT
TZOFFSETFROM:-0500
TZOFFSETTO:-0400
TZNAME:EDT
DTSTART:19700308T020000
RRULE:FREQ=YEARLY;BYMONTH=3;BYDAY=2SU
END:DAYLIGHT
BEGIN:STANDARD
TZOFFSETFROM:-0400
TZOFFSETTO:-0500
TZNAME:EST
DTSTART:19701101T020000
RRULE:FREQ=YEARLY;BYMONTH=11;BYDAY=1SU
END:STANDARD
END:VTIMEZONE
BEGIN:VEVENT
UID:2938326:Event:66245
DTSTAMP:20260420T060350Z
SUMMARY:Club Getaway: Sports and Fun Weekend
DESCRIPTION:Join NJYP at Club Getaway for their Sports and Fun Weekend
 ! Hundreds of Professionals from all over the Northeast will come toge
 ther to play for an entire weekend! There will be activities galore, h
 uge buffets, dance parties, and the opportunity to make new friends.\n
 \nDates:\nFriday Aug 13th at 5:30pm\nto Sunday Aug 15th at 4:00pm\n\nC
 ost:\n$379 (before the discount)\n\nSave $25 when you Mention NJYP\n- 
 You do NOT need to be a Member of NJYP.\n- You can share the code with
  friends.\n- Save $25 off ANY weekend, not just this one.\n\nCost Incl
 udes:\nAir conditioned cabin; each with a private bath.\nAll linens.\n
 All meals (excellent buffets).\nUnlimited wine with dinner.\nALL activ
 ities.\n\nSample Activities:\n*rock climbing *kayaking\n*trapeze lesso
 ns *kickboxing\n*golfing *biking\n*yoga *pilates\n*water sports\n*card
 io kickboxing\n*flip cup and beer pong games\n*keg softball\n*S’more
 s making by a campfire\n*wine tasting\n*Friday and Saturday night danc
 e parties!\n\nCabins:\nWhen you book you can ask to be placed with OTH
 ER MEMBERS OF NJYP.\nCabin size ranges from doubles to quads.\n\nMore 
 information:\nhttp://www.clubgetaway.com/affil/default.asp?AffiliateMi
 croSiteID=621\n877.777.6055\nI (Laura) have gone the last two years so
  email me with questions, Laura@NJYP.org\n\nFor more information visit
  http://njyp.org/events/club-getaway-sports-and-fun
DTSTART;TZID=America/New_York:20100813T173000
DTEND;TZID=America/New_York:20100815T160000
CATEGORIES:social, athletic
LOCATION:Club Getaway
WEBSITE:http://www.clubgetaway.com/affil/default.asp?AffiliateMicroSit
 eID=621
URL:http://www.clubgetaway.com/affil/default.asp?AffiliateMicroSiteID=
 621
CONTACT:
ORGANIZER;CN="Brian and Mike":http://njyp.org/profile/BrianMike
ATTACH;FMTTYPE="image/jpeg":http://storage.ning.com/topology/rest/1.0/
 file/get/1088612647?profile=original
ATTENDEE;ROLE=REQ-PARTICIPANT;PARTSTAT=ACCEPTED;RSVP=TRUE;CN="Brian an
 d Mike":http://njyp.org/profile/BrianMike
ATTENDEE;ROLE=REQ-PARTICIPANT;PARTSTAT=TENTATIVE;RSVP=TRUE;CN=Laura:ht
 tp://njyp.org/profile/Laura668
ATTENDEE;ROLE=REQ-PARTICIPANT;PARTSTAT=TENTATIVE;RSVP=TRUE;CN=David:ht
 tp://njyp.org/profile/DavidCosaboom
ATTENDEE;ROLE=REQ-PARTICIPANT;PARTSTAT=TENTATIVE;RSVP=TRUE;CN="John K.
 ":http://njyp.org/profile/skiandpilot
END:VEVENT
END:VCALENDAR
