BEGIN:VCALENDAR
PRODID:NingEventWidget-v1
VERSION:2.0
METHOD:PUBLISH
BEGIN:VTIMEZONE
TZID:America/New_York
X-LIC-LOCATION:America/New_York
BEGIN:DAYLIGHT
TZOFFSETFROM:-0500
TZOFFSETTO:-0400
TZNAME:EDT
DTSTART:19700308T020000
RRULE:FREQ=YEARLY;BYMONTH=3;BYDAY=2SU
END:DAYLIGHT
BEGIN:STANDARD
TZOFFSETFROM:-0400
TZOFFSETTO:-0500
TZNAME:EST
DTSTART:19701101T020000
RRULE:FREQ=YEARLY;BYMONTH=11;BYDAY=1SU
END:STANDARD
END:VTIMEZONE
BEGIN:VEVENT
UID:2938326:Event:13688
DTSTAMP:20260422T095503Z
SUMMARY:Club Getaway Weekend
DESCRIPTION:Join NJYP at Club Getaway for a Value Sports & Fun Weekend
 ! The cost is only $254 if you mention NJYP when registering.\n\nDates
 :\nSept 11 at 5pm to – Sept 13 at 5pm\n(you can arrive any time afte
 r 5pm on the 11th)\n\nCost Includes:\nCabin, all you can eat meals (th
 e food is really good), all you can drink wine, all activities. It’s
  a GREAT deal and we know you will have a fantastic time.\n\nHow to Si
 gn-Up:\nCall 877.777.6055\nSave $25 when you Mention NJYP (you do not 
 need to be a paid member and you can pass the code to your friends).!\
 n\nRooming:\nWhen you book you can ask to be placed with OTHER MEMBERS
  OF NJYP. You will only be placed in same-gender rooms unless you book
  a co-ed quad with your friends.\n\nFind out More\n\nFor more informat
 ion visit http://njyp.org/events/club-getaway-weekend-1
DTSTART;TZID=America/New_York:20090911T170000
DTEND;TZID=America/New_York:20090913T170000
CATEGORIES:social, athletic
LOCATION:Club Getaway
WEBSITE:http://www.clubgetaway.com/affil/default.asp?AffiliateMicroSit
 eID=324
URL:http://www.clubgetaway.com/affil/default.asp?AffiliateMicroSiteID=
 324
CONTACT:
ORGANIZER;CN="Brian and Mike":http://njyp.org/profile/BrianMike
ATTACH;FMTTYPE="image/jpeg":http://storage.ning.com/topology/rest/1.0/
 file/get/1088550526?profile=original
ATTENDEE;ROLE=REQ-PARTICIPANT;PARTSTAT=ACCEPTED;RSVP=TRUE;CN="Bruce Sh
 apiro":http://njyp.org/profile/BruceShapiro
ATTENDEE;ROLE=REQ-PARTICIPANT;PARTSTAT=ACCEPTED;RSVP=TRUE;CN="Tracy Ha
 yes":http://njyp.org/profile/TracyHayes
ATTENDEE;ROLE=REQ-PARTICIPANT;PARTSTAT=ACCEPTED;RSVP=TRUE;CN="Laura La
 briola":http://njyp.org/profile/LauraLabriola
ATTENDEE;ROLE=REQ-PARTICIPANT;PARTSTAT=ACCEPTED;RSVP=TRUE;CN=Sara:http
 ://njyp.org/profile/SaraLevenstein
ATTENDEE;ROLE=REQ-PARTICIPANT;PARTSTAT=ACCEPTED;RSVP=TRUE;CN=Lizzie:ht
 tp://njyp.org/profile/ElizabethKuhns
ATTENDEE;ROLE=REQ-PARTICIPANT;PARTSTAT=ACCEPTED;RSVP=TRUE;CN="Dr. Kevi
 n":http://njyp.org/profile/KevinBrennan
ATTENDEE;ROLE=REQ-PARTICIPANT;PARTSTAT=ACCEPTED;RSVP=TRUE;CN="Brian an
 d Mike":http://njyp.org/profile/BrianMike
ATTENDEE;ROLE=REQ-PARTICIPANT;PARTSTAT=TENTATIVE;RSVP=TRUE;CN=Olivia:h
 ttp://njyp.org/profile/Olivia
END:VEVENT
END:VCALENDAR
