BEGIN:VCALENDAR
PRODID:NingEventWidget-v1
VERSION:2.0
METHOD:PUBLISH
BEGIN:VTIMEZONE
TZID:America/New_York
X-LIC-LOCATION:America/New_York
BEGIN:DAYLIGHT
TZOFFSETFROM:-0500
TZOFFSETTO:-0400
TZNAME:EDT
DTSTART:19700308T020000
RRULE:FREQ=YEARLY;BYMONTH=3;BYDAY=2SU
END:DAYLIGHT
BEGIN:STANDARD
TZOFFSETFROM:-0400
TZOFFSETTO:-0500
TZNAME:EST
DTSTART:19701101T020000
RRULE:FREQ=YEARLY;BYMONTH=11;BYDAY=1SU
END:STANDARD
END:VTIMEZONE
BEGIN:VEVENT
UID:2938326:Event:3015
DTSTAMP:20260420T042922Z
SUMMARY:Club Getaway Weekend- SOLD OUT
DESCRIPTION:Join NJYP at Club Getaway for Value Sports & Fun Weekend\n
 June 19-21\n\nJust $254 when you Mention NJYP!\n\nCall 877.777.6055 an
 d mention NJYP (you do not need to be a paid member and you can pass t
 he code to your friends).\n\nCost Includes:\nCabin, all you can eat me
 als (the food is really good), all you can drink wine, all activities.
 \n\nFind out More\n\nWhen you book you can ask to be placed with OTHER
  MEMBERS OF NJYP.\n\nFor more information visit http://njyp.org/events
 /club-getaway-weekend-sold-out
DTSTART;TZID=America/New_York:20090619T173000
DTEND;TZID=America/New_York:20090621T160000
CATEGORIES:social, athletic
LOCATION:Club  Getaway
WEBSITE:
URL:
CONTACT:
ORGANIZER;CN="Brian and Mike":http://njyp.org/profile/BrianMike
ATTACH;FMTTYPE="image/jpeg":http://storage.ning.com/topology/rest/1.0/
 file/get/1088530194?profile=original
ATTENDEE;ROLE=REQ-PARTICIPANT;PARTSTAT=ACCEPTED;RSVP=TRUE;CN="ILIA ROM
 ERO":http://njyp.org/profile/ILIAROMERO
ATTENDEE;ROLE=REQ-PARTICIPANT;PARTSTAT=ACCEPTED;RSVP=TRUE;CN="JW Scher
 m":http://njyp.org/profile/JWScherm
ATTENDEE;ROLE=REQ-PARTICIPANT;PARTSTAT=ACCEPTED;RSVP=TRUE;CN=Zakkiyya:
 http://njyp.org/profile/ZakkiyyaTaylor
ATTENDEE;ROLE=REQ-PARTICIPANT;PARTSTAT=ACCEPTED;RSVP=TRUE;CN="Bibi B t
 he Nutritionist":http://njyp.org/profile/BibianaBendikova
ATTENDEE;ROLE=REQ-PARTICIPANT;PARTSTAT=TENTATIVE;RSVP=TRUE;CN="Brian a
 nd Mike":http://njyp.org/profile/BrianMike
END:VEVENT
END:VCALENDAR
