BEGIN:VCALENDAR
PRODID:NingEventWidget-v1
VERSION:2.0
METHOD:PUBLISH
BEGIN:VTIMEZONE
TZID:America/New_York
X-LIC-LOCATION:America/New_York
BEGIN:DAYLIGHT
TZOFFSETFROM:-0500
TZOFFSETTO:-0400
TZNAME:EDT
DTSTART:19700308T020000
RRULE:FREQ=YEARLY;BYMONTH=3;BYDAY=2SU
END:DAYLIGHT
BEGIN:STANDARD
TZOFFSETFROM:-0400
TZOFFSETTO:-0500
TZNAME:EST
DTSTART:19701101T020000
RRULE:FREQ=YEARLY;BYMONTH=11;BYDAY=1SU
END:STANDARD
END:VTIMEZONE
BEGIN:VEVENT
UID:2938326:Event:13682
DTSTAMP:20260421T170422Z
SUMMARY:Club Getaway Weekend
DESCRIPTION:Join NJYP at Club Getaway for a Sports & Fun Weekend\nAug1
 4-16\n\nSave $25 when you Mention NJYP (you do not need to be a paid m
 ember and you can pass the code to your friends).!\n\nCall 877.777.605
 5\n\nCost Includes:\nCabin, all you can eat meals (the food is really 
 good), all you can drink wine, all activities.\n\nFind out More\n\nWhe
 n you book you can ask to be placed with OTHER MEMBERS OF NJYP.\n\nFor
  more information visit http://njyp.org/events/club-getaway-weekend
DTSTART;TZID=America/New_York:20090814T170000
DTEND;TZID=America/New_York:20090816T170000
CATEGORIES:social, athletic
LOCATION:Club Getaway
WEBSITE:
URL:
CONTACT:
ORGANIZER;CN="Brian and Mike":http://njyp.org/profile/BrianMike
ATTACH;FMTTYPE="image/jpeg":http://storage.ning.com/topology/rest/1.0/
 file/get/1088550345?profile=original
END:VEVENT
END:VCALENDAR
