BEGIN:VCALENDAR
PRODID:NingEventWidget-v1
VERSION:2.0
METHOD:PUBLISH
BEGIN:VTIMEZONE
TZID:America/New_York
X-LIC-LOCATION:America/New_York
BEGIN:DAYLIGHT
TZOFFSETFROM:-0500
TZOFFSETTO:-0400
TZNAME:EDT
DTSTART:19700308T020000
RRULE:FREQ=YEARLY;BYMONTH=3;BYDAY=2SU
END:DAYLIGHT
BEGIN:STANDARD
TZOFFSETFROM:-0400
TZOFFSETTO:-0500
TZNAME:EST
DTSTART:19701101T020000
RRULE:FREQ=YEARLY;BYMONTH=11;BYDAY=1SU
END:STANDARD
END:VTIMEZONE
BEGIN:VEVENT
UID:2938326:Event:527628
DTSTAMP:20260419T210146Z
SUMMARY:Club Getaway: YP Weekend
DESCRIPTION:Join NJYP at Club Getaway for their Young Professionals We
 ekend! Hundreds of Young Professionals from all over the Northeast wil
 l come together to play for an entire weekend! \n Dates: Friday July 
 18th at 5:30pm (arriving late is ok) to Sunday July 20 at 4:00pm  Cost
 : $424 (before the discount) To save your spot there is only a refunda
 ble deposit required.\nSave $$$ when you Mention NJYP - You do NOT nee
 d to be a Member of NJYP. - You can share the code with friends. - Sav
 e $$$ off ANY weekend.  Cost Includes: Air conditioned cabin; each wit
 h a private bath. All linens. Wine with dinner. ALL activities.  Sampl
 e Activities: *rock climbing *kayaking *trapeze lessons *kickboxing *g
 olfing *biking *yoga *pilates *water sports *cardio kickboxing *flip c
 up and beer pong games *keg softball *S’mores making by a campfire *
 wine tasting *Friday and Saturday night dance parties!  Cabins: When y
 ou book you can ask to be placed with OTHER MEMBERS OF NJYP. Cabin siz
 e ranges from doubles to quads.  More information:http://clubgetaway.c
 om/affil/default.asp?AffiliateMicroSiteID=1372 I (Laura) have gone to 
 Club Getaway 4x so email me with questions, Laura@NJYP.org\n\nFor more
  information visit http://njyp.org/events/club-getaway-yp-weekend-4
DTSTART;TZID=America/New_York:20140718T173000
DTEND;TZID=America/New_York:20140720T160000
CATEGORIES:social, athletic, "other county"
LOCATION:Club Getaway
WEBSITE:http://clubgetaway.com/affil/default.asp?AffiliateMicroSiteID=
 1372
URL:http://clubgetaway.com/affil/default.asp?AffiliateMicroSiteID=1372
CONTACT:
ORGANIZER;CN="Brian and Mike":http://njyp.org/profile/BrianMike
ATTACH;FMTTYPE="image/jpeg":http://storage.ning.com/topology/rest/1.0/
 file/get/1088938647?profile=original
ATTENDEE;ROLE=REQ-PARTICIPANT;PARTSTAT=ACCEPTED;RSVP=TRUE;CN=Karen:htt
 p://njyp.org/profile/Karen839
ATTENDEE;ROLE=REQ-PARTICIPANT;PARTSTAT=ACCEPTED;RSVP=TRUE;CN=Wes:http:
 //njyp.org/profile/Wes
ATTENDEE;ROLE=REQ-PARTICIPANT;PARTSTAT=ACCEPTED;RSVP=TRUE;CN="Brian an
 d Mike":http://njyp.org/profile/BrianMike
ATTENDEE;ROLE=REQ-PARTICIPANT;PARTSTAT=TENTATIVE;RSVP=TRUE;CN=Diana:ht
 tp://njyp.org/profile/Diana437
ATTENDEE;ROLE=REQ-PARTICIPANT;PARTSTAT=TENTATIVE;RSVP=TRUE;CN=Vadim:ht
 tp://njyp.org/profile/Vadim
ATTENDEE;ROLE=REQ-PARTICIPANT;PARTSTAT=TENTATIVE;RSVP=TRUE;CN="D.j. St
 evie Blatz":http://njyp.org/profile/DjStevieBlatz
ATTENDEE;ROLE=REQ-PARTICIPANT;PARTSTAT=TENTATIVE;RSVP=TRUE;CN=Kathleen
 :http://njyp.org/profile/Kathleen798
ATTENDEE;ROLE=REQ-PARTICIPANT;PARTSTAT=TENTATIVE;RSVP=TRUE;CN=Vonetta:
 http://njyp.org/profile/Vonetta
ATTENDEE;ROLE=REQ-PARTICIPANT;PARTSTAT=TENTATIVE;RSVP=TRUE;CN="Aamir S
 hakir":http://njyp.org/profile/AamirShakir
ATTENDEE;ROLE=REQ-PARTICIPANT;PARTSTAT=TENTATIVE;RSVP=TRUE;CN="Christi
 ne Lombardo":http://njyp.org/profile/ChristineLombardo
ATTENDEE;ROLE=REQ-PARTICIPANT;PARTSTAT=TENTATIVE;RSVP=TRUE;CN=Julie:ht
 tp://njyp.org/profile/Julie942
ATTENDEE;ROLE=REQ-PARTICIPANT;PARTSTAT=TENTATIVE;RSVP=TRUE;CN=Katrina:
 http://njyp.org/profile/Katrina
END:VEVENT
END:VCALENDAR
