BEGIN:VCALENDAR
PRODID:NingEventWidget-v1
VERSION:2.0
METHOD:PUBLISH
BEGIN:VTIMEZONE
TZID:America/New_York
X-LIC-LOCATION:America/New_York
BEGIN:DAYLIGHT
TZOFFSETFROM:-0500
TZOFFSETTO:-0400
TZNAME:EDT
DTSTART:19700308T020000
RRULE:FREQ=YEARLY;BYMONTH=3;BYDAY=2SU
END:DAYLIGHT
BEGIN:STANDARD
TZOFFSETFROM:-0400
TZOFFSETTO:-0500
TZNAME:EST
DTSTART:19701101T020000
RRULE:FREQ=YEARLY;BYMONTH=11;BYDAY=1SU
END:STANDARD
END:VTIMEZONE
BEGIN:VEVENT
UID:2938326:Event:8155
DTSTAMP:20260421T052612Z
SUMMARY:Club Getaway YP Weekend- This WILL SELL OUT
DESCRIPTION:\n\n\n\n\nContact Number 877.777.6055\nMention NJYP and sa
 ve $50!\n\nCost Includes:\nCabin, all you can eat meals (the food is r
 eally good), all you can drink wine, all activities.\n\nFind out More\
 n\nWhen you book you can ask to be placed with OTHER MEMBERS OF NJYP.\
 n\nFor more information visit http://njyp.org/events/club-getaway-yp-w
 eekend-this
DTSTART;TZID=America/New_York:20090731T173000
DTEND;TZID=America/New_York:20090802T160000
CATEGORIES:social, athletic
LOCATION:Club Getaway
WEBSITE:http://www.clubgetaway.com/affil/default.asp?AffiliateMicroSit
 eID=324
URL:http://www.clubgetaway.com/affil/default.asp?AffiliateMicroSiteID=
 324
CONTACT:Call 877.777.6055 and mention NJYP
ORGANIZER;CN="Brian and Mike":http://njyp.org/profile/BrianMike
ATTACH;FMTTYPE="image/jpeg":http://storage.ning.com/topology/rest/1.0/
 file/get/1088540477?profile=original
ATTENDEE;ROLE=REQ-PARTICIPANT;PARTSTAT=ACCEPTED;RSVP=TRUE;CN="Serena V
 aldes":http://njyp.org/profile/SerenaValdes
ATTENDEE;ROLE=REQ-PARTICIPANT;PARTSTAT=ACCEPTED;RSVP=TRUE;CN="Alix Fos
 ter":http://njyp.org/profile/AlixFoster
ATTENDEE;ROLE=REQ-PARTICIPANT;PARTSTAT=ACCEPTED;RSVP=TRUE;CN="Chris Ly
 don":http://njyp.org/profile/ChristopherLydon
ATTENDEE;ROLE=REQ-PARTICIPANT;PARTSTAT=ACCEPTED;RSVP=TRUE;CN=Zakkiyya:
 http://njyp.org/profile/ZakkiyyaTaylor
ATTENDEE;ROLE=REQ-PARTICIPANT;PARTSTAT=TENTATIVE;RSVP=TRUE;CN=Megan:ht
 tp://njyp.org/profile/MeganSullivan
ATTENDEE;ROLE=REQ-PARTICIPANT;PARTSTAT=TENTATIVE;RSVP=TRUE;CN="Lauren 
 L":http://njyp.org/profile/LaurenL
ATTENDEE;ROLE=REQ-PARTICIPANT;PARTSTAT=TENTATIVE;RSVP=TRUE;CN=Eridania
 :http://njyp.org/profile/Eridania
ATTENDEE;ROLE=REQ-PARTICIPANT;PARTSTAT=TENTATIVE;RSVP=TRUE;CN="Jill Co
 nfer":http://njyp.org/profile/JillConfer
ATTENDEE;ROLE=REQ-PARTICIPANT;PARTSTAT=TENTATIVE;RSVP=TRUE;CN="Bibi B 
 the Nutritionist":http://njyp.org/profile/BibianaBendikova
END:VEVENT
END:VCALENDAR
