BEGIN:VCALENDAR
PRODID:NingEventWidget-v1
VERSION:2.0
METHOD:PUBLISH
BEGIN:VTIMEZONE
TZID:America/New_York
X-LIC-LOCATION:America/New_York
BEGIN:DAYLIGHT
TZOFFSETFROM:-0500
TZOFFSETTO:-0400
TZNAME:EDT
DTSTART:19700308T020000
RRULE:FREQ=YEARLY;BYMONTH=3;BYDAY=2SU
END:DAYLIGHT
BEGIN:STANDARD
TZOFFSETFROM:-0400
TZOFFSETTO:-0500
TZNAME:EST
DTSTART:19701101T020000
RRULE:FREQ=YEARLY;BYMONTH=11;BYDAY=1SU
END:STANDARD
END:VTIMEZONE
BEGIN:VEVENT
UID:2938326:Event:16137
DTSTAMP:20260423T074933Z
SUMMARY:Cocktail Reception and Benefit
DESCRIPTION:GUESS & InStyle Magazine invite the members of NJYP and th
 eir guests to an exclusive cocktail reception in support of Team Chari
 ty. This reception will feature complimentary drinks and food, discoun
 ts, and the chance to support a great 501c3 organization, Team Charity
 .\n\nA portion of the evening’s proceeds will benefit Team Charity, 
 a young professional philanthropic group who support the following cau
 ses; health, children, seniors, animals, environment and financially f
 ragile populations.\n\nWhat you get:\n* Complimentary savory hors d’
 oeuvres and desserts as well as complimentary wine and cocktails.\n\n*
  Receive 20% off of your purchase with a $5.00 minimum donation to Tea
 m Charity during the event hours.\n\n* Receive an exclusive gift with 
 any purchase, including products from GUESS, InStyle Magazine, M.A.C.,
  ESSIE, philosophy and more, with any purchase and sign up to the GUES
 S List Loyalty Program.*\n\n* Step onto the red carpet for your celebr
 ity photo debut while M.A.C. artists share make-up tips and trends to 
 match yourFall wardrobe.\n\nCost:\nFREE but you must register to atten
 d.\n\nRegistration:\nPlease register by September 23 by calling 800-88
 4-8186 or via email GUESSrsvp@guess.com\n\nHow to find the group:\nThi
 s will be an exclusive event at GUESS and the store will be closed to 
 the public during this two hour period.\n\n*GWP available while suppli
 es last.\n\nFor more information visit http://njyp.org/events/cocktail
 -reception-and-benefit
DTSTART;TZID=America/New_York:20090924T183000
DTEND;TZID=America/New_York:20090924T203000
CATEGORIES:"bergen county", social, community
LOCATION:GUESS Store in the Garden State Plaza
WEBSITE:http://shop.guess.com/
URL:http://shop.guess.com/
CONTACT:
ORGANIZER;CN="Brian and Mike":http://njyp.org/profile/BrianMike
ATTACH;FMTTYPE="image/jpeg":http://storage.ning.com/topology/rest/1.0/
 file/get/1088555711?profile=original
ATTENDEE;ROLE=REQ-PARTICIPANT;PARTSTAT=ACCEPTED;RSVP=TRUE;CN=Feuza:htt
 p://njyp.org/profile/Feuza
ATTENDEE;ROLE=REQ-PARTICIPANT;PARTSTAT=ACCEPTED;RSVP=TRUE;CN="Niraj Ch
 habra":http://njyp.org/profile/nirajchhabra
ATTENDEE;ROLE=REQ-PARTICIPANT;PARTSTAT=ACCEPTED;RSVP=TRUE;CN=Ofelia:ht
 tp://njyp.org/profile/Ofelia
ATTENDEE;ROLE=REQ-PARTICIPANT;PARTSTAT=ACCEPTED;RSVP=TRUE;CN="Dennis L
 ee":http://njyp.org/profile/leeden
ATTENDEE;ROLE=REQ-PARTICIPANT;PARTSTAT=ACCEPTED;RSVP=TRUE;CN="Gael Bur
 man":http://njyp.org/profile/GaelBurman
ATTENDEE;ROLE=REQ-PARTICIPANT;PARTSTAT=ACCEPTED;RSVP=TRUE;CN="Sara Kam
 pen":http://njyp.org/profile/SaraKampen
ATTENDEE;ROLE=REQ-PARTICIPANT;PARTSTAT=ACCEPTED;RSVP=TRUE;CN=Serkan:ht
 tp://njyp.org/profile/ST
ATTENDEE;ROLE=REQ-PARTICIPANT;PARTSTAT=ACCEPTED;RSVP=TRUE;CN="Dara L. 
 Montgomery":http://njyp.org/profile/DaraLMontgomery
ATTENDEE;ROLE=REQ-PARTICIPANT;PARTSTAT=ACCEPTED;RSVP=TRUE;CN="Kristin 
 Kopec":http://njyp.org/profile/KristinKopec
ATTENDEE;ROLE=REQ-PARTICIPANT;PARTSTAT=ACCEPTED;RSVP=TRUE;CN="Megan Wi
 lliams":http://njyp.org/profile/MeganWilliams
ATTENDEE;ROLE=REQ-PARTICIPANT;PARTSTAT=ACCEPTED;RSVP=TRUE;CN=Kelley:ht
 tp://njyp.org/profile/KelleyBoyle
ATTENDEE;ROLE=REQ-PARTICIPANT;PARTSTAT=ACCEPTED;RSVP=TRUE;CN="Rhadisha
  Drummond":http://njyp.org/profile/RhadishaDrummond
ATTENDEE;ROLE=REQ-PARTICIPANT;PARTSTAT=ACCEPTED;RSVP=TRUE;CN="Jen Bell
 ":http://njyp.org/profile/jb73
ATTENDEE;ROLE=REQ-PARTICIPANT;PARTSTAT=ACCEPTED;RSVP=TRUE;CN="Wendy Pa
 rker":http://njyp.org/profile/WendyParker
ATTENDEE;ROLE=REQ-PARTICIPANT;PARTSTAT=ACCEPTED;RSVP=TRUE;CN="NIcole V
 innal":http://njyp.org/profile/NIcoleVinnal
ATTENDEE;ROLE=REQ-PARTICIPANT;PARTSTAT=ACCEPTED;RSVP=TRUE;CN="Maria T.
  Cruz":http://njyp.org/profile/MariaTCruz
ATTENDEE;ROLE=REQ-PARTICIPANT;PARTSTAT=ACCEPTED;RSVP=TRUE;CN=Shirley:h
 ttp://njyp.org/profile/shirleyzuniga
ATTENDEE;ROLE=REQ-PARTICIPANT;PARTSTAT=ACCEPTED;RSVP=TRUE;CN=Michelle:
 http://njyp.org/profile/MichelleB
ATTENDEE;ROLE=REQ-PARTICIPANT;PARTSTAT=ACCEPTED;RSVP=TRUE;CN=Antonella
 :http://njyp.org/profile/Antonella
ATTENDEE;ROLE=REQ-PARTICIPANT;PARTSTAT=ACCEPTED;RSVP=TRUE;CN="Brian an
 d Mike":http://njyp.org/profile/BrianMike
ATTENDEE;ROLE=REQ-PARTICIPANT;PARTSTAT=TENTATIVE;RSVP=TRUE;CN="Sue Wal
 dman":http://njyp.org/profile/SueWaldman
ATTENDEE;ROLE=REQ-PARTICIPANT;PARTSTAT=TENTATIVE;RSVP=TRUE;CN="Kimberl
 y LoPinto":http://njyp.org/profile/KimberlyBeskin
ATTENDEE;ROLE=REQ-PARTICIPANT;PARTSTAT=TENTATIVE;RSVP=TRUE;CN="Ruth Fl
 ores":http://njyp.org/profile/RuthFlores
ATTENDEE;ROLE=REQ-PARTICIPANT;PARTSTAT=TENTATIVE;RSVP=TRUE;CN="Joe Han
 zel Troy":http://njyp.org/profile/JosephHanzelDagdagan
ATTENDEE;ROLE=REQ-PARTICIPANT;PARTSTAT=TENTATIVE;RSVP=TRUE;CN="Sonia B
 atra":http://njyp.org/profile/SoniaBatra
END:VEVENT
END:VCALENDAR
