BEGIN:VCALENDAR
PRODID:NingEventWidget-v1
VERSION:2.0
METHOD:PUBLISH
BEGIN:VTIMEZONE
TZID:America/New_York
X-LIC-LOCATION:America/New_York
BEGIN:DAYLIGHT
TZOFFSETFROM:-0500
TZOFFSETTO:-0400
TZNAME:EDT
DTSTART:19700308T020000
RRULE:FREQ=YEARLY;BYMONTH=3;BYDAY=2SU
END:DAYLIGHT
BEGIN:STANDARD
TZOFFSETFROM:-0400
TZOFFSETTO:-0500
TZNAME:EST
DTSTART:19701101T020000
RRULE:FREQ=YEARLY;BYMONTH=11;BYDAY=1SU
END:STANDARD
END:VTIMEZONE
BEGIN:VEVENT
UID:2938326:Event:842
DTSTAMP:20260420T060057Z
SUMMARY:Co-Ed 4 Minute Friending in Bridgewater
DESCRIPTION:NJYP is proud to present 4 Minute Friending. Yes, we did j
 ust say Friending. Think of Speed Dating only without the date. You wi
 ll meet with someone for a few minutes then, at the ring of a bell, mo
 ve on to the next person. By the end of the night the whole thing will
  turn into a mingle, only for once you will actually know most of the 
 crowd.\n\nAdditionally, before starting the Friending, you will be giv
 en an information sheet that will list each participant's Name, Email,
  Job Title, and Interests! Yup, you can easily contact your new friend
 s to get together on a Friday night, to exercise with, to shop with, t
 o network with, etc.\n\n\nRSVP (to the right) and we will let you know
  when tix are almost gone, when prices are going up, if there are any 
 changes, etc.\n\nWho should attend:\nThis event is open to MEN and WOM
 EN who are 21-39, single or married.\nCome out to make new friends or 
 come to network.\nThere is no dress code and you may bring business ca
 rds.\n\n2 Item Minimum:\nEveryone must purchase 2 items (food or drink
 ). Ask the bartender if there are any drink specials going on.\n\nMemb
 er Cost:\n$5 for the first 10 to register\n$10 for the next 11 to 30 t
 o register\n$15 for the next 31 to 50 to register\n$20 for walk-ins\nW
 alk-Ins will not be on the shared information sheet.\n\nNon-Member Cos
 t:\n$20 online and at the door.\n\nPremium Member Cost:\nFREE but you 
 must register on Eventbrite.\nWalk-Ins will not be on the shared infor
 mation sheet.\n\nTickets:\nThere are a limited number of Tickets for s
 ale.\nTickets are not mailed, but your name will be kept at the door. 
 All sales are final.\n\nNJYP Host:\nLaura will be hosting this event.\
 n\nParking:\nLots of free parking!\n\nFinding the Group:\nAsk for NJYP
  or meet in the private party room.\n\nFor more information visit http
 ://njyp.org/events/coed-4-minute-friending-in-1
DTSTART;TZID=America/New_York:20090609T190000
DTEND;TZID=America/New_York:20090609T210000
CATEGORIES:"somerset county", social
LOCATION:Green Knoll Grill
WEBSITE:http://www.greenknollgrille.net/
URL:http://www.greenknollgrille.net/
CONTACT:
ORGANIZER;CN="Brian and Mike":http://njyp.org/profile/BrianMike
ATTACH;FMTTYPE="image/jpeg":http://storage.ning.com/topology/rest/1.0/
 file/get/1088519241?profile=original
ATTENDEE;ROLE=REQ-PARTICIPANT;PARTSTAT=ACCEPTED;RSVP=TRUE;CN="tim vinn
 al":http://njyp.org/profile/timvinnal631
ATTENDEE;ROLE=REQ-PARTICIPANT;PARTSTAT=ACCEPTED;RSVP=TRUE;CN=Frank:htt
 p://njyp.org/profile/Frank914
ATTENDEE;ROLE=REQ-PARTICIPANT;PARTSTAT=ACCEPTED;RSVP=TRUE;CN="Debbie N
 essim":http://njyp.org/profile/DebbieNessim
ATTENDEE;ROLE=REQ-PARTICIPANT;PARTSTAT=ACCEPTED;RSVP=TRUE;CN="ILIA ROM
 ERO":http://njyp.org/profile/ILIAROMERO
ATTENDEE;ROLE=REQ-PARTICIPANT;PARTSTAT=ACCEPTED;RSVP=TRUE;CN="laura id
 en":http://njyp.org/profile/lauraiden
ATTENDEE;ROLE=REQ-PARTICIPANT;PARTSTAT=ACCEPTED;RSVP=TRUE;CN=Susan:htt
 p://njyp.org/profile/Susan
ATTENDEE;ROLE=REQ-PARTICIPANT;PARTSTAT=ACCEPTED;RSVP=TRUE;CN=Helen:htt
 p://njyp.org/profile/Helen
ATTENDEE;ROLE=REQ-PARTICIPANT;PARTSTAT=ACCEPTED;RSVP=TRUE;CN="Megan Ho
 ffman":http://njyp.org/profile/MeganHoffman
ATTENDEE;ROLE=REQ-PARTICIPANT;PARTSTAT=ACCEPTED;RSVP=TRUE;CN="Sean Cof
 fey":http://njyp.org/profile/SeanCoffey
ATTENDEE;ROLE=REQ-PARTICIPANT;PARTSTAT=ACCEPTED;RSVP=TRUE;CN=Caleb:htt
 p://njyp.org/profile/Olebo
ATTENDEE;ROLE=REQ-PARTICIPANT;PARTSTAT=ACCEPTED;RSVP=TRUE;CN=Frank:htt
 p://njyp.org/profile/Frank
ATTENDEE;ROLE=REQ-PARTICIPANT;PARTSTAT=ACCEPTED;RSVP=TRUE;CN="Carrie N
 .":http://njyp.org/profile/CarrieNeigel
ATTENDEE;ROLE=REQ-PARTICIPANT;PARTSTAT=ACCEPTED;RSVP=TRUE;CN="Marisa N
 ogueira":http://njyp.org/profile/Marisa
ATTENDEE;ROLE=REQ-PARTICIPANT;PARTSTAT=ACCEPTED;RSVP=TRUE;CN="Serena V
 aldes":http://njyp.org/profile/SerenaValdes
ATTENDEE;ROLE=REQ-PARTICIPANT;PARTSTAT=ACCEPTED;RSVP=TRUE;CN="Karthik 
 Subramanian":http://njyp.org/profile/KarthikSubramanian
ATTENDEE;ROLE=REQ-PARTICIPANT;PARTSTAT=ACCEPTED;RSVP=TRUE;CN=Charity:h
 ttp://njyp.org/profile/CharityLynnFues
ATTENDEE;ROLE=REQ-PARTICIPANT;PARTSTAT=ACCEPTED;RSVP=TRUE;CN="Kate Ken
 nedy":http://njyp.org/profile/KateKennedy
ATTENDEE;ROLE=REQ-PARTICIPANT;PARTSTAT=ACCEPTED;RSVP=TRUE;CN="Denise O
 liveri":http://njyp.org/profile/DeniseOliveri
ATTENDEE;ROLE=REQ-PARTICIPANT;PARTSTAT=ACCEPTED;RSVP=TRUE;CN="Bibi B t
 he Nutritionist":http://njyp.org/profile/BibianaBendikova
ATTENDEE;ROLE=REQ-PARTICIPANT;PARTSTAT=ACCEPTED;RSVP=TRUE;CN="JW Scher
 m":http://njyp.org/profile/JWScherm
ATTENDEE;ROLE=REQ-PARTICIPANT;PARTSTAT=ACCEPTED;RSVP=TRUE;CN="Brian an
 d Mike":http://njyp.org/profile/BrianMike
ATTENDEE;ROLE=REQ-PARTICIPANT;PARTSTAT=TENTATIVE;RSVP=TRUE;CN="Justin 
 Lejava":http://njyp.org/profile/JustinLejava
ATTENDEE;ROLE=REQ-PARTICIPANT;PARTSTAT=TENTATIVE;RSVP=TRUE;CN=Dar:http
 ://njyp.org/profile/Darlene
ATTENDEE;ROLE=REQ-PARTICIPANT;PARTSTAT=TENTATIVE;RSVP=TRUE;CN="Peter E
 skow":http://njyp.org/profile/PeterEskow
END:VEVENT
END:VCALENDAR
