BEGIN:VCALENDAR
PRODID:NingEventWidget-v1
VERSION:2.0
METHOD:PUBLISH
BEGIN:VTIMEZONE
TZID:America/New_York
X-LIC-LOCATION:America/New_York
BEGIN:DAYLIGHT
TZOFFSETFROM:-0500
TZOFFSETTO:-0400
TZNAME:EDT
DTSTART:19700308T020000
RRULE:FREQ=YEARLY;BYMONTH=3;BYDAY=2SU
END:DAYLIGHT
BEGIN:STANDARD
TZOFFSETFROM:-0400
TZOFFSETTO:-0500
TZNAME:EST
DTSTART:19701101T020000
RRULE:FREQ=YEARLY;BYMONTH=11;BYDAY=1SU
END:STANDARD
END:VTIMEZONE
BEGIN:VEVENT
UID:2938326:Event:8894
DTSTAMP:20260421T052619Z
SUMMARY:Co-Ed 4 Minute Friending in Bloomfield- Canceled
DESCRIPTION:I’m sorry everyone but only 12 tickets sold for this eve
 nt so I am going to cancel it. I blame it on July so let’s try again
  in the FALL for sure. Refunds will be sent shortly.\n\nBest, Laura\n\
 nNJYP is proud to present 4 Minute Friending. Yes, we did just say Fri
 ending. Think of Speed Dating only without the date. You will meet wit
 h someone for a few minutes then, at the ring of a bell, move on to th
 e next person. By the end of the night the whole thing will turn into 
 a mingle, only for once you will actually know most of the crowd.\n\nA
 dditionally, before starting the Friending, you will be given an infor
 mation sheet that will list each participant's Name, Email, Job Title,
  and Interests! Yup, you can easily contact your new friends to get to
 gether on a Friday night, to exercise with, to shop with, to network w
 ith, etc.\n\n\nRSVP (to the right) and we will let you know when tix a
 re almost gone, when prices are going up, if there are any changes, et
 c.\n\nMember Cost:\nJUST $5 online\n$20 for walk-ins\nWalk-Ins will no
 t be on the shared information sheet.\n\nNon-Member Cost:\n$20 online 
 and at the door\n\nPremium Member Cost:\nFREE but you must register on
  Eventbrite.\nWalk-Ins will not be on the shared information sheet.\n\
 nWho should attend:\nThis event is open to MEN and WOMEN who are 21-39
 , single or married.\nCome out to make new friends or come to network.
 \nThere is no dress code and you may bring business cards.\n\n2 Item M
 inimum:\nEveryone must purchase 2 drink items. Ask the bartender if th
 ere are any drink specials going on.\n\nTickets:\nThere are a limited 
 number of Tickets for sale.\nTickets are not mailed, but your name wil
 l be kept at the door.\nAll sales are final.\n\nFinding the Group:\nAs
 k for NJYP when you arrive.\nWe will probably be upstairs.\n\nFor more
  information visit http://njyp.org/events/coed-4-minute-friending-in-2
DTSTART;TZID=America/New_York:20090728T190000
DTEND;TZID=America/New_York:20090728T210000
CATEGORIES:"essex county", social
LOCATION:Senorita's Mexican Grill
WEBSITE:http://www.senoritasmexicangrill.com/?page_id=17
URL:http://www.senoritasmexicangrill.com/?page_id=17
CONTACT:
ORGANIZER;CN="Brian and Mike":http://njyp.org/profile/BrianMike
ATTACH;FMTTYPE="image/jpeg":http://storage.ning.com/topology/rest/1.0/
 file/get/1088545185?profile=original
ATTENDEE;ROLE=REQ-PARTICIPANT;PARTSTAT=ACCEPTED;RSVP=TRUE;CN="Chip Rob
 inson":http://njyp.org/profile/ChipRobinson
ATTENDEE;ROLE=REQ-PARTICIPANT;PARTSTAT=ACCEPTED;RSVP=TRUE;CN=Luigi:htt
 p://njyp.org/profile/Luigi
ATTENDEE;ROLE=REQ-PARTICIPANT;PARTSTAT=ACCEPTED;RSVP=TRUE;CN="Benjamin
  Stewart":http://njyp.org/profile/BenjaminStewart
ATTENDEE;ROLE=REQ-PARTICIPANT;PARTSTAT=ACCEPTED;RSVP=TRUE;CN="Melanie 
 Hazim":http://njyp.org/profile/MelanieHazim
ATTENDEE;ROLE=REQ-PARTICIPANT;PARTSTAT=ACCEPTED;RSVP=TRUE;CN="Sarah Da
 naher":http://njyp.org/profile/SarahDanaher
ATTENDEE;ROLE=REQ-PARTICIPANT;PARTSTAT=ACCEPTED;RSVP=TRUE;CN="Daniel W
 alter":http://njyp.org/profile/DanWalter
ATTENDEE;ROLE=REQ-PARTICIPANT;PARTSTAT=ACCEPTED;RSVP=TRUE;CN="Sarah Mi
 ddleton":http://njyp.org/profile/SarahM
ATTENDEE;ROLE=REQ-PARTICIPANT;PARTSTAT=ACCEPTED;RSVP=TRUE;CN="George M
 orcos":http://njyp.org/profile/GeorgeMorcos
ATTENDEE;ROLE=REQ-PARTICIPANT;PARTSTAT=ACCEPTED;RSVP=TRUE;CN=Michelle:
 http://njyp.org/profile/MichelleB
ATTENDEE;ROLE=REQ-PARTICIPANT;PARTSTAT=ACCEPTED;RSVP=TRUE;CN="Nikki Ha
 rt":http://njyp.org/profile/DomenicaHart
ATTENDEE;ROLE=REQ-PARTICIPANT;PARTSTAT=ACCEPTED;RSVP=TRUE;CN="Jay Rava
 l":http://njyp.org/profile/JayRaval
ATTENDEE;ROLE=REQ-PARTICIPANT;PARTSTAT=ACCEPTED;RSVP=TRUE;CN="Niraj Ch
 habra":http://njyp.org/profile/nirajchhabra
ATTENDEE;ROLE=REQ-PARTICIPANT;PARTSTAT=ACCEPTED;RSVP=TRUE;CN="Carol Pe
 terson":http://njyp.org/profile/CarolPeterson
ATTENDEE;ROLE=REQ-PARTICIPANT;PARTSTAT=ACCEPTED;RSVP=TRUE;CN="Brian an
 d Mike":http://njyp.org/profile/BrianMike
ATTENDEE;ROLE=REQ-PARTICIPANT;PARTSTAT=TENTATIVE;RSVP=TRUE;CN="Sue Wal
 dman":http://njyp.org/profile/SueWaldman
ATTENDEE;ROLE=REQ-PARTICIPANT;PARTSTAT=TENTATIVE;RSVP=TRUE;CN=Susan:ht
 tp://njyp.org/profile/Susan
ATTENDEE;ROLE=REQ-PARTICIPANT;PARTSTAT=TENTATIVE;RSVP=TRUE;CN="ILIA RO
 MERO":http://njyp.org/profile/ILIAROMERO
ATTENDEE;ROLE=REQ-PARTICIPANT;PARTSTAT=TENTATIVE;RSVP=TRUE;CN="Doug Be
 man":http://njyp.org/profile/DougBeman
ATTENDEE;ROLE=REQ-PARTICIPANT;PARTSTAT=TENTATIVE;RSVP=TRUE;CN="Lauren 
 Ashley":http://njyp.org/profile/LaurenAshley
ATTENDEE;ROLE=REQ-PARTICIPANT;PARTSTAT=TENTATIVE;RSVP=TRUE;CN="Kevin H
 aughwout":http://njyp.org/profile/KevinHaughwout
ATTENDEE;ROLE=REQ-PARTICIPANT;PARTSTAT=TENTATIVE;RSVP=TRUE;CN="Karyn L
 eibig":http://njyp.org/profile/KarynLeibig
ATTENDEE;ROLE=REQ-PARTICIPANT;PARTSTAT=TENTATIVE;RSVP=TRUE;CN="Hugo X 
 Carvajal":http://njyp.org/profile/HugoXCarvajal
ATTENDEE;ROLE=REQ-PARTICIPANT;PARTSTAT=TENTATIVE;RSVP=TRUE;CN=LSM:http
 ://njyp.org/profile/NYCLS
ATTENDEE;ROLE=REQ-PARTICIPANT;PARTSTAT=TENTATIVE;RSVP=TRUE;CN="Elizabe
 th Curcio":http://njyp.org/profile/ElizabethCurcio
ATTENDEE;ROLE=REQ-PARTICIPANT;PARTSTAT=TENTATIVE;RSVP=TRUE;CN=Sandy:ht
 tp://njyp.org/profile/Sandy
ATTENDEE;ROLE=REQ-PARTICIPANT;PARTSTAT=TENTATIVE;RSVP=TRUE;CN="Lisa F"
 :http://njyp.org/profile/LisaF
END:VEVENT
END:VCALENDAR
