BEGIN:VCALENDAR
PRODID:NingEventWidget-v1
VERSION:2.0
METHOD:PUBLISH
BEGIN:VTIMEZONE
TZID:America/New_York
X-LIC-LOCATION:America/New_York
BEGIN:DAYLIGHT
TZOFFSETFROM:-0500
TZOFFSETTO:-0400
TZNAME:EDT
DTSTART:19700308T020000
RRULE:FREQ=YEARLY;BYMONTH=3;BYDAY=2SU
END:DAYLIGHT
BEGIN:STANDARD
TZOFFSETFROM:-0400
TZOFFSETTO:-0500
TZNAME:EST
DTSTART:19701101T020000
RRULE:FREQ=YEARLY;BYMONTH=11;BYDAY=1SU
END:STANDARD
END:VTIMEZONE
BEGIN:VEVENT
UID:2938326:Event:766
DTSTAMP:20260420T024748Z
SUMMARY:Co-Ed 4 Minute Friending in Hackensack
DESCRIPTION:NJYP is proud to present 4 Minute Friending. Yes, we did j
 ust say Friending. Think of Speed Dating only without the date. You wi
 ll meet with someone for a few minutes then, at the ring of a bell, mo
 ve on to the next person. By the end of the night the whole thing will
  turn into a mingle, only for once you will actually know most of the 
 crowd.\n\nAdditionally, before starting the Friending, you will be giv
 en an information sheet that will list each participant's Name, Email,
  Job Title, and Interests! Yup, you can easily contact your new friend
 s to get together on a Friday night, to exercise with, to shop with, t
 o network with, etc.\n\n\nRSVP (to the right) and we will let you know
  when tix are almost gone, when prices are going up, if there are any 
 changes, etc.\n\nWho should attend:\nThis event is open to MEN and WOM
 EN who are 21-39, single or married.\nCome out to make new friends or 
 come to network.\nThere is no dress code and you may bring business ca
 rds.\n\n2 Item Minimum:\nEveryone must purchase 2 items (food or drink
 ). Ask the bartender if there are any drink specials going on.\n\nMemb
 er Cost:\n$5 for the first 10 to register\n$10 for the next 11 to 30 t
 o register\n$15 for the next 31 to 50 to register\n$20 for walk-ins\nW
 alk-Ins will not be on the shared information sheet.\n\nNon-Member cos
 t:\n$20 online and at the door.\n\nPremium Member Cost:\nFREE but you 
 must register on Eventbrite.\nWalk-Ins will not be on the shared infor
 mation sheet.\n\nTickets:\nThere are a limited number of Tickets for s
 ale.\nTickets are not mailed, but your name will be kept at the door. 
 All sales are final.\n\nNJYP Host:\nLaura will be hosting this event.\
 n\nDirections/Parking:\nYou can find directions on their Website.\nThe
 y might have FREE valet parking, ask once you arrive.\n\nFinding the G
 roup:\nAsk for NJYP or meet at the back of the bar.\n\nFor more inform
 ation visit http://njyp.org/events/coed-4-minute-friending-in
DTSTART;TZID=America/New_York:20090603T190000
DTEND;TZID=America/New_York:20090603T210000
CATEGORIES:"bergen county", social
LOCATION:Poitin Still
WEBSITE:http://www.poitin-still.com/map.html
URL:http://www.poitin-still.com/map.html
CONTACT:
ORGANIZER;CN="Brian and Mike":http://njyp.org/profile/BrianMike
ATTACH;FMTTYPE="image/jpeg":http://storage.ning.com/topology/rest/1.0/
 file/get/1088519031?profile=original
ATTENDEE;ROLE=REQ-PARTICIPANT;PARTSTAT=ACCEPTED;RSVP=TRUE;CN=Jeramie:h
 ttp://njyp.org/profile/Jeramie
ATTENDEE;ROLE=REQ-PARTICIPANT;PARTSTAT=ACCEPTED;RSVP=TRUE;CN="Nikki Ha
 rt":http://njyp.org/profile/DomenicaHart
ATTENDEE;ROLE=REQ-PARTICIPANT;PARTSTAT=ACCEPTED;RSVP=TRUE;CN=Jessica:h
 ttp://njyp.org/profile/Jessica
ATTENDEE;ROLE=REQ-PARTICIPANT;PARTSTAT=ACCEPTED;RSVP=TRUE;CN="Carol Pe
 terson":http://njyp.org/profile/CarolPeterson
ATTENDEE;ROLE=REQ-PARTICIPANT;PARTSTAT=ACCEPTED;RSVP=TRUE;CN="Rick Man
 n":http://njyp.org/profile/RickMann
ATTENDEE;ROLE=REQ-PARTICIPANT;PARTSTAT=ACCEPTED;RSVP=TRUE;CN=Lizzie:ht
 tp://njyp.org/profile/ElizabethKuhns
ATTENDEE;ROLE=REQ-PARTICIPANT;PARTSTAT=ACCEPTED;RSVP=TRUE;CN="Christin
 e Berry":http://njyp.org/profile/ChristineBerry
ATTENDEE;ROLE=REQ-PARTICIPANT;PARTSTAT=ACCEPTED;RSVP=TRUE;CN="Hugo X C
 arvajal":http://njyp.org/profile/HugoXCarvajal
ATTENDEE;ROLE=REQ-PARTICIPANT;PARTSTAT=ACCEPTED;RSVP=TRUE;CN="Ken S.":
 http://njyp.org/profile/KennethSirower
ATTENDEE;ROLE=REQ-PARTICIPANT;PARTSTAT=ACCEPTED;RSVP=TRUE;CN=Michelle:
 http://njyp.org/profile/MichelleB
ATTENDEE;ROLE=REQ-PARTICIPANT;PARTSTAT=ACCEPTED;RSVP=TRUE;CN=Tara:http
 ://njyp.org/profile/TaraMorey
ATTENDEE;ROLE=REQ-PARTICIPANT;PARTSTAT=ACCEPTED;RSVP=TRUE;CN=Caroline:
 http://njyp.org/profile/CarolineWesoly
ATTENDEE;ROLE=REQ-PARTICIPANT;PARTSTAT=ACCEPTED;RSVP=TRUE;CN="Christin
 e Rydzik":http://njyp.org/profile/CupcakingChristine
ATTENDEE;ROLE=REQ-PARTICIPANT;PARTSTAT=ACCEPTED;RSVP=TRUE;CN="Brian an
 d Mike":http://njyp.org/profile/BrianMike
ATTENDEE;ROLE=REQ-PARTICIPANT;PARTSTAT=TENTATIVE;RSVP=TRUE;CN=Rochelle
 :http://njyp.org/profile/Rochelle
ATTENDEE;ROLE=REQ-PARTICIPANT;PARTSTAT=TENTATIVE;RSVP=TRUE;CN=Sandy:ht
 tp://njyp.org/profile/Sandy
ATTENDEE;ROLE=REQ-PARTICIPANT;PARTSTAT=TENTATIVE;RSVP=TRUE;CN="Kimberl
 y LoPinto":http://njyp.org/profile/KimberlyBeskin
ATTENDEE;ROLE=REQ-PARTICIPANT;PARTSTAT=TENTATIVE;RSVP=TRUE;CN="Caren L
 agerstrom":http://njyp.org/profile/CarenLagerstrom
END:VEVENT
END:VCALENDAR
