BEGIN:VCALENDAR
PRODID:NingEventWidget-v1
VERSION:2.0
METHOD:PUBLISH
BEGIN:VTIMEZONE
TZID:America/New_York
X-LIC-LOCATION:America/New_York
BEGIN:DAYLIGHT
TZOFFSETFROM:-0500
TZOFFSETTO:-0400
TZNAME:EDT
DTSTART:19700308T020000
RRULE:FREQ=YEARLY;BYMONTH=3;BYDAY=2SU
END:DAYLIGHT
BEGIN:STANDARD
TZOFFSETFROM:-0400
TZOFFSETTO:-0500
TZNAME:EST
DTSTART:19701101T020000
RRULE:FREQ=YEARLY;BYMONTH=11;BYDAY=1SU
END:STANDARD
END:VTIMEZONE
BEGIN:VEVENT
UID:2938326:Event:136552
DTSTAMP:20260420T023411Z
SUMMARY:Co-Ed Speed Friending
DESCRIPTION:Expand your social circle by 10 to 20 Young Professionals 
 in one night at our Speed Friending event!  All attendees will meet f
 ace to face, one to one, with 10 to 20 local YPs.  Come to make new f
 riends or to network.  By the end of the evening you will walk away f
 eeling you made some serious and long lasting connections.Bonus:We wil
 l share the guest list with you! That means upon arrival you will rece
 ive a list of the names, emails, and hobbies of those who pre-register
 ed. Following the event you can easily reach out to your new contacts.
 Member Cost:$5 online$10 at the doorNon-Member Cost:$10 online and at 
 the doorWho should attend:This event is open to men and women who are 
 21-39, single or married.Come out to make new friends or come to netwo
 rk.There is no dress code and you may bring business cards.2 Item Mini
 mum:There is a 2 item minimum drink purchase during this event. You ca
 n buy beer, wine, bottled water, juices, etc. Soda does not count towa
 rd the minimum. Sponsor:\nDr. Kevin will be sponsoring this event.  D
 r. Kevin Brennan is a licensed clinical psychologist who concentrates 
 on helping young professionals cope with the issues specific to new ge
 nerational topics that did not exist before.  The pressures of choosi
 ng the right career, the right partner, and the right time to follow o
 ur passions is coming to a head for many Young Professionals.  This i
 s often referred to as the THRISIS!  Dr. Kevin understands that our g
 eneration's Mid-Life Crisis is happening NOW!Tickets:There are a limit
 ed number of Tickets for sale. Tickets are not mailed, but your name w
 ill be kept at the door. All sales are final.Directions:We will be in 
 the cafe area that is off the lobby and outside the main bar.The Bonef
 ish Grill is connected to the Crowne Plaza Hotel. You can see the rest
 aurant from the Parkway. You can also see the restaurant from the Para
 mus Park Mall if you are on the Macy’s side.Plenty of free parking.h
 ttp://www.bonefishgrill.com/locator/details/paramus-new-jersey/\n\nFor
  more information visit http://njyp.org/events/coed-speed-friending
DTSTART;TZID=America/New_York:20110215T190000
DTEND;TZID=America/New_York:20110215T210000
CATEGORIES:"bergen county", social, networking
LOCATION:Bonefish Grill at Crowne Plaza
WEBSITE:http://www.bonefishgrill.com/locator/details/paramus-new-jerse
 y/
URL:http://www.bonefishgrill.com/locator/details/paramus-new-jersey/
CONTACT:
ORGANIZER;CN="Brian and Mike":http://njyp.org/profile/BrianMike
ATTACH;FMTTYPE="image/jpeg":http://storage.ning.com/topology/rest/1.0/
 file/get/1088675521?profile=original
ATTENDEE;ROLE=REQ-PARTICIPANT;PARTSTAT=ACCEPTED;RSVP=TRUE;CN=Manny:htt
 p://njyp.org/profile/Manny
ATTENDEE;ROLE=REQ-PARTICIPANT;PARTSTAT=ACCEPTED;RSVP=TRUE;CN=Danielle:
 http://njyp.org/profile/Daniellek86
ATTENDEE;ROLE=REQ-PARTICIPANT;PARTSTAT=ACCEPTED;RSVP=TRUE;CN=Bhavini:h
 ttp://njyp.org/profile/Bhavini
ATTENDEE;ROLE=REQ-PARTICIPANT;PARTSTAT=ACCEPTED;RSVP=TRUE;CN="Amy D Or
 tiz":http://njyp.org/profile/AmyDi
ATTENDEE;ROLE=REQ-PARTICIPANT;PARTSTAT=ACCEPTED;RSVP=TRUE;CN=Faith:htt
 p://njyp.org/profile/Faith
ATTENDEE;ROLE=REQ-PARTICIPANT;PARTSTAT=ACCEPTED;RSVP=TRUE;CN=Digant:ht
 tp://njyp.org/profile/Digant
ATTENDEE;ROLE=REQ-PARTICIPANT;PARTSTAT=ACCEPTED;RSVP=TRUE;CN=Omar:http
 ://njyp.org/profile/OmarKozarsky
ATTENDEE;ROLE=REQ-PARTICIPANT;PARTSTAT=ACCEPTED;RSVP=TRUE;CN=Ahsan:htt
 p://njyp.org/profile/Ahsan
ATTENDEE;ROLE=REQ-PARTICIPANT;PARTSTAT=ACCEPTED;RSVP=TRUE;CN=Helen:htt
 p://njyp.org/profile/Helen108
ATTENDEE;ROLE=REQ-PARTICIPANT;PARTSTAT=ACCEPTED;RSVP=TRUE;CN=Tara:http
 ://njyp.org/profile/TaraMorey
ATTENDEE;ROLE=REQ-PARTICIPANT;PARTSTAT=ACCEPTED;RSVP=TRUE;CN=Sonal:htt
 p://njyp.org/profile/Sonal372
ATTENDEE;ROLE=REQ-PARTICIPANT;PARTSTAT=ACCEPTED;RSVP=TRUE;CN="Dr. Kevi
 n":http://njyp.org/profile/KevinBrennan
ATTENDEE;ROLE=REQ-PARTICIPANT;PARTSTAT=ACCEPTED;RSVP=TRUE;CN=Michelle:
 http://njyp.org/profile/MichelleB
ATTENDEE;ROLE=REQ-PARTICIPANT;PARTSTAT=ACCEPTED;RSVP=TRUE;CN="Brian an
 d Mike":http://njyp.org/profile/BrianMike
ATTENDEE;ROLE=REQ-PARTICIPANT;PARTSTAT=TENTATIVE;RSVP=TRUE;CN=John:htt
 p://njyp.org/profile/John574
ATTENDEE;ROLE=REQ-PARTICIPANT;PARTSTAT=TENTATIVE;RSVP=TRUE;CN=James:ht
 tp://njyp.org/profile/JamesShow
ATTENDEE;ROLE=REQ-PARTICIPANT;PARTSTAT=TENTATIVE;RSVP=TRUE;CN=Marcelo:
 http://njyp.org/profile/EzraS
ATTENDEE;ROLE=REQ-PARTICIPANT;PARTSTAT=TENTATIVE;RSVP=TRUE;CN=Anthony:
 http://njyp.org/profile/Anthony491
ATTENDEE;ROLE=REQ-PARTICIPANT;PARTSTAT=TENTATIVE;RSVP=TRUE;CN="Hassan 
 B Halak":http://njyp.org/profile/HassanBHalak
ATTENDEE;ROLE=REQ-PARTICIPANT;PARTSTAT=TENTATIVE;RSVP=TRUE;CN=James:ht
 tp://njyp.org/profile/James681
ATTENDEE;ROLE=REQ-PARTICIPANT;PARTSTAT=TENTATIVE;RSVP=TRUE;CN="Mark Ki
 ngsley":http://njyp.org/profile/MarkKingsley
ATTENDEE;ROLE=REQ-PARTICIPANT;PARTSTAT=TENTATIVE;RSVP=TRUE;CN=Naja:htt
 p://njyp.org/profile/Naja
ATTENDEE;ROLE=REQ-PARTICIPANT;PARTSTAT=TENTATIVE;RSVP=TRUE;CN="Joe Han
 zel Troy":http://njyp.org/profile/JosephHanzelDagdagan
ATTENDEE;ROLE=REQ-PARTICIPANT;PARTSTAT=TENTATIVE;RSVP=TRUE;CN=Kendra:h
 ttp://njyp.org/profile/Kendra
ATTENDEE;ROLE=REQ-PARTICIPANT;PARTSTAT=TENTATIVE;RSVP=TRUE;CN="Nikki H
 art":http://njyp.org/profile/DomenicaHart
ATTENDEE;ROLE=REQ-PARTICIPANT;PARTSTAT=TENTATIVE;RSVP=TRUE;CN=Julia:ht
 tp://njyp.org/profile/Julia645
ATTENDEE;ROLE=REQ-PARTICIPANT;PARTSTAT=TENTATIVE;RSVP=TRUE;CN=Rebecca:
 http://njyp.org/profile/Rebecca
ATTENDEE;ROLE=REQ-PARTICIPANT;PARTSTAT=TENTATIVE;RSVP=TRUE;CN=Christin
 a:http://njyp.org/profile/ChristinaTran
ATTENDEE;ROLE=REQ-PARTICIPANT;PARTSTAT=TENTATIVE;RSVP=TRUE;CN=Megan:ht
 tp://njyp.org/profile/Margaret107
END:VEVENT
END:VCALENDAR
