BEGIN:VCALENDAR
PRODID:NingEventWidget-v1
VERSION:2.0
METHOD:PUBLISH
BEGIN:VTIMEZONE
TZID:America/New_York
X-LIC-LOCATION:America/New_York
BEGIN:DAYLIGHT
TZOFFSETFROM:-0500
TZOFFSETTO:-0400
TZNAME:EDT
DTSTART:19700308T020000
RRULE:FREQ=YEARLY;BYMONTH=3;BYDAY=2SU
END:DAYLIGHT
BEGIN:STANDARD
TZOFFSETFROM:-0400
TZOFFSETTO:-0500
TZNAME:EST
DTSTART:19701101T020000
RRULE:FREQ=YEARLY;BYMONTH=11;BYDAY=1SU
END:STANDARD
END:VTIMEZONE
BEGIN:VEVENT
UID:2938326:Event:11298
DTSTAMP:20260421T033552Z
SUMMARY:Comedy: Jason Alexander
DESCRIPTION:Jason Alexander stars as Donny Clay: America's 4th Leading
  Motivational Speaker\n\nOne of the most sought after and highly regar
 ded motivational speakers in the world; Donny Clay has performed for c
 orporations, religious groups, colleges and children's parties of the 
 super rich. He's talked about by millions; some enthusiastically. Donn
 y Clay will show you the way! He'll make your evening the most powerfu
 l night ever for enlightenment and change. Or he won't. Either way, yo
 u'll be laughing so hard, you won't notice. NJ native Alexander, who p
 ortrayed George Costanza on \"Seinfeld\", sends up the Tony Robbins/De
 epak Chopra/Dr. Phil milieu with live comedy, video clips, musical num
 bers, and magic.\n\nTickets:\nSpecial 2 for 1 discount for NJYP member
 s.\nPlease call Heidi at 732-224-8778 x123 to order tickets. Mention N
 JYP.\n\nHow to Find the Group:\nThis is not a “Group” event nor wi
 ll you all be seated together. Grab a friend or a group of friends and
  take advantage of the NJYP discount!\n\nFor more information visit ht
 tp://njyp.org/events/comedy-jason-alexander
DTSTART;TZID=America/New_York:20090730T200000
DTEND;TZID=America/New_York:20090730T220000
CATEGORIES:"monmouth county", arts
LOCATION:Count Baise Theatre
WEBSITE:http://www.countbasietheatre.org/visit/directions.asp
URL:http://www.countbasietheatre.org/visit/directions.asp
CONTACT:
ORGANIZER;CN="Brian and Mike":http://njyp.org/profile/BrianMike
ATTACH;FMTTYPE="image/jpeg":http://storage.ning.com/topology/rest/1.0/
 file/get/1088546097?profile=original
ATTENDEE;ROLE=REQ-PARTICIPANT;PARTSTAT=ACCEPTED;RSVP=TRUE;CN="Brian an
 d Mike":http://njyp.org/profile/BrianMike
END:VEVENT
END:VCALENDAR
