BEGIN:VCALENDAR
PRODID:NingEventWidget-v1
VERSION:2.0
METHOD:PUBLISH
BEGIN:VTIMEZONE
TZID:America/New_York
X-LIC-LOCATION:America/New_York
BEGIN:DAYLIGHT
TZOFFSETFROM:-0500
TZOFFSETTO:-0400
TZNAME:EDT
DTSTART:19700308T020000
RRULE:FREQ=YEARLY;BYMONTH=3;BYDAY=2SU
END:DAYLIGHT
BEGIN:STANDARD
TZOFFSETFROM:-0400
TZOFFSETTO:-0500
TZNAME:EST
DTSTART:19701101T020000
RRULE:FREQ=YEARLY;BYMONTH=11;BYDAY=1SU
END:STANDARD
END:VTIMEZONE
BEGIN:VEVENT
UID:2938326:Event:11610
DTSTAMP:20260421T203445Z
SUMMARY:Comedy: Jim Breuer (Plus YP Happy Hour)
DESCRIPTION:It’s a night of brew and Breuer! Enjoy making new friend
 s at our exclusive YP Happy Hour and then enjoy the comedy of Jim Breu
 er. It’s the ultimate Young Professionals night at The Community The
 atre in Morristown!\n\nJim Breuer presents “The Family Man Show”\n
 “Got family? So do I” That's Jim Breuer's slogan for his new non-v
 ulgarity show about family, friends and everyone we love. Jim continue
 s to make us laugh with material that relates to everyone between the 
 ages of 18 through 80!\n\nThere will be no vulgarity in this performan
 ce!\n\nIf you want to check-out Breuer before coming to the show, you 
 can see his new Comedy Central special this Saturday, July 25th at 11p
 m.\n\nBackground:\nBreuer first rose to fame as a cast member of Satur
 day Night Live from 1995 to 1998. On SNL, Breuer's characters included
  \"Goat Boy.\" He has been a frequent guest on Opie and Anthony, and h
 e currently hosts a weekly radio show on Sirius.\n\nVisit jimbreuer.co
 m for more information about Jim Breuer or view a clip online http://w
 ww.jimbreuer.com/tv_channel.html\n\nSchedule:\nThe exclusive YP Happy 
 Hour begins at 6:00 pm. in the Starlight Room at the theatre.\nPerform
 ance begins at 8:00pm\n\nTickets:\n$38 package (a 10% savings)\nSeatin
 g will be with group.\nCall (973) 539-8008 and mention code 10YPRO for
  tickets to the exclusive YP Happy Hour and the Jim Breuer performance
 .\n\nDirections:\nVisit the Community Theatre's Website\n\nFinding the
  Group:\nWhen you are ordering your tickets confirm that you will be s
 eated with the YP Group. If you wait to buy tickets until the day of y
 ou might not be seated with the group. The show is nearly sold out and
  only single tickets not with the group are available.\n\nFor more inf
 ormation visit http://njyp.org/events/comedy-jim-breuer-plus-yp
DTSTART;TZID=America/New_York:20090820T180000
DTEND;TZID=America/New_York:20090820T210000
CATEGORIES:"morris county", arts
LOCATION:Community Theatre
WEBSITE:http://www.mayoarts.org/directions.htm
URL:http://www.mayoarts.org/directions.htm
CONTACT:
ORGANIZER;CN="Brian and Mike":http://njyp.org/profile/BrianMike
ATTACH;FMTTYPE="image/jpeg":http://storage.ning.com/topology/rest/1.0/
 file/get/1088546694?profile=original
ATTENDEE;ROLE=REQ-PARTICIPANT;PARTSTAT=ACCEPTED;RSVP=TRUE;CN="NIcole V
 innal":http://njyp.org/profile/NIcoleVinnal
ATTENDEE;ROLE=REQ-PARTICIPANT;PARTSTAT=ACCEPTED;RSVP=TRUE;CN="Shafali 
 Dua":http://njyp.org/profile/ShafaliDua
ATTENDEE;ROLE=REQ-PARTICIPANT;PARTSTAT=ACCEPTED;RSVP=TRUE;CN="james mi
 kusi":http://njyp.org/profile/jimbox
ATTENDEE;ROLE=REQ-PARTICIPANT;PARTSTAT=ACCEPTED;RSVP=TRUE;CN="Karen S.
 ":http://njyp.org/profile/KarenS
ATTENDEE;ROLE=REQ-PARTICIPANT;PARTSTAT=ACCEPTED;RSVP=TRUE;CN="Jason Fl
 uegge":http://njyp.org/profile/JasonFluegge
ATTENDEE;ROLE=REQ-PARTICIPANT;PARTSTAT=ACCEPTED;RSVP=TRUE;CN=Jen:http:
 //njyp.org/profile/Jen
ATTENDEE;ROLE=REQ-PARTICIPANT;PARTSTAT=ACCEPTED;RSVP=TRUE;CN="Joshua L
 angweil":http://njyp.org/profile/JoshuaLangweil
ATTENDEE;ROLE=REQ-PARTICIPANT;PARTSTAT=ACCEPTED;RSVP=TRUE;CN=Anne:http
 ://njyp.org/profile/AnneMinkoff
ATTENDEE;ROLE=REQ-PARTICIPANT;PARTSTAT=TENTATIVE;RSVP=TRUE;CN=Kathleen
 :http://njyp.org/profile/Kathleen463
ATTENDEE;ROLE=REQ-PARTICIPANT;PARTSTAT=TENTATIVE;RSVP=TRUE;CN=Annemari
 e:http://njyp.org/profile/Annemarie
ATTENDEE;ROLE=REQ-PARTICIPANT;PARTSTAT=TENTATIVE;RSVP=TRUE;CN="Jesse B
 londin":http://njyp.org/profile/JesseBlondin
ATTENDEE;ROLE=REQ-PARTICIPANT;PARTSTAT=TENTATIVE;RSVP=TRUE;CN=Kristy:h
 ttp://njyp.org/profile/KristyBuchalla
ATTENDEE;ROLE=REQ-PARTICIPANT;PARTSTAT=TENTATIVE;RSVP=TRUE;CN="Nick Wo
 ng":http://njyp.org/profile/NickWong
ATTENDEE;ROLE=REQ-PARTICIPANT;PARTSTAT=TENTATIVE;RSVP=TRUE;CN=Karen:ht
 tp://njyp.org/profile/Karen
ATTENDEE;ROLE=REQ-PARTICIPANT;PARTSTAT=TENTATIVE;RSVP=TRUE;CN=Charity:
 http://njyp.org/profile/CharityLynnFues
ATTENDEE;ROLE=REQ-PARTICIPANT;PARTSTAT=TENTATIVE;RSVP=TRUE;CN="Brian a
 nd Mike":http://njyp.org/profile/BrianMike
ATTENDEE;ROLE=REQ-PARTICIPANT;PARTSTAT=TENTATIVE;RSVP=TRUE;CN=Meredith
 :http://njyp.org/profile/MeredithC
ATTENDEE;ROLE=REQ-PARTICIPANT;PARTSTAT=TENTATIVE;RSVP=TRUE;CN="George 
 Morcos":http://njyp.org/profile/GeorgeMorcos
END:VEVENT
END:VCALENDAR
