BEGIN:VCALENDAR
PRODID:NingEventWidget-v1
VERSION:2.0
METHOD:PUBLISH
BEGIN:VTIMEZONE
TZID:America/New_York
X-LIC-LOCATION:America/New_York
BEGIN:DAYLIGHT
TZOFFSETFROM:-0500
TZOFFSETTO:-0400
TZNAME:EDT
DTSTART:19700308T020000
RRULE:FREQ=YEARLY;BYMONTH=3;BYDAY=2SU
END:DAYLIGHT
BEGIN:STANDARD
TZOFFSETFROM:-0400
TZOFFSETTO:-0500
TZNAME:EST
DTSTART:19701101T020000
RRULE:FREQ=YEARLY;BYMONTH=11;BYDAY=1SU
END:STANDARD
END:VTIMEZONE
BEGIN:VEVENT
UID:2938326:Event:716956
DTSTAMP:20260422T064940Z
SUMMARY:Conversations & Cocktails: Morristown
DESCRIPTION:SOLD OUT as of 4/15!\n\nNJYP Member Cost: $12 online only
  ($3 off!)\nNon-Member Cost: $14 online only ($1 off!)\nRegular Cost:
  $15\n\n \nWho can attend: Young professionals, single or married, w
 ho are 21-39 years of age.   Tickets: All sales are final. A limite
 d number of tickets will be sold.  This event is rain or shine. Be su
 re to RSVP on the NJYP.org event as well. \n\nMPAC welcomes people in
  their 20s and 30s to attend a special event with Liz Tuccillo, bestse
 lling author of He’s Just Not That Into Youand How To Be Single a
 nd former executive story editor of HBO’s Sex and the City.\nShe wi
 ll share highs and lows from her storied career in literature and show
  business, as well as insights into following your passion and achievi
 ng professional success.\n\n\nTHE EVENT WILL INCLUDE\nNETWORKING | HOR
 S D’OEUVRES | BOOK SIGNING SPECIALTY COCKTAILS, BEER AND WINE CONVER
 SATION WITH THE AUTHOR  BACKSTAGE TOURS | TICKET RAFFLE\n\n\nTUESDAY,
  APRIL 19 | 6-8 PM  MAYO PERFORMING ARTS CENTER’S  STARLIGHT ROO
 M 100 SOUTH STREET, MORRISTOWN, NJ 07960\n\n\n\n\n\n \n\n\n\n\n\n \n
 \nFor more information visit http://njyp.org/events/conversations-cock
 tails-morristown
DTSTART;TZID=America/New_York:20160419T180000
DTEND;TZID=America/New_York:20160419T200000
CATEGORIES:"hudson county", social, fall, winter, party, fest, private
 , specials
LOCATION:Mayo Performing Arts Center
WEBSITE:
URL:
CONTACT:
ORGANIZER;CN="Michael Park":http://njyp.org/profile/MichaelPark
ATTACH;FMTTYPE="image/jpeg":http://storage.ning.com/topology/rest/1.0/
 file/get/1089110511?profile=original
ATTENDEE;ROLE=REQ-PARTICIPANT;PARTSTAT=ACCEPTED;RSVP=TRUE;CN="Michael 
 Park":http://njyp.org/profile/MichaelPark
ATTENDEE;ROLE=REQ-PARTICIPANT;PARTSTAT=ACCEPTED;RSVP=TRUE;CN=Bhunita:h
 ttp://njyp.org/profile/Bhunita
ATTENDEE;ROLE=REQ-PARTICIPANT;PARTSTAT=ACCEPTED;RSVP=TRUE;CN="Zuzana J
 uhasova":http://njyp.org/profile/ZuzanaJuhasova
ATTENDEE;ROLE=REQ-PARTICIPANT;PARTSTAT=ACCEPTED;RSVP=TRUE;CN="Amanda N
 aftaly":http://njyp.org/profile/AmandaNaftaly
ATTENDEE;ROLE=REQ-PARTICIPANT;PARTSTAT=ACCEPTED;RSVP=TRUE;CN="Venus Lu
 ":http://njyp.org/profile/VenusLu
ATTENDEE;ROLE=REQ-PARTICIPANT;PARTSTAT=ACCEPTED;RSVP=TRUE;CN=Cara:http
 ://njyp.org/profile/Cara737
ATTENDEE;ROLE=REQ-PARTICIPANT;PARTSTAT=ACCEPTED;RSVP=TRUE;CN=Danielle:
 http://njyp.org/profile/Danielle283
ATTENDEE;ROLE=REQ-PARTICIPANT;PARTSTAT=ACCEPTED;RSVP=TRUE;CN=Megan:htt
 p://njyp.org/profile/Megan379
END:VEVENT
END:VCALENDAR
