BEGIN:VCALENDAR
PRODID:NingEventWidget-v1
VERSION:2.0
METHOD:PUBLISH
BEGIN:VTIMEZONE
TZID:America/New_York
X-LIC-LOCATION:America/New_York
BEGIN:DAYLIGHT
TZOFFSETFROM:-0500
TZOFFSETTO:-0400
TZNAME:EDT
DTSTART:19700308T020000
RRULE:FREQ=YEARLY;BYMONTH=3;BYDAY=2SU
END:DAYLIGHT
BEGIN:STANDARD
TZOFFSETFROM:-0400
TZOFFSETTO:-0500
TZNAME:EST
DTSTART:19701101T020000
RRULE:FREQ=YEARLY;BYMONTH=11;BYDAY=1SU
END:STANDARD
END:VTIMEZONE
BEGIN:VEVENT
UID:2938326:Event:31003
DTSTAMP:20260420T222544Z
SUMMARY:Couples Only: Dinner and a Movie
DESCRIPTION:Meet other YP Couples for a fun night out! We will begin w
 ith Drinks and Dinner at Qube Lounge and the Eclectic Grill. We will t
 hen stroll through Headquarters Plaza to the movie theatre where we wi
 ll split up based on different movie tastes. When the night comes to a
 n end we can guarantee you will be able to look back on it and remembe
 r the laughter, the conversation, and the start of many friendships.\n
 \nWho Can Attend:\n* You must be \"In a Relationship\" to attend. This
  means that on your NJYP profile under \"Relationship Status\" you are
  NOT listed as \"Single\".\n* You and your significant other must both
  be Members of NJYP (aka paid dues).\n\nHow to Register:\nEach guest m
 ust RSVP (to the right). We will make reservations based on the RSVPs 
 that we see.\n\nCost:\nThe Eclectic Grill offers a FANTASTIC Dinner an
 d Movie deal! For $30 per person (plus tax and tip) you get a 3 course
  meal AND a movie ticket! Everyone will be ordering from this menu. Pl
 ease note that all drinks are an additional cost.\n\nSchedule:\n5:00 M
 eet and Great at the Qube Lounge.\n5:30 Sit for dinner.\nAround 7:30 C
 ouples will start to leave for their movie (in the same building).\nWe
  do not all need to see the same movie but it will be discussed at din
 ner.\n\nHow to Find the Group:\nPlease arrive at 5pm and ask staff for
  NJYP or look for signs. We will begin with a Meet and Greet in the Lo
 unge and will try to mingle close to the bar.\n\nDirections/Parking:\n
 http://morristown.hyatt.com/hyatt/hotels/services/maps/index.jsp;jsess
 ionid=WWMACJ4ION5SGCTEAGGSFFQKMQAYYIV0\nThere is a parking deck at the
  Hyatt or you can park on the street at the meters.\n\nFor more inform
 ation visit http://njyp.org/events/couples-only-dinner-and-a
DTSTART;TZID=America/New_York:20100123T170000
DTEND;TZID=America/New_York:20100123T220000
CATEGORIES:"morris county", social
LOCATION:Qube Lounge, Eclectic Grill, Clearview
WEBSITE:http://morristown.hyatt.com/hyatt/hotels/services/maps/index.j
 sp;jsessionid=WWMACJ4ION5SGCTEAGGSFFQKMQAYYIV0
URL:http://morristown.hyatt.com/hyatt/hotels/services/maps/index.jsp;j
 sessionid=WWMACJ4ION5SGCTEAGGSFFQKMQAYYIV0
CONTACT:
ORGANIZER;CN="Brian and Mike":http://njyp.org/profile/BrianMike
ATTACH;FMTTYPE="image/jpeg":http://storage.ning.com/topology/rest/1.0/
 file/get/1088577100?profile=original
ATTENDEE;ROLE=REQ-PARTICIPANT;PARTSTAT=ACCEPTED;RSVP=TRUE;CN="Peter Es
 kow":http://njyp.org/profile/PeterEskow
ATTENDEE;ROLE=REQ-PARTICIPANT;PARTSTAT=ACCEPTED;RSVP=TRUE;CN="Talitha 
 Bravo":http://njyp.org/profile/TalithaBravo
ATTENDEE;ROLE=REQ-PARTICIPANT;PARTSTAT=ACCEPTED;RSVP=TRUE;CN="John DeM
 arco":http://njyp.org/profile/JohnDeMarco
ATTENDEE;ROLE=REQ-PARTICIPANT;PARTSTAT=ACCEPTED;RSVP=TRUE;CN="Eugene W
 estbrook":http://njyp.org/profile/EugeneWestbrook
ATTENDEE;ROLE=REQ-PARTICIPANT;PARTSTAT=ACCEPTED;RSVP=TRUE;CN="Joshua C
 hermak":http://njyp.org/profile/JoshuaChermak
ATTENDEE;ROLE=REQ-PARTICIPANT;PARTSTAT=ACCEPTED;RSVP=TRUE;CN="Olga Ch"
 :http://njyp.org/profile/OlgaChaban
ATTENDEE;ROLE=REQ-PARTICIPANT;PARTSTAT=ACCEPTED;RSVP=TRUE;CN=Kirsten:h
 ttp://njyp.org/profile/KirstenSwanson
ATTENDEE;ROLE=REQ-PARTICIPANT;PARTSTAT=ACCEPTED;RSVP=TRUE;CN="Musolĕ 
 Kambinda":http://njyp.org/profile/MusoleK
ATTENDEE;ROLE=REQ-PARTICIPANT;PARTSTAT=ACCEPTED;RSVP=TRUE;CN="Robert K
 ozlowski":http://njyp.org/profile/RobertKozlowski
ATTENDEE;ROLE=REQ-PARTICIPANT;PARTSTAT=ACCEPTED;RSVP=TRUE;CN=Janel:htt
 p://njyp.org/profile/JanelCraine
ATTENDEE;ROLE=REQ-PARTICIPANT;PARTSTAT=ACCEPTED;RSVP=TRUE;CN="Cassie K
 uo":http://njyp.org/profile/CassieKuo
ATTENDEE;ROLE=REQ-PARTICIPANT;PARTSTAT=ACCEPTED;RSVP=TRUE;CN="Chris Ko
 ":http://njyp.org/profile/ChrisKo
ATTENDEE;ROLE=REQ-PARTICIPANT;PARTSTAT=ACCEPTED;RSVP=TRUE;CN="Jeffrey 
 Rieske":http://njyp.org/profile/jwr
ATTENDEE;ROLE=REQ-PARTICIPANT;PARTSTAT=ACCEPTED;RSVP=TRUE;CN=Annie:htt
 p://njyp.org/profile/Annie
ATTENDEE;ROLE=REQ-PARTICIPANT;PARTSTAT=ACCEPTED;RSVP=TRUE;CN=Chris:htt
 p://njyp.org/profile/Chris
ATTENDEE;ROLE=REQ-PARTICIPANT;PARTSTAT=ACCEPTED;RSVP=TRUE;CN=Patty:htt
 p://njyp.org/profile/ricia
ATTENDEE;ROLE=REQ-PARTICIPANT;PARTSTAT=ACCEPTED;RSVP=TRUE;CN="Dr. Kevi
 n":http://njyp.org/profile/KevinBrennan
ATTENDEE;ROLE=REQ-PARTICIPANT;PARTSTAT=ACCEPTED;RSVP=TRUE;CN=Monika:ht
 tp://njyp.org/profile/MonikaSymms
ATTENDEE;ROLE=REQ-PARTICIPANT;PARTSTAT=ACCEPTED;RSVP=TRUE;CN="Brian an
 d Mike":http://njyp.org/profile/BrianMike
ATTENDEE;ROLE=REQ-PARTICIPANT;PARTSTAT=TENTATIVE;RSVP=TRUE;CN="Tina Ko
 zak":http://njyp.org/profile/TinaKozak
ATTENDEE;ROLE=REQ-PARTICIPANT;PARTSTAT=TENTATIVE;RSVP=TRUE;CN=Kendell:
 http://njyp.org/profile/Kendell
ATTENDEE;ROLE=REQ-PARTICIPANT;PARTSTAT=TENTATIVE;RSVP=TRUE;CN="Stephan
 ie Coutros":http://njyp.org/profile/StephanieCoutros
ATTENDEE;ROLE=REQ-PARTICIPANT;PARTSTAT=TENTATIVE;RSVP=TRUE;CN=Josie:ht
 tp://njyp.org/profile/JosieNadle
ATTENDEE;ROLE=REQ-PARTICIPANT;PARTSTAT=TENTATIVE;RSVP=TRUE;CN="Sarah D
 anaher":http://njyp.org/profile/SarahDanaher
ATTENDEE;ROLE=REQ-PARTICIPANT;PARTSTAT=TENTATIVE;RSVP=TRUE;CN=Stacy:ht
 tp://njyp.org/profile/StacyStraczynski
ATTENDEE;ROLE=REQ-PARTICIPANT;PARTSTAT=TENTATIVE;RSVP=TRUE;CN="Natalia
  Shishkin":http://njyp.org/profile/NataliaShishkin
ATTENDEE;ROLE=REQ-PARTICIPANT;PARTSTAT=TENTATIVE;RSVP=TRUE;CN=Paul:htt
 p://njyp.org/profile/MTown
ATTENDEE;ROLE=REQ-PARTICIPANT;PARTSTAT=TENTATIVE;RSVP=TRUE;CN="Steve T
 sai":http://njyp.org/profile/SteveT
END:VEVENT
END:VCALENDAR
