BEGIN:VCALENDAR
PRODID:NingEventWidget-v1
VERSION:2.0
METHOD:PUBLISH
BEGIN:VTIMEZONE
TZID:America/New_York
X-LIC-LOCATION:America/New_York
BEGIN:DAYLIGHT
TZOFFSETFROM:-0500
TZOFFSETTO:-0400
TZNAME:EDT
DTSTART:19700308T020000
RRULE:FREQ=YEARLY;BYMONTH=3;BYDAY=2SU
END:DAYLIGHT
BEGIN:STANDARD
TZOFFSETFROM:-0400
TZOFFSETTO:-0500
TZNAME:EST
DTSTART:19701101T020000
RRULE:FREQ=YEARLY;BYMONTH=11;BYDAY=1SU
END:STANDARD
END:VTIMEZONE
BEGIN:VEVENT
UID:2938326:Event:576513
DTSTAMP:20260420T021513Z
SUMMARY:Dance Dash 5k (sponsored)
DESCRIPTION:If you are looking for a great, new 5K experience and want
  to help raise funds for Children's Specialized Hospital, your Childre
 n's Miracle Network Hospital, I hope you will join us for Dance Dash!\
 nWe are proud to debut this 5k event which is quite literally a 5k wit
 h a twist! This 5k challenges participants to not only walk or run a 5
 k course, but also learn some rad dance moves along the way. Each mile
 , participants will stop and learn a quick jig. It might be a swing da
 nce, a country line dance, hip-hop or something else, but we promise i
 t's awesome and you're going to love it!Â  Then at the end of the cour
 se, everyone will combine their new dance skills with the group for a 
 large, flash-mob dance party. To learn more about or to register for D
 ance Dash, please visitÂ DanceDash.org.\nÂ \nRegistration prices incre
 ase onÂ June 15th, so be sure to register soon. We hope to see you onÂ
  June 29th!Â Â Use the code NJYP10 for 10% off registration!\n\n\nPlea
 se note this is a sponsored event. If you wish to meet up with other N
 JYP Members please post on the event wall.\n\nFor more information vis
 it http://njyp.org/events/dance-dance-5k-sponsored
DTSTART;TZID=America/New_York:20140629T070000
DTEND;TZID=America/New_York:20140629T120000
CATEGORIES:"monmouth county", athletic, sponsored
LOCATION:Cedar Drive Middle School
WEBSITE:http://www.dancedash.org
URL:http://www.dancedash.org
CONTACT:
ORGANIZER;CN=Admin:http://njyp.org/profile/Admin
ATTACH;FMTTYPE="image/jpeg":http://storage.ning.com/topology/rest/1.0/
 file/get/1088981324?profile=original
ATTENDEE;ROLE=REQ-PARTICIPANT;PARTSTAT=ACCEPTED;RSVP=TRUE;CN=Pete:http
 ://njyp.org/profile/Pete
ATTENDEE;ROLE=REQ-PARTICIPANT;PARTSTAT=ACCEPTED;RSVP=TRUE;CN=James:htt
 p://njyp.org/profile/JamesShow
ATTENDEE;ROLE=REQ-PARTICIPANT;PARTSTAT=ACCEPTED;RSVP=TRUE;CN="Nicole F
 ulmino":http://njyp.org/profile/NicoleFulmino
ATTENDEE;ROLE=REQ-PARTICIPANT;PARTSTAT=ACCEPTED;RSVP=TRUE;CN=Admin:htt
 p://njyp.org/profile/Admin
ATTENDEE;ROLE=REQ-PARTICIPANT;PARTSTAT=TENTATIVE;RSVP=TRUE;CN="D.j. St
 evie Blatz":http://njyp.org/profile/DjStevieBlatz
ATTENDEE;ROLE=REQ-PARTICIPANT;PARTSTAT=TENTATIVE;RSVP=TRUE;CN=Jose:htt
 p://njyp.org/profile/JoseRebustesIII
ATTENDEE;ROLE=REQ-PARTICIPANT;PARTSTAT=TENTATIVE;RSVP=TRUE;CN=Nicole:h
 ttp://njyp.org/profile/Nicole267
END:VEVENT
END:VCALENDAR
